BEGIN:VCALENDAR
VERSION:2.0
PRODID:-//Clemson Home - ECPv6.15.20//NONSGML v1.0//EN
CALSCALE:GREGORIAN
METHOD:PUBLISH
X-WR-CALNAME:Clemson Home
X-ORIGINAL-URL:https://housing.clemson.edu
X-WR-CALDESC:Events for Clemson Home
REFRESH-INTERVAL;VALUE=DURATION:PT1H
X-Robots-Tag:noindex
X-PUBLISHED-TTL:PT1H
BEGIN:VTIMEZONE
TZID:America/New_York
BEGIN:DAYLIGHT
TZOFFSETFROM:-0500
TZOFFSETTO:-0400
TZNAME:EDT
DTSTART:20240310T070000
END:DAYLIGHT
BEGIN:STANDARD
TZOFFSETFROM:-0400
TZOFFSETTO:-0500
TZNAME:EST
DTSTART:20241103T060000
END:STANDARD
BEGIN:DAYLIGHT
TZOFFSETFROM:-0500
TZOFFSETTO:-0400
TZNAME:EDT
DTSTART:20250309T070000
END:DAYLIGHT
BEGIN:STANDARD
TZOFFSETFROM:-0400
TZOFFSETTO:-0500
TZNAME:EST
DTSTART:20251102T060000
END:STANDARD
BEGIN:DAYLIGHT
TZOFFSETFROM:-0500
TZOFFSETTO:-0400
TZNAME:EDT
DTSTART:20260308T070000
END:DAYLIGHT
BEGIN:STANDARD
TZOFFSETFROM:-0400
TZOFFSETTO:-0500
TZNAME:EST
DTSTART:20261101T060000
END:STANDARD
END:VTIMEZONE
BEGIN:VEVENT
DTSTART;TZID=America/New_York:20250903T110000
DTEND;TZID=America/New_York:20250903T130000
DTSTAMP:20260419T185839
CREATED:20250902T161711Z
LAST-MODIFIED:20250902T161711Z
UID:10005213-1756897200-1756904400@housing.clemson.edu
SUMMARY:Library Bridge Tabling – Meet KAPi!
DESCRIPTION:Join us on Library Bridge to learn more about Kappa Alpha Pi\, Clemson’s Pre-Law and Pre-Government Gender Inclusive Fraternity! Our brothers will be out sharing what KAPi is all about—brotherhood\, professionalism\, and philanthropy—while answering questions and giving you a chance to get to know our community.\nWhen: Times vary\, see schedule. Each tabling session lasts 2 hours.Credit Opportunity: Participating members can earn 1 recruitment credit for 1 hour\, or 2 credits if you stay the full 2 hours.\nStop by to say hello\, grab some info\, and see why KAPi might be the right fit for you!\nHosted by: Clemson Kappa Alpha Pi – Pre Law & Government Fraternity\nAdditional Information can be found at: https://clemson.campuslabs.com/engage/event/11532585
URL:https://housing.clemson.edu/event/library-bridge-tabling-meet-kapi-2/
LOCATION:Library Bridge (Daniel)
CATEGORIES:GroupBusiness,Organizations Calendar
END:VEVENT
END:VCALENDAR