BEGIN:VCALENDAR
VERSION:2.0
PRODID:-//Clemson Home - ECPv6.15.20//NONSGML v1.0//EN
CALSCALE:GREGORIAN
METHOD:PUBLISH
X-ORIGINAL-URL:https://housing.clemson.edu
X-WR-CALDESC:Events for Clemson Home
REFRESH-INTERVAL;VALUE=DURATION:PT1H
X-Robots-Tag:noindex
X-PUBLISHED-TTL:PT1H
BEGIN:VTIMEZONE
TZID:America/New_York
BEGIN:DAYLIGHT
TZOFFSETFROM:-0500
TZOFFSETTO:-0400
TZNAME:EDT
DTSTART:20240310T070000
END:DAYLIGHT
BEGIN:STANDARD
TZOFFSETFROM:-0400
TZOFFSETTO:-0500
TZNAME:EST
DTSTART:20241103T060000
END:STANDARD
BEGIN:DAYLIGHT
TZOFFSETFROM:-0500
TZOFFSETTO:-0400
TZNAME:EDT
DTSTART:20250309T070000
END:DAYLIGHT
BEGIN:STANDARD
TZOFFSETFROM:-0400
TZOFFSETTO:-0500
TZNAME:EST
DTSTART:20251102T060000
END:STANDARD
BEGIN:DAYLIGHT
TZOFFSETFROM:-0500
TZOFFSETTO:-0400
TZNAME:EDT
DTSTART:20260308T070000
END:DAYLIGHT
BEGIN:STANDARD
TZOFFSETFROM:-0400
TZOFFSETTO:-0500
TZNAME:EST
DTSTART:20261101T060000
END:STANDARD
END:VTIMEZONE
BEGIN:VEVENT
DTSTART;TZID=America/New_York:20250824T080000
DTEND;TZID=America/New_York:20250824T103000
DTSTAMP:20260419T153551
CREATED:20250819T131950Z
LAST-MODIFIED:20250822T180213Z
UID:10004816-1756022400-1756031400@housing.clemson.edu
SUMMARY:Brunch and Church
DESCRIPTION:Come join us for some free breakfast and a ride to church.\nHosted by: Baptist Collegiate Ministry\nAdditional Information can be found at: https://clemson.campuslabs.com/engage/event/11422507
URL:https://housing.clemson.edu/event/brunch-and-church/
LOCATION:BCM Building
CATEGORIES:Organizations Calendar,Spirituality
END:VEVENT
BEGIN:VEVENT
DTSTART;TZID=America/New_York:20250824T093000
DTEND;TZID=America/New_York:20250824T133000
DTSTAMP:20260419T153551
CREATED:20250819T131948Z
LAST-MODIFIED:20250822T180213Z
UID:10004814-1756027800-1756042200@housing.clemson.edu
SUMMARY:Collegians For Christ | Back To School Brunch!
DESCRIPTION:Join us for Sunday morning worship\, followed immediately by a back to school brunch!\n9:30 AM – College & Career @ Oakwood Baptist (304 Pearman Dairy\, Anderson SC. 29625)\n10:30 AM – Sunday Morning Worship @ Oakwood Baptist \n11:30 – Brunch at the Greene’s (location to be provided upon RSVP)\nPlease RSVP directly with Cole McGowan\, via the GroupMe app\, or via e-mail to Ricardo (Ricardo.mabt@gmail.com)\nWe are looking forward to a great time with everyone as we kick off BACK TO SCHOOL SUNDAY ON 8/24!\nHosted by: Collegians for Christ\nAdditional Information can be found at: https://clemson.campuslabs.com/engage/event/11408160
URL:https://housing.clemson.edu/event/collegians-for-christ-back-to-school-brunch/
LOCATION:Oakwood Baptist Church
CATEGORIES:Organizations Calendar,Spirituality
END:VEVENT
BEGIN:VEVENT
DTSTART;TZID=America/New_York:20250824T100000
DTEND;TZID=America/New_York:20250824T120000
DTSTAMP:20260419T153551
CREATED:20250819T131949Z
LAST-MODIFIED:20250822T180213Z
UID:10004815-1756029600-1756036800@housing.clemson.edu
SUMMARY:Thriving in Grad School and Beyond
DESCRIPTION:Navigating the challenges and opportunities of graduate school\nHosted by: Love Fellowship Clemson\nAdditional Information can be found at: https://clemson.campuslabs.com/engage/event/11420194
URL:https://housing.clemson.edu/event/thriving-in-grad-school-and-beyond/
LOCATION:Madren Conference Center
CATEGORIES:Organizations Calendar,ThoughtfulLearning
END:VEVENT
BEGIN:VEVENT
DTSTART;TZID=America/New_York:20250825T000000
DTEND;TZID=America/New_York:20250825T235959
DTSTAMP:20260419T153551
CREATED:20250819T125016Z
LAST-MODIFIED:20250822T130112Z
UID:10004542-1756080000-1756166399@housing.clemson.edu
SUMMARY:2025 First Fall - Last day to register or add a class or declare Audit
DESCRIPTION:Last day to register or add a class or declare Audit
URL:https://housing.clemson.edu/event/2025-first-fall-last-day-to-register-or-add-a-class-or-declare-audit/
CATEGORIES:Academic Calendar
ATTACH;FMTTYPE=image/jpeg:https://housing.clemson.edu/wp-content/uploads/2025/08/17_6786f9ade2e49_430e098d4318d1511405a272cfad352bbdde5bea.rev_.1736898990-84XcUg.jpg
END:VEVENT
BEGIN:VEVENT
DTSTART;TZID=America/New_York:20250825T163000
DTEND;TZID=America/New_York:20250825T173000
DTSTAMP:20260419T153551
CREATED:20250819T131134Z
LAST-MODIFIED:20250828T170223Z
UID:10004686-1756139400-1756143000@housing.clemson.edu
SUMMARY:2025 Oconee Area Jr Naturalist Program: Geology at the Quarry
DESCRIPTION:Junior Naturalist is a series of 6 classes serving youth 8-13 years old in the upstate. Youth are encouraged to be 4-H members\, and MUST register via EventBrite to attend. The August 25th topic is geology – we’ll explore rock qualities\, cycle\, and go down into the OCONEE ROCK QUARRY  The full schedule is at the registration link.  Youth who attend a minimum of 5 of the 6 classes will receive a Junior Naturalist certificate and book.
URL:https://housing.clemson.edu/event/2025-oconee-area-jr-naturalist-program-geology-at-the-quarry/
LOCATION:Oconee County Rock Quarry\, 686 Rock Crusher Rd\, Walhalla\, SC\, United States
CATEGORIES:Clemson University Events,Conferences,Forums and Symposiums,General Events,Open to the Public,Youth Camps and Events
GEO:34.727379;-83.089804
X-APPLE-STRUCTURED-LOCATION;VALUE=URI;X-ADDRESS=Oconee County Rock Quarry 686 Rock Crusher Rd Walhalla SC United States;X-APPLE-RADIUS=500;X-TITLE=686 Rock Crusher Rd:geo:-83.089804,34.727379
END:VEVENT
BEGIN:VEVENT
DTSTART;TZID=America/New_York:20250825T170000
DTEND;TZID=America/New_York:20250825T190000
DTSTAMP:20260419T153551
CREATED:20250822T180214Z
LAST-MODIFIED:20250822T180214Z
UID:10004920-1756141200-1756148400@housing.clemson.edu
SUMMARY:IEEE Interest Meeting
DESCRIPTION:Interested in joining the Clemson branch of the Institute of Electrical and Electronics Engineers? Curious about what we do for ECE?Stop by during our IEEE Interest Meeting to talk to this year’s executive officers\, learn how to get involved with our Tech Talks and Workshops\, and discover all the opportunities we provide to the ECE community! This is also a great opportunity to meet fellow students in your major and play some games. Everyone is invited!We will be in Riggs B11\, which is located in the basement level of Riggs Hall by the Fernow Street staircase (closest to the Chick-Fil-A).\nHosted by: Clemson IEEE Student Branch\nAdditional Information can be found at: https://clemson.campuslabs.com/engage/event/11463870
URL:https://housing.clemson.edu/event/ieee-interest-meeting/
LOCATION:Riggs Hall B11
CATEGORIES:Organizations Calendar,Social
END:VEVENT
BEGIN:VEVENT
DTSTART;TZID=America/New_York:20250825T173000
DTEND;TZID=America/New_York:20250825T193000
DTSTAMP:20260419T153551
CREATED:20250822T180214Z
LAST-MODIFIED:20250822T180214Z
UID:10004921-1756143000-1756150200@housing.clemson.edu
SUMMARY:Ice Cream Social at '55 Exchange
DESCRIPTION:Monday\, September 25\, starting at 5:30pm\, at ’55 Exchange\n’55 Exchange is located in the Hendrix center on campus\nCome out for a fun time signing and eating ice cream with all of our friends in the Clemson ASL community! All levels of ASL proficiency welcome. \nHosted by: American Sign Language Club\nAdditional Information can be found at: https://clemson.campuslabs.com/engage/event/11466673
URL:https://housing.clemson.edu/event/ice-cream-social-at-55-exchange/
LOCATION:’55 Exchange
CATEGORIES:Organizations Calendar,Social
END:VEVENT
BEGIN:VEVENT
DTSTART;TZID=America/New_York:20250825T180000
DTEND;TZID=America/New_York:20250825T190000
DTSTAMP:20260419T153551
CREATED:20250820T153113Z
LAST-MODIFIED:20250822T180214Z
UID:10004879-1756144800-1756148400@housing.clemson.edu
SUMMARY:Newell Brands PKSC Club Meeting
DESCRIPTION:Come kick off the semester with a Packaging Science Club meeting featuring Newell Brands! This is a company you CANNOT MISS!! They own brands including Yankee Candle\, Sharpie\, Rubbermaid\, Oster\, and many more. (Plus.. they love hiring Clemson PKSC students and grads). Join us for an evening of networking\, learning\, product giveaways\, and FREE FOOD! \nHosted by: The Clemson Packaging Science Club\nAdditional Information can be found at: https://clemson.campuslabs.com/engage/event/11446436
URL:https://housing.clemson.edu/event/newell-brands-pksc-club-meeting/
LOCATION:Harris A. Smith Auditorium
CATEGORIES:Organizations Calendar,ThoughtfulLearning
END:VEVENT
BEGIN:VEVENT
DTSTART;TZID=America/New_York:20250825T180000
DTEND;TZID=America/New_York:20250825T193000
DTSTAMP:20260419T153551
CREATED:20250819T131951Z
LAST-MODIFIED:20250822T180215Z
UID:10004817-1756144800-1756150200@housing.clemson.edu
SUMMARY:Interest Meeting
DESCRIPTION:Come learn more about Clemson Miracle and the different opportunities in our organization!\nHosted by: Clemson Miracle\nAdditional Information can be found at: https://clemson.campuslabs.com/engage/event/11321640
URL:https://housing.clemson.edu/event/interest-meeting/
LOCATION:Hendrix Room 121
CATEGORIES:CommunityService,Organizations Calendar
END:VEVENT
BEGIN:VEVENT
DTSTART;TZID=America/New_York:20250825T180000
DTEND;TZID=America/New_York:20250825T200000
DTSTAMP:20260419T153551
CREATED:20250820T153114Z
LAST-MODIFIED:20250822T180213Z
UID:10004880-1756144800-1756152000@housing.clemson.edu
SUMMARY:First Fencing Practice *No experience needed*
DESCRIPTION:Come join us for our first fencing practice of the semester!\nLearn about our club and all about the sport of fencing!\n \nNo experience necessary and we provide all equipment needed!\nHosted by: Clemson Fencing Club\nAdditional Information can be found at: https://clemson.campuslabs.com/engage/event/11449880
URL:https://housing.clemson.edu/event/first-fencing-practice-no-experience-needed/
LOCATION:Fike Recreation Center – Club Gym
CATEGORIES:Athletics,Organizations Calendar
END:VEVENT
BEGIN:VEVENT
DTSTART;TZID=America/New_York:20250825T183000
DTEND;TZID=America/New_York:20250825T193000
DTSTAMP:20260419T153551
CREATED:20250821T153214Z
LAST-MODIFIED:20250822T180215Z
UID:10004885-1756146600-1756150200@housing.clemson.edu
SUMMARY:Interest Meeting
DESCRIPTION:Come join us to learn more about our organization! We will be in Room 225 of the Wilbur O. and Ann Powers College of Business. \nHosted by: Association for Women in Sports Media\nAdditional Information can be found at: https://clemson.campuslabs.com/engage/event/11453359
URL:https://housing.clemson.edu/event/interest-meeting-3/
LOCATION:Wilbur O. and Ann Powers College of Business
CATEGORIES:Organizations Calendar,ThoughtfulLearning
END:VEVENT
BEGIN:VEVENT
DTSTART;TZID=America/New_York:20250825T193000
DTEND;TZID=America/New_York:20250825T213000
DTSTAMP:20260419T153551
CREATED:20250820T153114Z
LAST-MODIFIED:20250822T180214Z
UID:10004881-1756150200-1756157400@housing.clemson.edu
SUMMARY:Waffles and Worship
DESCRIPTION:BYX Pre-Rush Event with focus on Worship\nHosted by: Beta Upsilon Chi\nAdditional Information can be found at: https://clemson.campuslabs.com/engage/event/11451998
URL:https://housing.clemson.edu/event/waffles-and-worship/
LOCATION:BYX Fraternity House
CATEGORIES:Organizations Calendar,Spirituality
END:VEVENT
BEGIN:VEVENT
DTSTART;TZID=America/New_York:20250826T000000
DTEND;TZID=America/New_York:20250826T235959
DTSTAMP:20260419T153551
CREATED:20250819T125016Z
LAST-MODIFIED:20250822T130112Z
UID:10004543-1756166400-1756252799@housing.clemson.edu
SUMMARY:2025 Fall Semester - Last day to register or add a class or declare Audit
DESCRIPTION:Last day to register or add a class or declare Audit
URL:https://housing.clemson.edu/event/2025-fall-semester-last-day-to-register-or-add-a-class-or-declare-audit/
CATEGORIES:Academic Calendar
ATTACH;FMTTYPE=image/jpeg:https://housing.clemson.edu/wp-content/uploads/2025/08/17_6786f9ade2e49_430e098d4318d1511405a272cfad352bbdde5bea.rev_.1736898990-84XcUg.jpg
END:VEVENT
BEGIN:VEVENT
DTSTART;TZID=America/New_York:20250826T000000
DTEND;TZID=America/New_York:20250826T235959
DTSTAMP:20260419T153551
CREATED:20250819T131135Z
LAST-MODIFIED:20250819T131135Z
UID:10004688-1756166400-1756252799@housing.clemson.edu
SUMMARY:Primary Care Mobile Clinic
DESCRIPTION:Services include sick visits (cold\, sore throat\, pink eye\, etc) and primary care (physicals\, medication management\, etc).  Clemson Rural Health accepts most forms of insurance\, as well as debit and credit cards. Cash is not accepted on the mobile units. Payment is due at the time of service. Call 864-656-3076 to schedule an appointment. Walk-ups welcome!
URL:https://housing.clemson.edu/event/primary-care-mobile-clinic-3/
LOCATION:Next to Salem Fire Department
CATEGORIES:Clemson University Events,General Events
ATTACH;FMTTYPE=image/jpeg:https://housing.clemson.edu/wp-content/uploads/2025/08/478_Rural_Health.rev_.1753474139-FP3YYY.jpg
END:VEVENT
BEGIN:VEVENT
DTSTART;TZID=America/New_York:20250826T000000
DTEND;TZID=America/New_York:20250826T235959
DTSTAMP:20260419T153551
CREATED:20250820T131611Z
LAST-MODIFIED:20250821T131611Z
UID:10004850-1756166400-1756252799@housing.clemson.edu
SUMMARY:Primary Care Mobile Clinic
DESCRIPTION:Services include sick visits (cold\, sore throat\, pink eye\, etc) and primary care (physicals\, medication management\, etc).  Clemson Rural Health accepts most forms of insurance\, as well as debit and credit cards. Cash is not accepted on the mobile units. Payment is due at the time of service. Call 864-656-3076 to schedule an appointment. Walk-ups welcome!
URL:https://housing.clemson.edu/event/primary-care-mobile-clinic-32/
LOCATION:Next to Salem Fire Department
CATEGORIES:Clemson University Events,General Events
ATTACH;FMTTYPE=image/jpeg:https://housing.clemson.edu/wp-content/uploads/2025/08/478_Rural_Health.rev_.1753474139-FP3YYY.jpg
END:VEVENT
BEGIN:VEVENT
DTSTART;TZID=America/New_York:20250826T000000
DTEND;TZID=America/New_York:20250826T235959
DTSTAMP:20260419T153551
CREATED:20250822T131611Z
LAST-MODIFIED:20250828T170223Z
UID:10004890-1756166400-1756252799@housing.clemson.edu
SUMMARY:Primary Care Mobile Clinic
DESCRIPTION:Services include sick visits (cold\, sore throat\, pink eye\, etc) and primary care (physicals\, medication management\, etc).  Clemson Rural Health accepts most forms of insurance\, as well as debit and credit cards. Cash is not accepted on the mobile units. Payment is due at the time of service. Call 864-656-3076 to schedule an appointment. Walk-ups welcome!
URL:https://housing.clemson.edu/event/primary-care-mobile-clinic-60/
LOCATION:Next to Salem Fire Department
CATEGORIES:Clemson University Events,General Events
ATTACH;FMTTYPE=image/jpeg:https://housing.clemson.edu/wp-content/uploads/2025/08/478_Rural_Health.rev_.1753474139-FP3YYY.jpg
END:VEVENT
BEGIN:VEVENT
DTSTART;TZID=America/New_York:20250826T133000
DTEND;TZID=America/New_York:20250826T143000
DTSTAMP:20260419T153551
CREATED:20250819T131135Z
LAST-MODIFIED:20250828T170223Z
UID:10004687-1756215000-1756218600@housing.clemson.edu
SUMMARY:Student Town Hall: Clemson Design Center in Charleston
DESCRIPTION:Students at the Clemson Design Center in Charleston are invited to join Dean Erdogmus for an informal Student Town Hall over coffee and pastries. Come share your thoughts\, ask questions\, or just stop by to connect!
URL:https://housing.clemson.edu/event/student-town-hall-clemson-design-center-in-charleston/
LOCATION:701 E. Bay Street\, 21 Charleston Rd\, Lane\, SC\, United States
CATEGORIES:Clemson University Events,General Events,Student Organizations
ATTACH;FMTTYPE=image/png:https://housing.clemson.edu/wp-content/uploads/2025/08/336_CAAC_University_Events_Calendar_Photo.rev_.1752851637-Potdr4.png
GEO:33.457068;-79.8235
X-APPLE-STRUCTURED-LOCATION;VALUE=URI;X-ADDRESS=701 E. Bay Street 21 Charleston Rd Lane SC United States;X-APPLE-RADIUS=500;X-TITLE=21 Charleston Rd:geo:-79.8235,33.457068
END:VEVENT
BEGIN:VEVENT
DTSTART;TZID=America/New_York:20250826T170000
DTEND;TZID=America/New_York:20250826T180000
DTSTAMP:20260419T153551
CREATED:20250821T153214Z
LAST-MODIFIED:20250822T180215Z
UID:10004886-1756227600-1756231200@housing.clemson.edu
SUMMARY:Introductory Meeting F25
DESCRIPTION:Our first meeting of the Fall 2025 semester will be held to introduce our new members to our organization and our goals for the semester. We will introduce our executive board\, our plans for the upcoming meetings\, and streak plates around campus! \nHosted by: Clemson University Microbiological Society\nAdditional Information can be found at: https://clemson.campuslabs.com/engage/event/11453432
URL:https://housing.clemson.edu/event/introductory-meeting-f25/
LOCATION:LSF 142
CATEGORIES:Organizations Calendar,ThoughtfulLearning
END:VEVENT
BEGIN:VEVENT
DTSTART;TZID=America/New_York:20250826T180000
DTEND;TZID=America/New_York:20250826T190000
DTSTAMP:20260419T153551
CREATED:20250819T153118Z
LAST-MODIFIED:20250822T180215Z
UID:10004818-1756231200-1756234800@housing.clemson.edu
SUMMARY:Meet the MGC
DESCRIPTION:✨ Meet the MGC is almost here!Come learn about the amazing organizations that make up Clemson’s Multicultural Greek Council!🌟 Connect with members📚 Learn about the intake process🎉 Enjoy free food & great vibesWhether you’re curious or committed\, this is your chance to explore a community rooted in culture\, unity\, and purpose.\n📍 David Peebles Room\, Hendrix Student Center📅 August 26th | ⏰ 6:00 PM#MeetTheMGC #ClemsonFSL #MGCWeek #MulticulturalGreekLife #TigersLead\nHosted by: Multicultural Greek Council\nAdditional Information can be found at: https://clemson.campuslabs.com/engage/event/11367566
URL:https://housing.clemson.edu/event/meet-the-mgc/
LOCATION:David Peebles Room Hendrix
CATEGORIES:Cultural,Organizations Calendar
END:VEVENT
BEGIN:VEVENT
DTSTART;TZID=America/New_York:20250826T180000
DTEND;TZID=America/New_York:20250826T190000
DTSTAMP:20260419T153551
CREATED:20250819T153118Z
LAST-MODIFIED:20250822T180216Z
UID:10004821-1756231200-1756234800@housing.clemson.edu
SUMMARY:Meet the MGC
DESCRIPTION:✨ Meet the MGC is almost here!Come learn about the amazing organizations that make up Clemson’s Multicultural Greek Council!🌟 Connect with members📚 Learn about the intake process🎉 Enjoy free food & great vibesWhether you’re curious or committed\, this is your chance to explore a community rooted in culture\, unity\, and purpose.\n📍 David Peebles Room\, Hendrix Student Center📅 August 26th | ⏰ 6:00 PM#MeetTheMGC #ClemsonFSL #MGCWeek #MulticulturalGreekLife #TigersLead\nHosted by: Multicultural Greek Council\nAdditional Information can be found at: https://clemson.campuslabs.com/engage/event/11367567
URL:https://housing.clemson.edu/event/meet-the-mgc-2/
LOCATION:David Peebles Room Hendrix
CATEGORIES:Cultural,Organizations Calendar
END:VEVENT
BEGIN:VEVENT
DTSTART;TZID=America/New_York:20250826T190000
DTEND;TZID=America/New_York:20250826T200000
DTSTAMP:20260419T153551
CREATED:20250821T153215Z
LAST-MODIFIED:20250822T180216Z
UID:10004887-1756234800-1756238400@housing.clemson.edu
SUMMARY:August GBM
DESCRIPTION:Join us in Freeman Auditorium for our first General Body Meeting. We are excited to show you all what SHPE has to offer and to get to know you all! Hope to see you there!\nHosted by: Society of Hispanic Professional Engineers – Clemson University Chapter\nAdditional Information can be found at: https://clemson.campuslabs.com/engage/event/11458519
URL:https://housing.clemson.edu/event/august-gbm/
LOCATION:Freeman Auditorium
CATEGORIES:Cultural,Organizations Calendar
END:VEVENT
BEGIN:VEVENT
DTSTART;TZID=America/New_York:20250826T190000
DTEND;TZID=America/New_York:20250826T203000
DTSTAMP:20260419T153551
CREATED:20250819T153118Z
LAST-MODIFIED:20250822T180216Z
UID:10004819-1756234800-1756240200@housing.clemson.edu
SUMMARY:FIRST ART CLUB - Watercolor
DESCRIPTION:Join Clemson Art Club on August 26th at 7:00 pm in the Wilbur O. and Ann Powers Business Building. Every week Art club meets on the ground floor stairs of this building. The first week we will have a back to campus Water color night! We will have watercolor pallets\, brushes\, water\, and paper. \n \nAll supplies are FREE and PROVIDED. You DO NOT have to be an Art major to join!! It is a time to hang out with friends\, relax\, and create some ART! We hope you see you there. \n– Clemson Art Club \nInstagram : Clemsonxart \nGmail: Clemsonartclub@gmail.com \nHosted by: Clemson Art Club\nAdditional Information can be found at: https://clemson.campuslabs.com/engage/event/11427593
URL:https://housing.clemson.edu/event/first-art-club-watercolor/
LOCATION:Clemson Business Building
CATEGORIES:Arts,Organizations Calendar
END:VEVENT
BEGIN:VEVENT
DTSTART;TZID=America/New_York:20250826T190000
DTEND;TZID=America/New_York:20250826T203000
DTSTAMP:20260419T153551
CREATED:20250819T153118Z
LAST-MODIFIED:20250822T180216Z
UID:10004820-1756234800-1756240200@housing.clemson.edu
SUMMARY:FIRST ART CLUB - Watercolor
DESCRIPTION:Join Clemson Art Club on August 26th at 7:00 pm in the Wilbur O. and Ann Powers Business Building. Every week Art club meets on the ground floor stairs of this building. The first week we will have a back to campus Water color night! We will have watercolor pallets\, brushes\, water\, and paper. \n \nAll supplies are FREE and PROVIDED. You DO NOT have to be an Art major to join!! It is a time to hang out with friends\, relax\, and create some ART! We hope you see you there. \n– Clemson Art Club \nInstagram : Clemsonxart \nGmail: Clemsonartclub@gmail.com \nHosted by: Clemson Art Club\nAdditional Information can be found at: https://clemson.campuslabs.com/engage/event/11427594
URL:https://housing.clemson.edu/event/first-art-club-watercolor-2/
LOCATION:Clemson Business Building
CATEGORIES:Arts,Organizations Calendar
END:VEVENT
BEGIN:VEVENT
DTSTART;TZID=America/New_York:20250827T000000
DTEND;TZID=America/New_York:20250828T210000
DTSTAMP:20260419T153551
CREATED:20250822T180218Z
LAST-MODIFIED:20250902T154610Z
UID:10004923-1756252800-1756414800@housing.clemson.edu
SUMMARY:MAPS GRILL & GREET 2025
DESCRIPTION:The Minority Association of Pre-Medical Students is proud to stand firmly with the other 500+ organizations and clubs here on Clemson University’s campus for our Annual Grill & Greet Tabling! Perhaps you saw us at Tiger Prowl and didn’t have time to say hi! Well\, drop on by! We will be taking attendance and offering our Official General Interest GroupMe since so many of you shocked us at Tiger Prowl! We can’t wait to see you all this go around – both old faces and new! Go Tigers!\nHosted by: The Minority Association of Pre-Medical Students\nAdditional Information can be found at: https://clemson.campuslabs.com/engage/event/11464666
URL:https://housing.clemson.edu/event/maps-grill-greet-2025/
LOCATION:South Green (in front of Watt Family Innovation Center)
CATEGORIES:Organizations Calendar,Social
END:VEVENT
BEGIN:VEVENT
DTSTART;TZID=America/New_York:20250827T100000
DTEND;TZID=America/New_York:20250827T130000
DTSTAMP:20260419T153551
CREATED:20250819T153119Z
LAST-MODIFIED:20250822T180216Z
UID:10004822-1756288800-1756299600@housing.clemson.edu
SUMMARY:Coffee with CHANGE
DESCRIPTION:Come Meet CHANGE!\nHead to All In Coffee Shop in downtown Clemson to learn about Clemson’s Student Ethics Committee CHANGE and how to get involved!\nThe student ethics committee of the Rutland Institute for Ethics\, Creating Habits and Norms Guiding Ethical Decisions (CHANGE)\, was established at Clemson University in Spring 2019. CHANGE serves to create ethical programming at both the University-wide and college-specific levels by hosting speakers\, events\, and activities that focus on exposing students to real-life applications of ethical decision-making and ethical leadership. In addition to programming initiatives\, CHANGE assists in hosting Clemson University’s Ina B. Durham Annual High School Ethics Case Competition each spring\, publishes the Ethics Editorial newsletter that highlights various aspects of the Rutland Institute for Ethics\, serves as the student voice of the Institute\, and assists in promoting Annual Ethics Day and the TIDE Conference. It is the goal of CHANGE to consist of at least two undergraduate representatives and one graduate representative from each of the eight academic colleges at Clemson University.  \nYou can learn more about us and submit an application on our website here. Applications for Fall are due August 31st\, 2025. \nNote: Attending this event satisfies an Event Attendance requirement for the Clemson University Ethics Scholars Program. Learn more about the program and self-enroll here. \nHosted by: CHANGE (Creating Habits and Norms Guiding Ethical Decisions)\nAdditional Information can be found at: https://clemson.campuslabs.com/engage/event/11395300
URL:https://housing.clemson.edu/event/coffee-with-change/
LOCATION:All In Coffee Shop
CATEGORIES:Organizations Calendar,ThoughtfulLearning
END:VEVENT
BEGIN:VEVENT
DTSTART;TZID=America/New_York:20250827T100000
DTEND;TZID=America/New_York:20250827T140000
DTSTAMP:20260419T153551
CREATED:20250821T201955Z
LAST-MODIFIED:20250821T205251Z
UID:10004889-1756288800-1756303200@housing.clemson.edu
SUMMARY:Welcome Home Fair
DESCRIPTION:Join us at the Welcome Home Fair to kick off your Clemson Experience with games\, food\, giveaways\, and more. xplore student job opportunities\, learn about campus resources\, and meet partners ready to support your Clemson journey.  \n\n\n\nYou’ll find the fair on the bottom floor of Manning Hall and in the courtyard outside of Schilletter Dining Hall. Whether you’re looking for employment\, ways to get involved\, or just some fun to start the year\, the Welcome Home Fair has something for every Tiger!
URL:https://housing.clemson.edu/event/welcome-home-fair-2025/
LOCATION:Manning Hall\, 240 Bryan Circle\, Clemson\, South Carolina\, 29633\, United States
ATTACH;FMTTYPE=image/jpeg:https://housing.clemson.edu/wp-content/uploads/2025/08/2N7A4194-scaled.jpg
END:VEVENT
BEGIN:VEVENT
DTSTART;TZID=America/New_York:20250827T160000
DTEND;TZID=America/New_York:20250827T200000
DTSTAMP:20260419T153551
CREATED:20250819T153120Z
LAST-MODIFIED:20250822T180217Z
UID:10004825-1756310400-1756324800@housing.clemson.edu
SUMMARY:Chipotle Proceeds Night
DESCRIPTION:Pop by Chipotle in downtown Clemson and get some points taken care of an a good meal!\nHosted by: Women in Business\nAdditional Information can be found at: https://clemson.campuslabs.com/engage/event/11438565
URL:https://housing.clemson.edu/event/chipotle-proceeds-night/
LOCATION:Chiptole
CATEGORIES:Fundraising,Organizations Calendar
END:VEVENT
BEGIN:VEVENT
DTSTART;TZID=America/New_York:20250827T180000
DTEND;TZID=America/New_York:20250827T190000
DTSTAMP:20260419T153551
CREATED:20250820T153115Z
LAST-MODIFIED:20250822T180216Z
UID:10004882-1756317600-1756321200@housing.clemson.edu
SUMMARY:FALL 2025 First Event
DESCRIPTION:First Clemson YDSA meeting of the Fall 2025 semester! We will be discussing club activities\, including volunteer opportunities and tabling initiatives!\nMeeting will be held in Brackett\, Room 213 on Wednesday\, August 27 at 6pm.\nHosted by: Clemson YDSA\nAdditional Information can be found at: https://clemson.campuslabs.com/engage/event/11448436
URL:https://housing.clemson.edu/event/fall-2025-first-event/
LOCATION:Brackett Hall
CATEGORIES:Organizations Calendar,Social
END:VEVENT
BEGIN:VEVENT
DTSTART;TZID=America/New_York:20250827T180000
DTEND;TZID=America/New_York:20250827T200000
DTSTAMP:20260419T153551
CREATED:20250819T153119Z
LAST-MODIFIED:20250822T180217Z
UID:10004823-1756317600-1756324800@housing.clemson.edu
SUMMARY:Open Practice
DESCRIPTION:Open practice for anyone looking to tryout for Clemson Club Softball \nHosted by: Club Softball\nAdditional Information can be found at: https://clemson.campuslabs.com/engage/event/11358806
URL:https://housing.clemson.edu/event/open-practice/
LOCATION:Nettles Park
CATEGORIES:Athletics,Organizations Calendar
END:VEVENT
BEGIN:VEVENT
DTSTART;TZID=America/New_York:20250827T183000
DTEND;TZID=America/New_York:20250827T200000
DTSTAMP:20260419T153551
CREATED:20250819T153120Z
LAST-MODIFIED:20250822T180217Z
UID:10004824-1756319400-1756324800@housing.clemson.edu
SUMMARY:Wesley Worship
DESCRIPTION:Join us at the Wesley Student Center Downtown for free dinner starting at 6:30\, we will move into an acoustic worship service and finish up around 8. All are welcome! \nHosted by: Clemson Wesley\, A United Methodist Campus Ministry\nAdditional Information can be found at: https://clemson.campuslabs.com/engage/event/11423599
URL:https://housing.clemson.edu/event/wesley-worship/
LOCATION:Wesley Student Center
CATEGORIES:Organizations Calendar,Spirituality
END:VEVENT
END:VCALENDAR