BEGIN:VCALENDAR
VERSION:2.0
PRODID:-//Clemson Home - ECPv6.15.20//NONSGML v1.0//EN
CALSCALE:GREGORIAN
METHOD:PUBLISH
X-WR-CALNAME:Clemson Home
X-ORIGINAL-URL:https://housing.clemson.edu
X-WR-CALDESC:Events for Clemson Home
REFRESH-INTERVAL;VALUE=DURATION:PT1H
X-Robots-Tag:noindex
X-PUBLISHED-TTL:PT1H
BEGIN:VTIMEZONE
TZID:America/New_York
BEGIN:DAYLIGHT
TZOFFSETFROM:-0500
TZOFFSETTO:-0400
TZNAME:EDT
DTSTART:20220313T070000
END:DAYLIGHT
BEGIN:STANDARD
TZOFFSETFROM:-0400
TZOFFSETTO:-0500
TZNAME:EST
DTSTART:20221106T060000
END:STANDARD
BEGIN:DAYLIGHT
TZOFFSETFROM:-0500
TZOFFSETTO:-0400
TZNAME:EDT
DTSTART:20230312T070000
END:DAYLIGHT
BEGIN:STANDARD
TZOFFSETFROM:-0400
TZOFFSETTO:-0500
TZNAME:EST
DTSTART:20231105T060000
END:STANDARD
BEGIN:DAYLIGHT
TZOFFSETFROM:-0500
TZOFFSETTO:-0400
TZNAME:EDT
DTSTART:20240310T070000
END:DAYLIGHT
BEGIN:STANDARD
TZOFFSETFROM:-0400
TZOFFSETTO:-0500
TZNAME:EST
DTSTART:20241103T060000
END:STANDARD
END:VTIMEZONE
BEGIN:VEVENT
DTSTART;TZID=America/New_York:20230522T000000
DTEND;TZID=America/New_York:20230522T235959
DTSTAMP:20260421T230917
CREATED:20221223T195644Z
LAST-MODIFIED:20221223T195644Z
UID:10004360-1684713600-1684799999@housing.clemson.edu
SUMMARY:2023-24 New Bridge Student Room Selection Time Slot Email Sent
DESCRIPTION:
URL:https://housing.clemson.edu/event/2023-24-new-bridge-student-room-selection-time-slot-email-sent/
END:VEVENT
BEGIN:VEVENT
DTSTART;TZID=America/New_York:20230522T000000
DTEND;TZID=America/New_York:20230522T235959
DTSTAMP:20260421T230917
CREATED:20221223T200027Z
LAST-MODIFIED:20221223T200027Z
UID:10004406-1684713600-1684799999@housing.clemson.edu
SUMMARY:2023-24 New Bridge Student Room Selection Time Slot Email Sent
DESCRIPTION:
URL:https://housing.clemson.edu/event/2023-24-new-bridge-student-room-selection-time-slot-email-sent-2/
END:VEVENT
BEGIN:VEVENT
DTSTART;TZID=America/New_York:20230523T000000
DTEND;TZID=America/New_York:20230523T235959
DTSTAMP:20260421T230917
CREATED:20221223T195648Z
LAST-MODIFIED:20221223T195648Z
UID:10004361-1684800000-1684886399@housing.clemson.edu
SUMMARY:2023-24 New Student Room Selection
DESCRIPTION:
URL:https://housing.clemson.edu/event/2023-24-new-student-room-selection/
END:VEVENT
BEGIN:VEVENT
DTSTART;TZID=America/New_York:20230523T000000
DTEND;TZID=America/New_York:20230523T235959
DTSTAMP:20260421T230917
CREATED:20221223T200031Z
LAST-MODIFIED:20221223T200031Z
UID:10004407-1684800000-1684886399@housing.clemson.edu
SUMMARY:2023-24 New Student Room Selection
DESCRIPTION:
URL:https://housing.clemson.edu/event/2023-24-new-student-room-selection-4/
END:VEVENT
BEGIN:VEVENT
DTSTART;TZID=America/New_York:20230523T120000
DTEND;TZID=America/New_York:20230523T140000
DTSTAMP:20260421T230917
CREATED:20221222T212552Z
LAST-MODIFIED:20230523T063645Z
UID:10004243-1684843200-1684850400@housing.clemson.edu
SUMMARY:Taste Cart
DESCRIPTION:
URL:https://housing.clemson.edu/event/taste-cart-16/
LOCATION:McAlister Dining Hall (The Fresh Food Company)\, 511 Fort Hill St\, Clemson\, SC 29634\, USA
END:VEVENT
BEGIN:VEVENT
DTSTART;TZID=America/New_York:20230524T000000
DTEND;TZID=America/New_York:20230524T235959
DTSTAMP:20260421T230917
CREATED:20221223T195653Z
LAST-MODIFIED:20221223T195653Z
UID:10004362-1684886400-1684972799@housing.clemson.edu
SUMMARY:2023-24 New Student Room Selection
DESCRIPTION:
URL:https://housing.clemson.edu/event/2023-24-new-student-room-selection-2/
END:VEVENT
BEGIN:VEVENT
DTSTART;TZID=America/New_York:20230524T000000
DTEND;TZID=America/New_York:20230524T235959
DTSTAMP:20260421T230917
CREATED:20221223T200035Z
LAST-MODIFIED:20221223T200035Z
UID:10004408-1684886400-1684972799@housing.clemson.edu
SUMMARY:2023-24 New Student Room Selection
DESCRIPTION:
URL:https://housing.clemson.edu/event/2023-24-new-student-room-selection-5/
END:VEVENT
BEGIN:VEVENT
DTSTART;TZID=America/New_York:20230525T000000
DTEND;TZID=America/New_York:20230525T235959
DTSTAMP:20260421T230917
CREATED:20221223T195657Z
LAST-MODIFIED:20221223T195657Z
UID:10004363-1684972800-1685059199@housing.clemson.edu
SUMMARY:2023-24 New Student Room Selection
DESCRIPTION:
URL:https://housing.clemson.edu/event/2023-24-new-student-room-selection-3/
END:VEVENT
BEGIN:VEVENT
DTSTART;TZID=America/New_York:20230525T000000
DTEND;TZID=America/New_York:20230525T235959
DTSTAMP:20260421T230917
CREATED:20221223T200039Z
LAST-MODIFIED:20221223T200039Z
UID:10004409-1684972800-1685059199@housing.clemson.edu
SUMMARY:2023-24 New Student Room Selection
DESCRIPTION:
URL:https://housing.clemson.edu/event/2023-24-new-student-room-selection-6/
END:VEVENT
END:VCALENDAR