BEGIN:VCALENDAR
VERSION:2.0
PRODID:-//Clemson Home - ECPv6.15.20//NONSGML v1.0//EN
CALSCALE:GREGORIAN
METHOD:PUBLISH
X-ORIGINAL-URL:https://housing.clemson.edu
X-WR-CALDESC:Events for Clemson Home
REFRESH-INTERVAL;VALUE=DURATION:PT1H
X-Robots-Tag:noindex
X-PUBLISHED-TTL:PT1H
BEGIN:VTIMEZONE
TZID:America/New_York
BEGIN:DAYLIGHT
TZOFFSETFROM:-0500
TZOFFSETTO:-0400
TZNAME:EDT
DTSTART:20240310T070000
END:DAYLIGHT
BEGIN:STANDARD
TZOFFSETFROM:-0400
TZOFFSETTO:-0500
TZNAME:EST
DTSTART:20241103T060000
END:STANDARD
BEGIN:DAYLIGHT
TZOFFSETFROM:-0500
TZOFFSETTO:-0400
TZNAME:EDT
DTSTART:20250309T070000
END:DAYLIGHT
BEGIN:STANDARD
TZOFFSETFROM:-0400
TZOFFSETTO:-0500
TZNAME:EST
DTSTART:20251102T060000
END:STANDARD
BEGIN:DAYLIGHT
TZOFFSETFROM:-0500
TZOFFSETTO:-0400
TZNAME:EDT
DTSTART:20260308T070000
END:DAYLIGHT
BEGIN:STANDARD
TZOFFSETFROM:-0400
TZOFFSETTO:-0500
TZNAME:EST
DTSTART:20261101T060000
END:STANDARD
END:VTIMEZONE
BEGIN:VEVENT
DTSTART;TZID=America/New_York:20250916T140000
DTEND;TZID=America/New_York:20250916T150000
DTSTAMP:20260425T210754
CREATED:20250819T131149Z
LAST-MODIFIED:20250915T152010Z
UID:10004711-1758031200-1758034800@housing.clemson.edu
SUMMARY:MMII Project Writing Support Session - In Person
DESCRIPTION:In Person\, MMII Support Session with Vicki Gillis. The committee for the Moments and Memories II book project is hosting a monthly writing support session.Moments and Memories\, Volume II writing sessions are designed to inspire your thinking about your time at Clemson\, engender topics and episodes to write about\, provide time to write\, and solicit feedback from other Emeritus College participants. Our sessions will be held the third Tuesday of each month from 2 PM – 3PM\, alternating between face-to-face sessions at the EC and virtual sessions on Zoom
URL:https://housing.clemson.edu/event/mmii-project-writing-support-session-in-person/
LOCATION:Clemson University Emeritus College\, 199 Westinghouse Rd\, Pendleton\, SC\, United States
CATEGORIES:Clemson University Events,General Events
GEO:34.633147;-82.778353
X-APPLE-STRUCTURED-LOCATION;VALUE=URI;X-ADDRESS=Clemson University Emeritus College 199 Westinghouse Rd Pendleton SC United States;X-APPLE-RADIUS=500;X-TITLE=199 Westinghouse Rd:geo:-82.778353,34.633147
END:VEVENT
BEGIN:VEVENT
DTSTART;TZID=America/New_York:20250916T170000
DTEND;TZID=America/New_York:20250916T190000
DTSTAMP:20260425T210754
CREATED:20250916T131641Z
LAST-MODIFIED:20250916T131641Z
UID:10005433-1758042000-1758049200@housing.clemson.edu
SUMMARY:Field Day
DESCRIPTION:Come join Hillel for our Field Day at Y Beach! There will be volleyball\, snacks\, and more!\nHosted by: Clemson Hillel Jewish Student Organization\nAdditional Information can be found at: https://clemson.campuslabs.com/engage/event/11633696
URL:https://housing.clemson.edu/event/field-day/
LOCATION:Y Beach
CATEGORIES:Cultural,Organizations Calendar
END:VEVENT
BEGIN:VEVENT
DTSTART;TZID=America/New_York:20250916T170000
DTEND;TZID=America/New_York:20250916T190000
DTSTAMP:20260425T210754
CREATED:20250916T131643Z
LAST-MODIFIED:20250916T131643Z
UID:10005436-1758042000-1758049200@housing.clemson.edu
SUMMARY:Social/Service Event - September 16th
DESCRIPTION:’55 Exchange and Solid Green Trash Pickup from 5-7 PM; Social event for Chi Epsilon Members and Invited Prospective Members\nHosted by: Chi Epsilon\nAdditional Information can be found at: https://clemson.campuslabs.com/engage/event/11622807
URL:https://housing.clemson.edu/event/social-service-event-september-16th/
LOCATION:’55 Exchange
CATEGORIES:CommunityService,Organizations Calendar
END:VEVENT
BEGIN:VEVENT
DTSTART;TZID=America/New_York:20250916T173000
DTEND;TZID=America/New_York:20250916T183000
DTSTAMP:20260425T210754
CREATED:20250916T131638Z
LAST-MODIFIED:20250916T131638Z
UID:10005429-1758043800-1758047400@housing.clemson.edu
SUMMARY:Career Fair Prep - Drop In
DESCRIPTION:Drop In to out Resume Blitz –\nGet a quick and professional review of your resume ! \n \nHosted by: Association of Latino Professionals for America\nAdditional Information can be found at: https://clemson.campuslabs.com/engage/event/11642397
URL:https://housing.clemson.edu/event/career-fair-prep-drop-in/
LOCATION:Powers
CATEGORIES:Organizations Calendar,ThoughtfulLearning
END:VEVENT
BEGIN:VEVENT
DTSTART;TZID=America/New_York:20250916T180000
DTEND;TZID=America/New_York:20250916T190000
DTSTAMP:20260425T210754
CREATED:20250916T131641Z
LAST-MODIFIED:20250916T131641Z
UID:10005432-1758045600-1758049200@housing.clemson.edu
SUMMARY:Meeting with ITT
DESCRIPTION:ITT will be coming to speak about opportunities within the company & discuss tips for the career fair next week! Chickfila will be served!\nHosted by: Society of Women Engineers\nAdditional Information can be found at: https://clemson.campuslabs.com/engage/event/11607285
URL:https://housing.clemson.edu/event/meeting-with-itt/
LOCATION:Rhodes Annex 109
CATEGORIES:Organizations Calendar,Social
END:VEVENT
BEGIN:VEVENT
DTSTART;TZID=America/New_York:20250916T180000
DTEND;TZID=America/New_York:20250916T190000
DTSTAMP:20260425T210754
CREATED:20250916T131642Z
LAST-MODIFIED:20250916T131642Z
UID:10005434-1758045600-1758049200@housing.clemson.edu
SUMMARY:Sealed Air PKSC Club
DESCRIPTION:Join us to hear from Clemson Alum working at Sealed Air! They’ll talk about the company and a co-op position for Spring 2026. Free dinner will be provided as always! \nHosted by: The Clemson Packaging Science Club\nAdditional Information can be found at: https://clemson.campuslabs.com/engage/event/11621851
URL:https://housing.clemson.edu/event/sealed-air-pksc-club/
LOCATION:Harris A. Smith Auditorium
CATEGORIES:Organizations Calendar,ThoughtfulLearning
END:VEVENT
BEGIN:VEVENT
DTSTART;TZID=America/New_York:20250916T180000
DTEND;TZID=America/New_York:20250916T190000
DTSTAMP:20260425T210754
CREATED:20250916T131643Z
LAST-MODIFIED:20250916T131643Z
UID:10005435-1758045600-1758049200@housing.clemson.edu
SUMMARY:Board Game Night with Clemson Game Development
DESCRIPTION:Anyone is welcome to join us at the top floor of the library to play some board games together! Feel free to bring your own board or card games in addition to ones already present in the library! This is also a good chance to ask about game development\, discuss the current game jam\, and ask around if anyone would like to playtest your games!\nCurrent Games: Risk & Castle Risk\, Dune\, Boss Monster\, Balderdash\, Carcassonne\, Scrabble\, Clue\, Taboo\, Pictionary\, Hedbanz\, and Trivial Pursuit.\n(Includes games provided by the library)\nIf you can’t make it for the full time\, that’s alright and you are free to drop in and join for what time you have. Leadership will be present till 8 p.m. at the latest\, but participants are able to keep playing till the library closes.\nHosted by: Clemson Game Development\nAdditional Information can be found at: https://clemson.campuslabs.com/engage/event/11611701
URL:https://housing.clemson.edu/event/board-game-night-with-clemson-game-development/
LOCATION:Cooper Library\, 6th Floor
CATEGORIES:Organizations Calendar,Social
END:VEVENT
BEGIN:VEVENT
DTSTART;TZID=America/New_York:20250916T181500
DTEND;TZID=America/New_York:20250916T191500
DTSTAMP:20260425T210754
CREATED:20250915T134808Z
LAST-MODIFIED:20250915T152011Z
UID:10005391-1758046500-1758050100@housing.clemson.edu
SUMMARY:Conflict Management Workshop
DESCRIPTION:College may come with its fair share of conflict. Come join us and learn how to recognize and approach conflict in a productive and healthy way!
URL:https://housing.clemson.edu/event/conflict-management-workshop/
LOCATION:Sirrine Hall 390
CATEGORIES:Clemson University Events,Development and Workshops,General Events,Lectures,Seminars and Speakers,Training
END:VEVENT
BEGIN:VEVENT
DTSTART;TZID=America/New_York:20250916T183000
DTEND;TZID=America/New_York:20250916T193000
DTSTAMP:20260425T210754
CREATED:20250916T131640Z
LAST-MODIFIED:20250916T131640Z
UID:10005431-1758047400-1758051000@housing.clemson.edu
SUMMARY:Catan Club Meeting
DESCRIPTION:Hey everyone\,\nCatan Club will be meeting this Tuesday\, September 16th\, at 6:30 PM in Hardin Hall\, Room 233!\nI hope you are all getting excited for our weekly game night. We’ve been so excited to welcome new members and facilitate new competition in our club\, but we’re all still getting to know each other\, so there’s no better time to get involved!!! Tuesdays are our regular meeting time\, and we’re excited to get together again for another evening of games. Everyone is welcome\, whether you’ve played a lot or you’re just starting out.\nWe can’t wait to see you there!\n \nHosted by: Catan Club\nAdditional Information can be found at: https://clemson.campuslabs.com/engage/event/11641888
URL:https://housing.clemson.edu/event/catan-club-meeting-2/
LOCATION:Hardin Hall Room 233
CATEGORIES:Organizations Calendar,Social
END:VEVENT
BEGIN:VEVENT
DTSTART;TZID=America/New_York:20250916T183000
DTEND;TZID=America/New_York:20250916T200000
DTSTAMP:20260425T210754
CREATED:20250916T131640Z
LAST-MODIFIED:20250916T131640Z
UID:10005430-1758047400-1758052800@housing.clemson.edu
SUMMARY:September GBM
DESCRIPTION:Join us for a night of meeting other people in your major and learning about all the upcoming SHPE events while celebrating Hispanic Heritage Month! We encourage all members to wear something of their cultural heritage to represent!\nHosted by: Society of Hispanic Professional Engineers – Clemson University Chapter\nAdditional Information can be found at: https://clemson.campuslabs.com/engage/event/11632019
URL:https://housing.clemson.edu/event/september-gbm/
LOCATION:Humanities G66
CATEGORIES:Cultural,Organizations Calendar
END:VEVENT
BEGIN:VEVENT
DTSTART;TZID=America/New_York:20250916T184500
DTEND;TZID=America/New_York:20250916T193000
DTSTAMP:20260425T210754
CREATED:20250902T154624Z
LAST-MODIFIED:20250916T131639Z
UID:10004961-1758048300-1758051000@housing.clemson.edu
SUMMARY:General Body Chapter Meeting 9/16
DESCRIPTION:Join us Tuesday\, September 16th\, dress casual\nHosted by: Clemson Kappa Alpha Pi – Pre Law & Government Fraternity\nAdditional Information can be found at: https://clemson.campuslabs.com/engage/event/11479367
URL:https://housing.clemson.edu/event/general-body-chapter-meeting-9-16/
LOCATION:Brackett 100
CATEGORIES:GroupBusiness,Organizations Calendar
END:VEVENT
BEGIN:VEVENT
DTSTART;TZID=America/New_York:20250916T190000
DTEND;TZID=America/New_York:20250916T203000
DTSTAMP:20260425T210754
CREATED:20250908T201648Z
LAST-MODIFIED:20250916T131639Z
UID:10005238-1758049200-1758054600@housing.clemson.edu
SUMMARY:KAPi x Clemson Hope Back2School Drive
DESCRIPTION:Start the semester by giving back! Kappa Alpha Pi is partnering with Clemson Hope to host a Back2School Drive\, supporting local children as they kick off the school year with confidence.\nAll supplies will be provided\, so no need for PNMs to bring anything but themself! Together\, we’ll decorate tote bags and fill them with school essentials and thoughtful extras. The vibe is laid-back and collaborative: PNMs and brothers will work side by side\, sharing conversation while creating something meaningful. It’s a chance to bond in a relaxed setting while also making a direct impact on our community.\nThis event highlights one of KAPi’s core values\, philanthropy\, and shows how we blend fun\, creativity\, and service. By the end of the night\, you’ll not only have met new people but also contributed to a cause that truly matters.\nDate: Tuesday\, September 16th\, 2025Time: 7:00 PMLocation: Cooper Library\, 2nd Floor\, Room 204Dress Code: Casual / Athletic Wear\nCome join us\, make some memories\, and help make a difference!\nHosted by: Clemson Kappa Alpha Pi – Pre Law & Government Fraternity\nAdditional Information can be found at: https://clemson.campuslabs.com/engage/event/11532638
URL:https://housing.clemson.edu/event/kapi-x-clemson-hope-back2school-drive/
LOCATION:Robert Muldrow Cooper Library (2nd Floor\, Room 204)
CATEGORIES:CommunityService,Organizations Calendar
END:VEVENT
BEGIN:VEVENT
DTSTART;TZID=America/New_York:20250917T000000
DTEND;TZID=America/New_York:20250917T235959
DTSTAMP:20260425T210754
CREATED:20250819T125020Z
LAST-MODIFIED:20250917T133209Z
UID:10004560-1758067200-1758153599@housing.clemson.edu
SUMMARY:2025 Fall Mini B - Classes begin
DESCRIPTION:Classes begin
URL:https://housing.clemson.edu/event/2025-fall-mini-b-classes-begin/
CATEGORIES:Academic Calendar
ATTACH;FMTTYPE=image/jpeg:https://housing.clemson.edu/wp-content/uploads/2025/09/786_reg-brand.rev_.1756237141-Rptdml.jpg
END:VEVENT
BEGIN:VEVENT
DTSTART;TZID=America/New_York:20250917T000000
DTEND;TZID=America/New_York:20250917T235959
DTSTAMP:20260425T210754
CREATED:20250819T125020Z
LAST-MODIFIED:20250917T133210Z
UID:10004562-1758067200-1758153599@housing.clemson.edu
SUMMARY:2025 Fall Mini B - Last day to register or add a class or declare Audit
DESCRIPTION:Last day to register or add a class or declare Audit
URL:https://housing.clemson.edu/event/2025-fall-mini-b-last-day-to-register-or-add-a-class-or-declare-audit/
CATEGORIES:Academic Calendar
ATTACH;FMTTYPE=image/jpeg:https://housing.clemson.edu/wp-content/uploads/2025/09/786_reg-brand.rev_.1756237141-Rptdml.jpg
END:VEVENT
BEGIN:VEVENT
DTSTART;TZID=America/New_York:20250917T093000
DTEND;TZID=America/New_York:20250917T103000
DTSTAMP:20260425T210754
CREATED:20250819T131149Z
LAST-MODIFIED:20250915T152012Z
UID:10004713-1758101400-1758105000@housing.clemson.edu
SUMMARY:Continuous Improvement Community of Practice
DESCRIPTION:Ready to supercharge your improvement game? Whether you’re a seasoned process wizard or just getting started with your first improvement project\, this one-hour power session is for YOU! Come hungry to learn\, share\, and connect with fellow improvement enthusiasts from across campus. We’ll dive into a real-world case study that’ll spark new ideas\, then jump into Tool Swap Speed Dating—think rapid-fire knowledge sharing where you’ll walk away with a toolkit full of fresh ideas and new connections. No fancy expertise required\, just bring your curiosity and maybe one favorite tip or trick you’ve picked up along the way. Everyone has something valuable to contribute\, and everyone leaves with something new to try. Let’s build something amazing together\, one small improvement at a time!
URL:https://housing.clemson.edu/event/continuous-improvement-community-of-practice/
LOCATION:Cooper Library\, Room 416
CATEGORIES:Clemson University Events,General Events
ATTACH;FMTTYPE=image/png:https://housing.clemson.edu/wp-content/uploads/2025/08/708_20250815_CoP.rev_.1755272152-gj4k6x.png
END:VEVENT
BEGIN:VEVENT
DTSTART;TZID=America/New_York:20250917T100000
DTEND;TZID=America/New_York:20250917T140000
DTSTAMP:20260425T210755
CREATED:20250916T131643Z
LAST-MODIFIED:20250917T131731Z
UID:10005437-1758103200-1758117600@housing.clemson.edu
SUMMARY:KraftHeinz Booth
DESCRIPTION:KraftHeinz will be in P&A to talk about their company\, packaging roles\, and the open co-op positions they have! They are also open to accept resumes from any student. Be sure to swing by! \nHosted by: The Clemson Packaging Science Club\nAdditional Information can be found at: https://clemson.campuslabs.com/engage/event/11621894
URL:https://housing.clemson.edu/event/kraftheinz-booth/
LOCATION:Poole Agricultural Center
CATEGORIES:Organizations Calendar,ThoughtfulLearning
END:VEVENT
BEGIN:VEVENT
DTSTART;TZID=America/New_York:20250917T100000
DTEND;TZID=America/New_York:20250917T180000
DTSTAMP:20260425T210755
CREATED:20250916T131643Z
LAST-MODIFIED:20250917T131732Z
UID:10005438-1758103200-1758132000@housing.clemson.edu
SUMMARY:Emmaline Boutique Proceeds Day
DESCRIPTION:Fundraising opportunity – come shop cute clothes and other accessories! Why not use this event as an excuse to shop?\nHosted by: Women in Business\nAdditional Information can be found at: https://clemson.campuslabs.com/engage/event/11631444
URL:https://housing.clemson.edu/event/emmaline-boutique-proceeds-day/
LOCATION:Emmaline Boutique
CATEGORIES:Fundraising,Organizations Calendar
END:VEVENT
BEGIN:VEVENT
DTSTART;TZID=America/New_York:20250917T103000
DTEND;TZID=America/New_York:20250917T130000
DTSTAMP:20260425T210755
CREATED:20250819T131149Z
LAST-MODIFIED:20250917T154609Z
UID:10004712-1758105000-1758114000@housing.clemson.edu
SUMMARY:Faculty and Staff Headshot Day
DESCRIPTION:The next professional headshot day will be from 10:30 a.m. to 1 p.m. in room 413 of Cooper Library. No appointment is necessary to receive new or updated headshots. This event is for Clemson faculty and staff only!
URL:https://housing.clemson.edu/event/faculty-and-staff-headshot-day-2/
LOCATION:Cooper Library\, Room 413
CATEGORIES:Clemson University Events,General Events
ATTACH;FMTTYPE=image/jpeg:https://housing.clemson.edu/wp-content/uploads/2025/08/325_752cd59025a2203080655c04aba4a2a2d45a6ef2.rev_.1751487744-W7NZj3.jpg
END:VEVENT
BEGIN:VEVENT
DTSTART;TZID=America/New_York:20250917T130000
DTEND;TZID=America/New_York:20250917T140000
DTSTAMP:20260425T210755
CREATED:20250915T134809Z
LAST-MODIFIED:20250915T152012Z
UID:10005393-1758114000-1758117600@housing.clemson.edu
SUMMARY:Institutional Review Board Workshop for New Faculty
DESCRIPTION:The following topics will be discussed at this workshop for new faculty:  – Transferring awards and IRB protocols from previous institutions  – Submitting IRB requests through the InfoEd online submission portal  – When an IRB application is required at Clemson  – Process for working on multi-institutional projects  – Q&A
URL:https://housing.clemson.edu/event/institutional-review-board-workshop-for-new-faculty/
CATEGORIES:Clemson University Events,General Events
END:VEVENT
BEGIN:VEVENT
DTSTART;TZID=America/New_York:20250917T130000
DTEND;TZID=America/New_York:20250917T140000
DTSTAMP:20260425T210755
CREATED:20250917T154608Z
LAST-MODIFIED:20250917T154608Z
UID:10005488-1758114000-1758117600@housing.clemson.edu
SUMMARY:Institutional Review Board Workshop for New Faculty
DESCRIPTION:The following topics will be discussed at this workshop for new faculty:  – Transferring awards and IRB protocols from previous institutions  – Submitting IRB requests through the InfoEd online submission portal  – When an IRB application is required at Clemson  – Process for working on multi-institutional projects  – Q&A
URL:https://housing.clemson.edu/event/institutional-review-board-workshop-for-new-faculty-3/
CATEGORIES:Clemson University Events,General Events
END:VEVENT
BEGIN:VEVENT
DTSTART;TZID=America/New_York:20250917T170000
DTEND;TZID=America/New_York:20250917T190000
DTSTAMP:20260425T210755
CREATED:20250917T131711Z
LAST-MODIFIED:20250917T131732Z
UID:10005470-1758128400-1758135600@housing.clemson.edu
SUMMARY:Weekly Open Shack
DESCRIPTION:Our weekly group meeting is at our ham shack on campus! These are informal meetings\, meaning you can pop in and out and do not have to come every week. We spend the time chewing the rag with each other and on the waves with our HQ rig. We always have refreshments in the fridge\, and sometimes we have food. Feel free to reach out with any questions or if you need help finding the shack. ’73! \nHosted by: Clemson Amateur Radio Club\nAdditional Information can be found at: https://clemson.campuslabs.com/engage/event/11648238
URL:https://housing.clemson.edu/event/weekly-open-shack/
LOCATION:Clemson Ham Shack
CATEGORIES:Organizations Calendar,Social
END:VEVENT
BEGIN:VEVENT
DTSTART;TZID=America/New_York:20250917T180000
DTEND;TZID=America/New_York:20250917T193000
DTSTAMP:20260425T210755
CREATED:20250916T131644Z
LAST-MODIFIED:20250917T131733Z
UID:10005440-1758132000-1758137400@housing.clemson.edu
SUMMARY:Members Game Night
DESCRIPTION:Come hang out and play your favorite games\, from Exploding Kittens to Mario Kart! We will have pizza and drinks!\nHosted by: Clemson IEEE Student Branch\nAdditional Information can be found at: https://clemson.campuslabs.com/engage/event/11626194
URL:https://housing.clemson.edu/event/members-game-night/
LOCATION:Riggs B11
CATEGORIES:Organizations Calendar,Social
END:VEVENT
BEGIN:VEVENT
DTSTART;TZID=America/New_York:20250917T183000
DTEND;TZID=America/New_York:20250917T193000
DTSTAMP:20260425T210755
CREATED:20250916T131644Z
LAST-MODIFIED:20250917T131732Z
UID:10005439-1758133800-1758137400@housing.clemson.edu
SUMMARY:Career Fair Workshop
DESCRIPTION:Want to make the most of the Career Fair next week? Come learn the Do’s and Don’ts straight from the experts! A local manufacturing company will share insider tips on how to stand out to recruiters and avoid common mistakes. Open to all engineering majors!\nDate: Wednesday\, September 17Time: 6:30 – 8 PMLocation: Holtzendorff 200\nRegister using the link!\nhttps://docs.google.com/forms/d/e/1FAIpQLSdCEFCaBfMO7VREM_eIRZHR7K4SMXN_RRfj9q8stBwvw5X2zg/viewform?usp=dialog\nHosted by: Tau Beta Pi\nAdditional Information can be found at: https://clemson.campuslabs.com/engage/event/11594264
URL:https://housing.clemson.edu/event/career-fair-workshop/
LOCATION:Holtzendorff 200
CATEGORIES:Organizations Calendar,ThoughtfulLearning
END:VEVENT
BEGIN:VEVENT
DTSTART;TZID=America/New_York:20250917T183000
DTEND;TZID=America/New_York:20250917T194500
DTSTAMP:20260425T210755
CREATED:20250917T131712Z
LAST-MODIFIED:20250917T131733Z
UID:10005471-1758133800-1758138300@housing.clemson.edu
SUMMARY:Dr. Lori Hart Hazing Education Program
DESCRIPTION:Hazing Education Program for Fraternity and Sorority Students who joined fall 2023 – spring 2025\nHosted by: Fraternity and Sorority Life\nAdditional Information can be found at: https://clemson.campuslabs.com/engage/event/11648354
URL:https://housing.clemson.edu/event/dr-lori-hart-hazing-education-program/
LOCATION:Littlejohn Coliseum
CATEGORIES:Organizations Calendar,ThoughtfulLearning
END:VEVENT
BEGIN:VEVENT
DTSTART;TZID=America/New_York:20250917T183000
DTEND;TZID=America/New_York:20250917T200000
DTSTAMP:20260425T210755
CREATED:20250819T153125Z
LAST-MODIFIED:20250917T131733Z
UID:10004848-1758133800-1758139200@housing.clemson.edu
SUMMARY:Wesley Worship
DESCRIPTION:Join us at the Wesley Student Center Downtown for free dinner starting at 6:30\, we will move into an acoustic worship service and finish up around 8. All are welcome!\nHosted by: Clemson Wesley\, A United Methodist Campus Ministry\nAdditional Information can be found at: https://clemson.campuslabs.com/engage/event/11428945
URL:https://housing.clemson.edu/event/wesley-worship-4/
LOCATION:Wesley Student Center
CATEGORIES:Organizations Calendar,Spirituality
END:VEVENT
BEGIN:VEVENT
DTSTART;TZID=America/New_York:20250917T190000
DTEND;TZID=America/New_York:20250917T200000
DTSTAMP:20260425T210755
CREATED:20250916T131644Z
LAST-MODIFIED:20250917T131733Z
UID:10005441-1758135600-1758139200@housing.clemson.edu
SUMMARY:Kahoot!
DESCRIPTION:Join CCN in filling out silly little kahoot quizzes!\nHosted by: Clemson’s Club of Neurodiversity\nAdditional Information can be found at: https://clemson.campuslabs.com/engage/event/11592817
URL:https://housing.clemson.edu/event/kahoot/
LOCATION:Brackett 113
CATEGORIES:Organizations Calendar,Social
END:VEVENT
BEGIN:VEVENT
DTSTART;TZID=America/New_York:20250917T190000
DTEND;TZID=America/New_York:20250917T200000
DTSTAMP:20260425T210755
CREATED:20250916T131644Z
LAST-MODIFIED:20250917T131733Z
UID:10005442-1758135600-1758139200@housing.clemson.edu
SUMMARY:All Hands on Deck
DESCRIPTION:First All Hands on Deck meeting of the year!\nHosted by: Clemson Miracle\nAdditional Information can be found at: https://clemson.campuslabs.com/engage/event/11642548
URL:https://housing.clemson.edu/event/all-hands-on-deck/
LOCATION:Hendrix Ballroom A
CATEGORIES:CommunityService,Organizations Calendar
END:VEVENT
BEGIN:VEVENT
DTSTART;TZID=America/New_York:20250917T193000
DTEND;TZID=America/New_York:20250917T203000
DTSTAMP:20260425T210755
CREATED:20250916T131644Z
LAST-MODIFIED:20250917T131734Z
UID:10005443-1758137400-1758141000@housing.clemson.edu
SUMMARY:September General Body Meeting!
DESCRIPTION:Hey Students! It’s time for our September GBM and for Hispanic Heritage Month! We are so excited to be announcing a number of events to be celebrating our heritage and getting to know our members! \nThis event will be held on Wednesday\, Sept 17th at 7:30 pm in Daniel Hall room 105 (located near the library). We will be providing pizza for students who join us! We hope to see you there\, and invite your friends!\nHosted by: Latinos Unidos at Clemson University\nAdditional Information can be found at: https://clemson.campuslabs.com/engage/event/11635007
URL:https://housing.clemson.edu/event/september-general-body-meeting/
LOCATION:Daniel Hall – Room 105
CATEGORIES:Cultural,Organizations Calendar
END:VEVENT
BEGIN:VEVENT
DTSTART;TZID=America/New_York:20250918T000000
DTEND;TZID=America/New_York:20250918T235959
DTSTAMP:20260425T210755
CREATED:20250819T125020Z
LAST-MODIFIED:20250918T133411Z
UID:10004564-1758153600-1758239999@housing.clemson.edu
SUMMARY:2025 Fall Mini B - Last day to drop a class or withdraw from the University without a W grade
DESCRIPTION:Last day to drop a class or withdraw from the University without a W grade
URL:https://housing.clemson.edu/event/2025-fall-mini-b-last-day-to-drop-a-class-or-withdraw-from-the-university-without-a-w-grade/
CATEGORIES:Academic Calendar
ATTACH;FMTTYPE=image/jpeg:https://housing.clemson.edu/wp-content/uploads/2025/09/786_reg-brand.rev_.1756237141-Rptdml.jpg
END:VEVENT
BEGIN:VEVENT
DTSTART;TZID=America/New_York:20250918T000000
DTEND;TZID=America/New_York:20250918T235959
DTSTAMP:20260425T210755
CREATED:20250819T131151Z
LAST-MODIFIED:20250819T131151Z
UID:10004716-1758153600-1758239999@housing.clemson.edu
SUMMARY:Primary Care Mobile Clinic
DESCRIPTION:Services include sick visits (cold\, sore throat\, pink eye\, etc) and primary care (physicals\, medication management\, etc).  Clemson Rural Health accepts most forms of insurance\, as well as debit and credit cards. Cash is not accepted on the mobile units. Payment is due at the time of service. Call 864-656-3076 to schedule an appointment. Walk-ups welcome!
URL:https://housing.clemson.edu/event/primary-care-mobile-clinic-10/
LOCATION:Next to Salem Fire Department
CATEGORIES:Clemson University Events,General Events
ATTACH;FMTTYPE=image/jpeg:https://housing.clemson.edu/wp-content/uploads/2025/08/478_Rural_Health.rev_.1753474139-FP3YYY.jpg
END:VEVENT
END:VCALENDAR