BEGIN:VCALENDAR
VERSION:2.0
PRODID:-//Clemson Home - ECPv6.15.20//NONSGML v1.0//EN
CALSCALE:GREGORIAN
METHOD:PUBLISH
X-ORIGINAL-URL:https://housing.clemson.edu
X-WR-CALDESC:Events for Clemson Home
REFRESH-INTERVAL;VALUE=DURATION:PT1H
X-Robots-Tag:noindex
X-PUBLISHED-TTL:PT1H
BEGIN:VTIMEZONE
TZID:America/New_York
BEGIN:DAYLIGHT
TZOFFSETFROM:-0500
TZOFFSETTO:-0400
TZNAME:EDT
DTSTART:20240310T070000
END:DAYLIGHT
BEGIN:STANDARD
TZOFFSETFROM:-0400
TZOFFSETTO:-0500
TZNAME:EST
DTSTART:20241103T060000
END:STANDARD
BEGIN:DAYLIGHT
TZOFFSETFROM:-0500
TZOFFSETTO:-0400
TZNAME:EDT
DTSTART:20250309T070000
END:DAYLIGHT
BEGIN:STANDARD
TZOFFSETFROM:-0400
TZOFFSETTO:-0500
TZNAME:EST
DTSTART:20251102T060000
END:STANDARD
BEGIN:DAYLIGHT
TZOFFSETFROM:-0500
TZOFFSETTO:-0400
TZNAME:EDT
DTSTART:20260308T070000
END:DAYLIGHT
BEGIN:STANDARD
TZOFFSETFROM:-0400
TZOFFSETTO:-0500
TZNAME:EST
DTSTART:20261101T060000
END:STANDARD
END:VTIMEZONE
BEGIN:VEVENT
DTSTART;TZID=America/New_York:20250819T081500
DTEND;TZID=America/New_York:20250819T113000
DTSTAMP:20260420T221726
CREATED:20250819T131127Z
LAST-MODIFIED:20250819T131127Z
UID:10004669-1755591300-1755603000@housing.clemson.edu
SUMMARY:JUMPSTART Sessions
DESCRIPTION:
URL:https://housing.clemson.edu/event/jumpstart-sessions/
LOCATION:Academic Success Center (ASC)
CATEGORIES:Clemson University Events,General Events
END:VEVENT
BEGIN:VEVENT
DTSTART;TZID=America/New_York:20250819T100000
DTEND;TZID=America/New_York:20250819T103000
DTSTAMP:20260420T221726
CREATED:20250819T131931Z
LAST-MODIFIED:20250819T131931Z
UID:10004783-1755597600-1755599400@housing.clemson.edu
SUMMARY:Drop-in Tours of Cooper Library
DESCRIPTION:Check out everything Cooper Library has to offer at a drop-in tour given by our librarians! Tours will start by the Tiger cutout in the Cooper Library lobby and will last about 30 minutes. Open to anyone who wants to learn more about the library.\nHosted by: Clemson Libraries\nAdditional Information can be found at: https://clemson.campuslabs.com/engage/event/11373658
URL:https://housing.clemson.edu/event/drop-in-tours-of-cooper-library/
LOCATION:Cooper Library
CATEGORIES:Organizations Calendar,ThoughtfulLearning
END:VEVENT
BEGIN:VEVENT
DTSTART;TZID=America/New_York:20250819T100000
DTEND;TZID=America/New_York:20250819T120000
DTSTAMP:20260420T221726
CREATED:20250819T131128Z
LAST-MODIFIED:20250819T131128Z
UID:10004670-1755597600-1755604800@housing.clemson.edu
SUMMARY:Military Onboarding
DESCRIPTION:
URL:https://housing.clemson.edu/event/military-onboarding/
LOCATION:100 Vickery Hall
CATEGORIES:Clemson University Events,General Events,Lectures,Seminars and Speakers
ATTACH;FMTTYPE=image/jpeg:https://housing.clemson.edu/wp-content/uploads/2025/08/560_Military_onboarding.rev_.1753906792-7RNbmb.jpg
END:VEVENT
BEGIN:VEVENT
DTSTART;TZID=America/New_York:20250819T100000
DTEND;TZID=America/New_York:20250819T130000
DTSTAMP:20260420T221726
CREATED:20250819T131932Z
LAST-MODIFIED:20250819T153110Z
UID:10004784-1755597600-1755608400@housing.clemson.edu
SUMMARY:Military Onboarding (Fall 2025)
DESCRIPTION:A veteran and military-connected student orientation for new students OR returning students who want more information about M&VE and VA Educational Benefits programming and resources.\n \nSign up here: https://forms.office.com/r/hLwtBXH6Si\n \nHosted by: Military & Veteran Engagement\, Student Veterans Association\nAdditional Information can be found at: https://clemson.campuslabs.com/engage/event/11345157
URL:https://housing.clemson.edu/event/military-onboarding-fall-2025/
LOCATION:Room 100\, Vickery Hall
CATEGORIES:Organizations Calendar,Social
END:VEVENT
BEGIN:VEVENT
DTSTART;TZID=America/New_York:20250819T103000
DTEND;TZID=America/New_York:20250819T130000
DTSTAMP:20260420T221727
CREATED:20250819T131128Z
LAST-MODIFIED:20250819T131128Z
UID:10004671-1755599400-1755608400@housing.clemson.edu
SUMMARY:Faculty and Staff Headshot Day
DESCRIPTION:The next professional headshot day will be from 10:30 a.m. to 1 p.m. in room 219 of Riggs Hall. No appointment is necessary to receive new or updated headshots. This event is for Clemson faculty and staff only!
URL:https://housing.clemson.edu/event/faculty-and-staff-headshot-day/
LOCATION:Riggs Hall\, Room 219
CATEGORIES:Clemson University Events,General Events
ATTACH;FMTTYPE=image/jpeg:https://housing.clemson.edu/wp-content/uploads/2025/08/325_752cd59025a2203080655c04aba4a2a2d45a6ef2.rev_.1751487744-W7NZj3.jpg
END:VEVENT
BEGIN:VEVENT
DTSTART;TZID=America/New_York:20250819T123000
DTEND;TZID=America/New_York:20250819T133000
DTSTAMP:20260420T221727
CREATED:20250819T131129Z
LAST-MODIFIED:20250819T131129Z
UID:10004672-1755606600-1755610200@housing.clemson.edu
SUMMARY:Panhellenic Bid Day
DESCRIPTION:
URL:https://housing.clemson.edu/event/panhellenic-bid-day/
CATEGORIES:Clemson University Events,General Events
END:VEVENT
BEGIN:VEVENT
DTSTART;TZID=America/New_York:20250819T130000
DTEND;TZID=America/New_York:20250819T150000
DTSTAMP:20260420T221727
CREATED:20250819T131130Z
LAST-MODIFIED:20250819T131130Z
UID:10004673-1755608400-1755615600@housing.clemson.edu
SUMMARY:Capture the Flag
DESCRIPTION:
URL:https://housing.clemson.edu/event/capture-the-flag/
LOCATION:Upper IMs
CATEGORIES:Clemson University Events,General Events
END:VEVENT
BEGIN:VEVENT
DTSTART;TZID=America/New_York:20250819T130000
DTEND;TZID=America/New_York:20250819T150000
DTSTAMP:20260420T221727
CREATED:20250819T131933Z
LAST-MODIFIED:20250819T153111Z
UID:10004787-1755608400-1755615600@housing.clemson.edu
SUMMARY:Capture the Flag
DESCRIPTION:The game of the century has returned! Goal: Capture the opposing team’s flag & return it to your base to win! Teams will assign positions to players (throwers or runners). Runners must stay within the boundaries and attempt to capture the opposing team’s flag. Throwers will throw water balloons at opposing players. The first team to successfully snatch the opposing team’s flag and bring it back to pass the golden line will score a point.\nHosted by: Clemson’s Welcome Week\nAdditional Information can be found at: https://clemson.campuslabs.com/engage/event/11407892
URL:https://housing.clemson.edu/event/capture-the-flag-2/
LOCATION:Upper Intramural Fields
CATEGORIES:Organizations Calendar,Social
END:VEVENT
BEGIN:VEVENT
DTSTART;TZID=America/New_York:20250819T130000
DTEND;TZID=America/New_York:20250819T160000
DTSTAMP:20260420T221727
CREATED:20250819T131130Z
LAST-MODIFIED:20250819T131130Z
UID:10004674-1755608400-1755619200@housing.clemson.edu
SUMMARY:Run Hide Fight Training
DESCRIPTION:
URL:https://housing.clemson.edu/event/run-hide-fight-training/
LOCATION:Mckissick Theatre
CATEGORIES:Clemson University Events,General Events
ATTACH;FMTTYPE=image/jpeg:https://housing.clemson.edu/wp-content/uploads/2025/08/613_PublicSafety_SocialProfilePic.rev_.1754071828-bkaWLI.jpg
END:VEVENT
BEGIN:VEVENT
DTSTART;TZID=America/New_York:20250819T130000
DTEND;TZID=America/New_York:20250819T160000
DTSTAMP:20260420T221727
CREATED:20250819T131934Z
LAST-MODIFIED:20250819T153110Z
UID:10004788-1755608400-1755619200@housing.clemson.edu
SUMMARY:Run Hide Fight Training
DESCRIPTION:Gain valuable insight into active shooter procedure and awareness.\nHosted by: Clemson’s Welcome Week\nAdditional Information can be found at: https://clemson.campuslabs.com/engage/event/11407894
URL:https://housing.clemson.edu/event/run-hide-fight-training-2/
LOCATION:McKissick Theater
CATEGORIES:Organizations Calendar,ThoughtfulLearning
END:VEVENT
BEGIN:VEVENT
DTSTART;TZID=America/New_York:20250819T140000
DTEND;TZID=America/New_York:20250819T143000
DTSTAMP:20260420T221727
CREATED:20250819T131932Z
LAST-MODIFIED:20250819T153111Z
UID:10004785-1755612000-1755613800@housing.clemson.edu
SUMMARY:Drop-in Tours of Cooper Library
DESCRIPTION:Check out everything Cooper Library has to offer at a drop-in tour given by our librarians! Tours will start by the Tiger cutout in the Cooper Library lobby and will last about 30 minutes. Open to anyone who wants to learn more about the library.\nHosted by: Clemson Libraries\nAdditional Information can be found at: https://clemson.campuslabs.com/engage/event/11373659
URL:https://housing.clemson.edu/event/drop-in-tours-of-cooper-library-2/
LOCATION:Cooper Library
CATEGORIES:Organizations Calendar,ThoughtfulLearning
END:VEVENT
BEGIN:VEVENT
DTSTART;TZID=America/New_York:20250819T140000
DTEND;TZID=America/New_York:20250819T150000
DTSTAMP:20260420T221727
CREATED:20250819T131131Z
LAST-MODIFIED:20250819T131131Z
UID:10004675-1755612000-1755615600@housing.clemson.edu
SUMMARY:Drop-in Tour of Cooper Library
DESCRIPTION:Check out everything Cooper Library has to offer at a drop-in tour given by our librarians! Tours will start by the Tiger cutout in the Cooper Library lobby and will last about 30 minutes. Open to anyone who wants to learn more about the library.
URL:https://housing.clemson.edu/event/drop-in-tour-of-cooper-library/
LOCATION:Cooper Library
CATEGORIES:Clemson University Events,Development and Workshops,General Events,Open to the Public,Training
ATTACH;FMTTYPE=image/jpeg:https://housing.clemson.edu/wp-content/uploads/2025/08/467_Library_w_pink_sky_2.rev_.1753451995-PilUNz.jpg
END:VEVENT
BEGIN:VEVENT
DTSTART;TZID=America/New_York:20250819T140000
DTEND;TZID=America/New_York:20250819T150000
DTSTAMP:20260420T221727
CREATED:20250819T131933Z
LAST-MODIFIED:20250819T153111Z
UID:10004786-1755612000-1755615600@housing.clemson.edu
SUMMARY:GTG Fall 2025 Essay Review Workshop
DESCRIPTION:This workshop will pair you with other applicants to review each other’s GTG application essays\, provide feedback\, and give you an idea of how your essay might score on the actual application. The event also offers an opportunity to receive valuable reviews from both the committee and your peers before you submit your application.\nAll attendees are expected to upload their essays here: https://clemson.box.com/s/4imy11r85lgkckgcaf6n6dkd3kmyqhdz\nThe rubric for essay review is available in the following link. https://gtgs.sites.clemson.edu/document/GTG%20Rubric.pdf\nHosted by: Clemson University Graduate Student Government\nOnline Location: https://clemson.zoom.us/j/97552955802?pwd=2RZ5tqudwbPWTkYlBmOC3LrZmg9GdH.1\nAdditional Information can be found at: https://clemson.campuslabs.com/engage/event/11375456
URL:https://housing.clemson.edu/event/gtg-fall-2025-essay-review-workshop/
LOCATION:Riggs Hall 219
CATEGORIES:Organizations Calendar,ThoughtfulLearning
END:VEVENT
BEGIN:VEVENT
DTSTART;TZID=America/New_York:20250819T170000
DTEND;TZID=America/New_York:20250819T200000
DTSTAMP:20260420T221727
CREATED:20250819T131132Z
LAST-MODIFIED:20250819T131132Z
UID:10004676-1755622800-1755633600@housing.clemson.edu
SUMMARY:Tiger Prowl
DESCRIPTION:
URL:https://housing.clemson.edu/event/tiger-prowl/
LOCATION:Memorial Stadium (Death Valley)
CATEGORIES:Clemson University Events,General Events
END:VEVENT
BEGIN:VEVENT
DTSTART;TZID=America/New_York:20250819T170000
DTEND;TZID=America/New_York:20250819T200000
DTSTAMP:20260420T221727
CREATED:20250819T131935Z
LAST-MODIFIED:20250819T153112Z
UID:10004789-1755622800-1755633600@housing.clemson.edu
SUMMARY:Tiger Prowk
DESCRIPTION:Find the BCM banner. Come grab some free stuff and meet a couple of our people to learn about BCM.\nHosted by: Baptist Collegiate Ministry\nAdditional Information can be found at: https://clemson.campuslabs.com/engage/event/11422475
URL:https://housing.clemson.edu/event/tiger-prowk/
LOCATION:Memorial Stadium
CATEGORIES:Organizations Calendar,Social
END:VEVENT
BEGIN:VEVENT
DTSTART;TZID=America/New_York:20250819T170000
DTEND;TZID=America/New_York:20250819T200000
DTSTAMP:20260420T221727
CREATED:20250819T131937Z
LAST-MODIFIED:20250819T153112Z
UID:10004792-1755622800-1755633600@housing.clemson.edu
SUMMARY:Tiger Prowl
DESCRIPTION:Find us tomorrow night\, August 19\, 2025\, at Tiger Prowl\, Clemson’s student organization and involvement fair\, to learn more about Association for Women in Mathematics (AWM)\, as well as a ton of other clubs and organizations like us! Tiger Prowl will be held at Memorial Stadium from 5-8pm. You can find us near Gate 5 at table 273. Can’t wait to meet you!\nHosted by: Clemson Association for Women in Mathematics\nAdditional Information can be found at: https://clemson.campuslabs.com/engage/event/11438408
URL:https://housing.clemson.edu/event/tiger-prowl-2/
LOCATION:Memorial Stadium
CATEGORIES:Organizations Calendar,Social
END:VEVENT
BEGIN:VEVENT
DTSTART;TZID=America/New_York:20250819T170000
DTEND;TZID=America/New_York:20250819T200000
DTSTAMP:20260420T221727
CREATED:20250819T131937Z
LAST-MODIFIED:20250819T153112Z
UID:10004793-1755622800-1755633600@housing.clemson.edu
SUMMARY:Tiger Prowl 2025
DESCRIPTION:Join us and the CUSG Outreach and Engagement Committee for Fall 2025 Tiger Prowl! Meet 350+ of our active student organizations as you start the new academic year off the right way! Make sure you have your Event Pass handy (found by selecting your initial or profile picture in TigerQuest\, then selecting the blue QR code)\, your clear stadium bags for merch\, and your good walking shoes\, because you won’t want to miss seeing the organizations tabling around the entire stadium concourse! Keep an eye out on the Outreach and Engagement Instagram (@cusgoutreach) for all the updates for Tiger Prowl\, including the Organization Tabling Directory to know exactly where your new favorite organizations will be waiting to meet you. Go Tigers!\n \n \nHosted by: Center for Student Leadership and Engagement\, CUSG Outreach and Engagement Committee\nAdditional Information can be found at: https://clemson.campuslabs.com/engage/event/11432280
URL:https://housing.clemson.edu/event/tiger-prowl-2025/
LOCATION:Memorial Stadium
CATEGORIES:Organizations Calendar,Social
END:VEVENT
BEGIN:VEVENT
DTSTART;TZID=America/New_York:20250819T170000
DTEND;TZID=America/New_York:20250819T200000
DTSTAMP:20260420T221727
CREATED:20250819T131939Z
LAST-MODIFIED:20250819T153111Z
UID:10004795-1755622800-1755633600@housing.clemson.edu
SUMMARY:Collegians For Christ | TigerProwl
DESCRIPTION:Come visit our booth to learn about our organization!\nHosted by: Collegians for Christ\nAdditional Information can be found at: https://clemson.campuslabs.com/engage/event/11408159
URL:https://housing.clemson.edu/event/collegians-for-christ-tigerprowl/
LOCATION:Death Valley | Clemson Football Field
CATEGORIES:Organizations Calendar,Spirituality
END:VEVENT
BEGIN:VEVENT
DTSTART;TZID=America/New_York:20250819T170000
DTEND;TZID=America/New_York:20250819T200000
DTSTAMP:20260420T221727
CREATED:20250819T131940Z
LAST-MODIFIED:20250819T153111Z
UID:10004797-1755622800-1755633600@housing.clemson.edu
SUMMARY:CHANGE at TigerProwl
DESCRIPTION:Come Meet CHANGE!\nHead to Memorial Stadium to learn about Clemson’s Student Ethics Committee CHANGE! \nFolks who come see us will have the chance to win a box seat to the Clemson vs. Syracuse home game on September 20th!\nThe student ethics committee of the Rutland Institute for Ethics\, Creating Habits and Norms Guiding Ethical Decisions (CHANGE)\, was established at Clemson University in Spring 2019. CHANGE serves to create ethical programming at both the University-wide and college-specific levels by hosting speakers\, events\, and activities that focus on exposing students to real-life applications of ethical decision-making and ethical leadership.You can learn more about us and submit an application on our website here. Applications for Fall are due August 31st\, 2025. \nHosted by: CHANGE (Creating Habits and Norms Guiding Ethical Decisions)\nAdditional Information can be found at: https://clemson.campuslabs.com/engage/event/11395411
URL:https://housing.clemson.edu/event/change-at-tigerprowl/
LOCATION:Memorial Stadium
CATEGORIES:Cultural,Organizations Calendar
END:VEVENT
BEGIN:VEVENT
DTSTART;TZID=America/New_York:20250819T170000
DTEND;TZID=America/New_York:20250819T200000
DTSTAMP:20260420T221727
CREATED:20250819T131940Z
LAST-MODIFIED:20250819T153111Z
UID:10004798-1755622800-1755633600@housing.clemson.edu
SUMMARY:MAPS TIGER PROWL 2025
DESCRIPTION:We will be tabling and giving out information about our organization at Tiger Prowl this year. If you are a minority pre-medical student\, drop by and see us to get the details on what’s going on this academic year with us and how you can get involved! Go Tigers!\nHosted by: The Minority Association of Pre-Medical Students\nAdditional Information can be found at: https://clemson.campuslabs.com/engage/event/11384721
URL:https://housing.clemson.edu/event/maps-tiger-prowl-2025/
LOCATION:Memorial Stadium
CATEGORIES:Organizations Calendar,Social
END:VEVENT
BEGIN:VEVENT
DTSTART;TZID=America/New_York:20250819T170000
DTEND;TZID=America/New_York:20250819T200000
DTSTAMP:20260420T221727
CREATED:20250819T131940Z
LAST-MODIFIED:20250819T153112Z
UID:10004799-1755622800-1755633600@housing.clemson.edu
SUMMARY:Tiger Prowl
DESCRIPTION:Want to join a club at Clemson? Join us in Death Valley and see all the amazing clubs Clemson has to offer. You won’t want to miss this!\nHosted by: Clemson’s Welcome Week\nAdditional Information can be found at: https://clemson.campuslabs.com/engage/event/11407932
URL:https://housing.clemson.edu/event/tiger-prowl-3/
LOCATION:Memorial Stadium
CATEGORIES:Organizations Calendar,Social
END:VEVENT
BEGIN:VEVENT
DTSTART;TZID=America/New_York:20250819T180000
DTEND;TZID=America/New_York:20250819T200000
DTSTAMP:20260420T221727
CREATED:20250819T131939Z
LAST-MODIFIED:20250819T153111Z
UID:10004796-1755626400-1755633600@housing.clemson.edu
SUMMARY:Tabling - Tiger Prowl
DESCRIPTION:We will be tabling at Tiger Prowl to spread awareness about Club Softball! We will meet and talk to students that are interested in trying out and share information about our team with them. \nHosted by: Club Softball\nAdditional Information can be found at: https://clemson.campuslabs.com/engage/event/11358792
URL:https://housing.clemson.edu/event/tabling-tiger-prowl/
LOCATION:Death Valley
CATEGORIES:Athletics,Organizations Calendar
END:VEVENT
BEGIN:VEVENT
DTSTART;TZID=America/New_York:20250819T200000
DTEND;TZID=America/New_York:20250819T210000
DTSTAMP:20260420T221727
CREATED:20250819T131132Z
LAST-MODIFIED:20250819T131132Z
UID:10004677-1755633600-1755637200@housing.clemson.edu
SUMMARY:Yoga
DESCRIPTION:
URL:https://housing.clemson.edu/event/yoga/
LOCATION:Lower Intramural Fields
CATEGORIES:Clemson University Events,General Events
END:VEVENT
BEGIN:VEVENT
DTSTART;TZID=America/New_York:20250819T200000
DTEND;TZID=America/New_York:20250819T210000
DTSTAMP:20260420T221727
CREATED:20250819T131938Z
LAST-MODIFIED:20250819T153112Z
UID:10004794-1755633600-1755637200@housing.clemson.edu
SUMMARY:Yoga
DESCRIPTION:Join us as we relax and prepare for a great academic start to the fall semester! Grab your water bottle and be prepared to stretch away any worries you had about college! Start off your freshman year right\, join us for Yoga at Night!\nHosted by: Clemson’s Welcome Week\nAdditional Information can be found at: https://clemson.campuslabs.com/engage/event/11407893
URL:https://housing.clemson.edu/event/yoga-2/
LOCATION:Lower Intramural Field
CATEGORIES:Organizations Calendar,Social
END:VEVENT
BEGIN:VEVENT
DTSTART;TZID=America/New_York:20250820T000000
DTEND;TZID=America/New_York:20250820T235959
DTSTAMP:20260420T221727
CREATED:20250819T125014Z
LAST-MODIFIED:20250820T130110Z
UID:10004538-1755648000-1755734399@housing.clemson.edu
SUMMARY:2025 Fall Mini A - Classes begin
DESCRIPTION:Classes begin
URL:https://housing.clemson.edu/event/2025-fall-mini-a-classes-begin/
CATEGORIES:Academic Calendar
ATTACH;FMTTYPE=image/jpeg:https://housing.clemson.edu/wp-content/uploads/2025/08/17_6786f9ade2e49_430e098d4318d1511405a272cfad352bbdde5bea.rev_.1736898990-84XcUg.jpg
END:VEVENT
BEGIN:VEVENT
DTSTART;TZID=America/New_York:20250820T000000
DTEND;TZID=America/New_York:20250820T235959
DTSTAMP:20260420T221727
CREATED:20250819T125015Z
LAST-MODIFIED:20250820T130110Z
UID:10004539-1755648000-1755734399@housing.clemson.edu
SUMMARY:2025 Fall Mini A - Last day to register or add a class or declare Audit
DESCRIPTION:Last day to register or add a class or declare Audit
URL:https://housing.clemson.edu/event/2025-fall-mini-a-last-day-to-register-or-add-a-class-or-declare-audit/
CATEGORIES:Academic Calendar
ATTACH;FMTTYPE=image/jpeg:https://housing.clemson.edu/wp-content/uploads/2025/08/17_6786f9ade2e49_430e098d4318d1511405a272cfad352bbdde5bea.rev_.1736898990-84XcUg.jpg
END:VEVENT
BEGIN:VEVENT
DTSTART;TZID=America/New_York:20250820T000000
DTEND;TZID=America/New_York:20250820T235959
DTSTAMP:20260420T221727
CREATED:20250819T125016Z
LAST-MODIFIED:20250820T130110Z
UID:10004540-1755648000-1755734399@housing.clemson.edu
SUMMARY:2025 Fall Semester - Classes begin
DESCRIPTION:Classes begin
URL:https://housing.clemson.edu/event/2025-fall-semester-classes-begin/
CATEGORIES:Academic Calendar
ATTACH;FMTTYPE=image/jpeg:https://housing.clemson.edu/wp-content/uploads/2025/08/17_6786f9ade2e49_430e098d4318d1511405a272cfad352bbdde5bea.rev_.1736898990-84XcUg.jpg
END:VEVENT
BEGIN:VEVENT
DTSTART;TZID=America/New_York:20250820T073000
DTEND;TZID=America/New_York:20250820T120000
DTSTAMP:20260420T221727
CREATED:20250819T131132Z
LAST-MODIFIED:20250820T131609Z
UID:10004678-1755675000-1755691200@housing.clemson.edu
SUMMARY:Maps & Muffins
DESCRIPTION:
URL:https://housing.clemson.edu/event/maps-muffins/
CATEGORIES:Clemson University Events,General Events
END:VEVENT
BEGIN:VEVENT
DTSTART;TZID=America/New_York:20250820T073000
DTEND;TZID=America/New_York:20250820T153000
DTSTAMP:20260420T221727
CREATED:20250819T131133Z
LAST-MODIFIED:20250820T131610Z
UID:10004679-1755675000-1755703800@housing.clemson.edu
SUMMARY:FDOC Marquee Signs
DESCRIPTION:
URL:https://housing.clemson.edu/event/fdoc-marquee-signs/
LOCATION:Sikes Hall
CATEGORIES:Clemson University Events,General Events
END:VEVENT
BEGIN:VEVENT
DTSTART;TZID=America/New_York:20250820T080000
DTEND;TZID=America/New_York:20250820T100000
DTSTAMP:20260420T221727
CREATED:20250819T131941Z
LAST-MODIFIED:20250819T153112Z
UID:10004800-1755676800-1755684000@housing.clemson.edu
SUMMARY:FDOC Popsicles
DESCRIPTION:Meet us at the Libary Bridge for some free popsicles and conversation. Look for the BCM banner.\nHosted by: Baptist Collegiate Ministry\nAdditional Information can be found at: https://clemson.campuslabs.com/engage/event/11422478
URL:https://housing.clemson.edu/event/fdoc-popsicles/
LOCATION:Library Bridge
CATEGORIES:Organizations Calendar,Social
END:VEVENT
END:VCALENDAR