BEGIN:VCALENDAR
VERSION:2.0
PRODID:-//Clemson Home - ECPv6.15.20//NONSGML v1.0//EN
CALSCALE:GREGORIAN
METHOD:PUBLISH
X-WR-CALNAME:Clemson Home
X-ORIGINAL-URL:https://housing.clemson.edu
X-WR-CALDESC:Events for Clemson Home
REFRESH-INTERVAL;VALUE=DURATION:PT1H
X-Robots-Tag:noindex
X-PUBLISHED-TTL:PT1H
BEGIN:VTIMEZONE
TZID:America/New_York
BEGIN:DAYLIGHT
TZOFFSETFROM:-0500
TZOFFSETTO:-0400
TZNAME:EDT
DTSTART:20210314T070000
END:DAYLIGHT
BEGIN:STANDARD
TZOFFSETFROM:-0400
TZOFFSETTO:-0500
TZNAME:EST
DTSTART:20211107T060000
END:STANDARD
BEGIN:DAYLIGHT
TZOFFSETFROM:-0500
TZOFFSETTO:-0400
TZNAME:EDT
DTSTART:20220313T070000
END:DAYLIGHT
BEGIN:STANDARD
TZOFFSETFROM:-0400
TZOFFSETTO:-0500
TZNAME:EST
DTSTART:20221106T060000
END:STANDARD
BEGIN:DAYLIGHT
TZOFFSETFROM:-0500
TZOFFSETTO:-0400
TZNAME:EDT
DTSTART:20230312T070000
END:DAYLIGHT
BEGIN:STANDARD
TZOFFSETFROM:-0400
TZOFFSETTO:-0500
TZNAME:EST
DTSTART:20231105T060000
END:STANDARD
BEGIN:DAYLIGHT
TZOFFSETFROM:-0500
TZOFFSETTO:-0400
TZNAME:EDT
DTSTART:20240310T070000
END:DAYLIGHT
BEGIN:STANDARD
TZOFFSETFROM:-0400
TZOFFSETTO:-0500
TZNAME:EST
DTSTART:20241103T060000
END:STANDARD
END:VTIMEZONE
BEGIN:VEVENT
DTSTART;TZID=America/New_York:20230112T000000
DTEND;TZID=America/New_York:20230112T235959
DTSTAMP:20260422T133629
CREATED:20221223T195754Z
LAST-MODIFIED:20221223T195754Z
UID:10004374-1673481600-1673567999@housing.clemson.edu
SUMMARY:Spring 2023 Bridge Resident Housing Opens @ 8:00am
DESCRIPTION:
URL:https://housing.clemson.edu/event/spring-2023-bridge-resident-housing-opens-800am-2/
END:VEVENT
BEGIN:VEVENT
DTSTART;TZID=America/New_York:20230112T000000
DTEND;TZID=America/New_York:20230112T235959
DTSTAMP:20260422T133629
CREATED:20221223T195339Z
LAST-MODIFIED:20221223T195339Z
UID:10004328-1673481600-1673567999@housing.clemson.edu
SUMMARY:Spring 2023 Bridge Resident Housing Opens @ 8:00am
DESCRIPTION:
URL:https://housing.clemson.edu/event/spring-2023-bridge-resident-housing-opens-800am/
END:VEVENT
BEGIN:VEVENT
DTSTART;TZID=America/New_York:20230110T120000
DTEND;TZID=America/New_York:20230110T140000
DTSTAMP:20260422T133629
CREATED:20221223T213620Z
LAST-MODIFIED:20230110T055033Z
UID:10004419-1673352000-1673359200@housing.clemson.edu
SUMMARY:Taste Cart
DESCRIPTION:
URL:https://housing.clemson.edu/event/taste-cart-3/
LOCATION:McAlister Dining Hall (The Fresh Food Company)\, 511 Fort Hill St\, Clemson\, SC 29634\, USA
END:VEVENT
BEGIN:VEVENT
DTSTART;TZID=America/New_York:20230108T000000
DTEND;TZID=America/New_York:20230108T235959
DTSTAMP:20260422T133629
CREATED:20221223T195749Z
LAST-MODIFIED:20221223T195749Z
UID:10004373-1673136000-1673222399@housing.clemson.edu
SUMMARY:Spring 2023 Clemson Resident Housing Opens at 8:00am
DESCRIPTION:
URL:https://housing.clemson.edu/event/spring-2023-clemson-resident-housing-opens-at-800am-2/
END:VEVENT
BEGIN:VEVENT
DTSTART;TZID=America/New_York:20230108T000000
DTEND;TZID=America/New_York:20230108T235959
DTSTAMP:20260422T133629
CREATED:20221223T195332Z
LAST-MODIFIED:20221223T195332Z
UID:10004327-1673136000-1673222399@housing.clemson.edu
SUMMARY:Spring 2023 Clemson Resident Housing Opens at 8:00am
DESCRIPTION:
URL:https://housing.clemson.edu/event/spring-2023-clemson-resident-housing-opens-at-800am/
END:VEVENT
BEGIN:VEVENT
DTSTART;TZID=America/New_York:20230107T000000
DTEND;TZID=America/New_York:20230107T235959
DTSTAMP:20260422T133629
CREATED:20221223T195742Z
LAST-MODIFIED:20221223T195742Z
UID:10004372-1673049600-1673135999@housing.clemson.edu
SUMMARY:Spring 2023 Meal Plans Active
DESCRIPTION:
URL:https://housing.clemson.edu/event/spring-2023-meal-plans-active-2/
END:VEVENT
BEGIN:VEVENT
DTSTART;TZID=America/New_York:20230107T000000
DTEND;TZID=America/New_York:20230107T235959
DTSTAMP:20260422T133629
CREATED:20221223T195325Z
LAST-MODIFIED:20221223T195325Z
UID:10004326-1673049600-1673135999@housing.clemson.edu
SUMMARY:Spring 2023 Meal Plans Active
DESCRIPTION:
URL:https://housing.clemson.edu/event/spring-2023-meal-plans-active/
END:VEVENT
BEGIN:VEVENT
DTSTART;TZID=America/New_York:20230104T000000
DTEND;TZID=America/New_York:20230104T235959
DTSTAMP:20260422T133629
CREATED:20230905T165545Z
LAST-MODIFIED:20230905T165604Z
UID:10004486-1672790400-1672876799@housing.clemson.edu
SUMMARY:Bridge Spring Move-In
DESCRIPTION:
URL:https://housing.clemson.edu/event/bridge-spring-move-in/
END:VEVENT
BEGIN:VEVENT
DTSTART;TZID=America/New_York:20230104T000000
DTEND;TZID=America/New_York:20230104T235959
DTSTAMP:20260422T133629
CREATED:20221223T195738Z
LAST-MODIFIED:20221223T195738Z
UID:10004371-1672790400-1672876799@housing.clemson.edu
SUMMARY:Last Date for Spring 2023 Meal Plan Changes in Portal for Clemson Students
DESCRIPTION:
URL:https://housing.clemson.edu/event/last-date-for-spring-2023-meal-plan-changes-in-portal-for-clemson-students-2/
END:VEVENT
BEGIN:VEVENT
DTSTART;TZID=America/New_York:20230104T000000
DTEND;TZID=America/New_York:20230104T235959
DTSTAMP:20260422T133629
CREATED:20221223T195316Z
LAST-MODIFIED:20221223T195316Z
UID:10004325-1672790400-1672876799@housing.clemson.edu
SUMMARY:Last Date for Spring 2023 Meal Plan Changes in Portal for Clemson Students
DESCRIPTION:
URL:https://housing.clemson.edu/event/last-date-for-spring-2023-meal-plan-changes-in-portal-for-clemson-students/
END:VEVENT
BEGIN:VEVENT
DTSTART;TZID=America/New_York:20230103T120000
DTEND;TZID=America/New_York:20230103T140000
DTSTAMP:20260422T133629
CREATED:20221223T213606Z
LAST-MODIFIED:20230103T032033Z
UID:10004418-1672747200-1672754400@housing.clemson.edu
SUMMARY:Taste Cart
DESCRIPTION:
URL:https://housing.clemson.edu/event/taste-cart-2/
LOCATION:McAlister Dining Hall (The Fresh Food Company)\, 511 Fort Hill St\, Clemson\, SC 29634\, USA
END:VEVENT
BEGIN:VEVENT
DTSTART;TZID=America/New_York:20221227T120000
DTEND;TZID=America/New_York:20221227T140000
DTSTAMP:20260422T133629
CREATED:20221223T213554Z
LAST-MODIFIED:20221226T222043Z
UID:10004417-1672142400-1672149600@housing.clemson.edu
SUMMARY:Taste Cart
DESCRIPTION:
URL:https://housing.clemson.edu/event/taste-cart/
LOCATION:McAlister Dining Hall (The Fresh Food Company)\, 511 Fort Hill St\, Clemson\, SC 29634\, USA
END:VEVENT
END:VCALENDAR