BEGIN:VCALENDAR
VERSION:2.0
PRODID:-//Clemson Home - ECPv6.15.20//NONSGML v1.0//EN
CALSCALE:GREGORIAN
METHOD:PUBLISH
X-ORIGINAL-URL:https://housing.clemson.edu
X-WR-CALDESC:Events for Clemson Home
REFRESH-INTERVAL;VALUE=DURATION:PT1H
X-Robots-Tag:noindex
X-PUBLISHED-TTL:PT1H
BEGIN:VTIMEZONE
TZID:America/New_York
BEGIN:DAYLIGHT
TZOFFSETFROM:-0500
TZOFFSETTO:-0400
TZNAME:EDT
DTSTART:20230312T070000
END:DAYLIGHT
BEGIN:STANDARD
TZOFFSETFROM:-0400
TZOFFSETTO:-0500
TZNAME:EST
DTSTART:20231105T060000
END:STANDARD
BEGIN:DAYLIGHT
TZOFFSETFROM:-0500
TZOFFSETTO:-0400
TZNAME:EDT
DTSTART:20240310T070000
END:DAYLIGHT
BEGIN:STANDARD
TZOFFSETFROM:-0400
TZOFFSETTO:-0500
TZNAME:EST
DTSTART:20241103T060000
END:STANDARD
BEGIN:DAYLIGHT
TZOFFSETFROM:-0500
TZOFFSETTO:-0400
TZNAME:EDT
DTSTART:20250309T070000
END:DAYLIGHT
BEGIN:STANDARD
TZOFFSETFROM:-0400
TZOFFSETTO:-0500
TZNAME:EST
DTSTART:20251102T060000
END:STANDARD
END:VTIMEZONE
BEGIN:VEVENT
DTSTART;TZID=America/New_York:20240409T120000
DTEND;TZID=America/New_York:20240409T140000
DTSTAMP:20260420T180658
CREATED:20221222T213213Z
LAST-MODIFIED:20230612T214118Z
UID:10004289-1712664000-1712671200@housing.clemson.edu
SUMMARY:Taste Cart
DESCRIPTION:
URL:https://housing.clemson.edu/event/taste-cart-62/
LOCATION:McAlister Dining Hall (The Fresh Food Company)\, 511 Fort Hill St\, Clemson\, SC 29634\, USA
END:VEVENT
BEGIN:VEVENT
DTSTART;TZID=America/New_York:20240416T120000
DTEND;TZID=America/New_York:20240416T140000
DTSTAMP:20260420T180658
CREATED:20221222T213219Z
LAST-MODIFIED:20230612T214145Z
UID:10004290-1713268800-1713276000@housing.clemson.edu
SUMMARY:Taste Cart
DESCRIPTION:
URL:https://housing.clemson.edu/event/taste-cart-63/
LOCATION:McAlister Dining Hall (The Fresh Food Company)\, 511 Fort Hill St\, Clemson\, SC 29634\, USA
END:VEVENT
BEGIN:VEVENT
DTSTART;TZID=America/New_York:20240423T120000
DTEND;TZID=America/New_York:20240423T140000
DTSTAMP:20260420T180658
CREATED:20221222T213229Z
LAST-MODIFIED:20230612T214206Z
UID:10004291-1713873600-1713880800@housing.clemson.edu
SUMMARY:Taste Cart
DESCRIPTION:
URL:https://housing.clemson.edu/event/taste-cart-64/
LOCATION:McAlister Dining Hall (The Fresh Food Company)\, 511 Fort Hill St\, Clemson\, SC 29634\, USA
END:VEVENT
BEGIN:VEVENT
DTSTART;TZID=America/New_York:20240429T080000
DTEND;TZID=America/New_York:20240503T170000
DTSTAMP:20260420T180658
CREATED:20230808T123947Z
LAST-MODIFIED:20230808T124005Z
UID:10004471-1714377600-1714755600@housing.clemson.edu
SUMMARY:Spring 2024 Exams
DESCRIPTION:
URL:https://housing.clemson.edu/event/spring-2024-exams/
END:VEVENT
BEGIN:VEVENT
DTSTART;TZID=America/New_York:20240430T120000
DTEND;TZID=America/New_York:20240430T140000
DTSTAMP:20260420T180658
CREATED:20221222T213236Z
LAST-MODIFIED:20230612T214229Z
UID:10004292-1714478400-1714485600@housing.clemson.edu
SUMMARY:Taste Cart
DESCRIPTION:
URL:https://housing.clemson.edu/event/taste-cart-65/
LOCATION:McAlister Dining Hall (The Fresh Food Company)\, 511 Fort Hill St\, Clemson\, SC 29634\, USA
END:VEVENT
BEGIN:VEVENT
DTSTART;TZID=America/New_York:20240504T080000
DTEND;TZID=America/New_York:20240504T170000
DTSTAMP:20260420T180658
CREATED:20230808T124123Z
LAST-MODIFIED:20230808T124141Z
UID:10004472-1714809600-1714842000@housing.clemson.edu
SUMMARY:Move Out - All Students NOT Graduating
DESCRIPTION:
URL:https://housing.clemson.edu/event/move-out-all-students-not-graduating/
END:VEVENT
BEGIN:VEVENT
DTSTART;TZID=America/New_York:20240507T120000
DTEND;TZID=America/New_York:20240507T140000
DTSTAMP:20260420T180658
CREATED:20221222T213242Z
LAST-MODIFIED:20230612T214301Z
UID:10004293-1715083200-1715090400@housing.clemson.edu
SUMMARY:Taste Cart
DESCRIPTION:
URL:https://housing.clemson.edu/event/taste-cart-66/
LOCATION:McAlister Dining Hall (The Fresh Food Company)\, 511 Fort Hill St\, Clemson\, SC 29634\, USA
END:VEVENT
BEGIN:VEVENT
DTSTART;TZID=America/New_York:20240509T080000
DTEND;TZID=America/New_York:20240510T170000
DTSTAMP:20260420T180658
CREATED:20230808T124303Z
LAST-MODIFIED:20230808T124322Z
UID:10004473-1715241600-1715360400@housing.clemson.edu
SUMMARY:Spring Commencement
DESCRIPTION:
URL:https://housing.clemson.edu/event/spring-commencement/
END:VEVENT
BEGIN:VEVENT
DTSTART;TZID=America/New_York:20240510T080000
DTEND;TZID=America/New_York:20240510T170000
DTSTAMP:20260420T180658
CREATED:20230808T125415Z
LAST-MODIFIED:20230808T125433Z
UID:10004480-1715328000-1715360400@housing.clemson.edu
SUMMARY:Spring Meal Plans Deactivated
DESCRIPTION:
URL:https://housing.clemson.edu/event/spring-meal-plans-deactivated/
END:VEVENT
BEGIN:VEVENT
DTSTART;TZID=America/New_York:20240511T080000
DTEND;TZID=America/New_York:20240511T170000
DTSTAMP:20260420T180658
CREATED:20230808T124429Z
LAST-MODIFIED:20230808T124447Z
UID:10004474-1715414400-1715446800@housing.clemson.edu
SUMMARY:Move Out - All Students
DESCRIPTION:
URL:https://housing.clemson.edu/event/move-out-all-students/
END:VEVENT
BEGIN:VEVENT
DTSTART;TZID=America/New_York:20240514T120000
DTEND;TZID=America/New_York:20240514T140000
DTSTAMP:20260420T180658
CREATED:20221222T213251Z
LAST-MODIFIED:20230612T214322Z
UID:10004294-1715688000-1715695200@housing.clemson.edu
SUMMARY:Taste Cart
DESCRIPTION:
URL:https://housing.clemson.edu/event/taste-cart-67/
LOCATION:McAlister Dining Hall (The Fresh Food Company)\, 511 Fort Hill St\, Clemson\, SC 29634\, USA
END:VEVENT
BEGIN:VEVENT
DTSTART;TZID=America/New_York:20240521T120000
DTEND;TZID=America/New_York:20240521T140000
DTSTAMP:20260420T180658
CREATED:20221222T213258Z
LAST-MODIFIED:20230612T214352Z
UID:10004295-1716292800-1716300000@housing.clemson.edu
SUMMARY:Taste Cart
DESCRIPTION:
URL:https://housing.clemson.edu/event/taste-cart-68/
LOCATION:McAlister Dining Hall (The Fresh Food Company)\, 511 Fort Hill St\, Clemson\, SC 29634\, USA
END:VEVENT
BEGIN:VEVENT
DTSTART;TZID=America/New_York:20240528T120000
DTEND;TZID=America/New_York:20240528T140000
DTSTAMP:20260420T180658
CREATED:20221222T213305Z
LAST-MODIFIED:20230612T214413Z
UID:10004296-1716897600-1716904800@housing.clemson.edu
SUMMARY:Taste Cart
DESCRIPTION:
URL:https://housing.clemson.edu/event/taste-cart-69/
LOCATION:McAlister Dining Hall (The Fresh Food Company)\, 511 Fort Hill St\, Clemson\, SC 29634\, USA
END:VEVENT
BEGIN:VEVENT
DTSTART;TZID=America/New_York:20240604T120000
DTEND;TZID=America/New_York:20240604T140000
DTSTAMP:20260420T180658
CREATED:20221222T213315Z
LAST-MODIFIED:20230612T214437Z
UID:10004297-1717502400-1717509600@housing.clemson.edu
SUMMARY:Taste Cart
DESCRIPTION:
URL:https://housing.clemson.edu/event/taste-cart-70/
LOCATION:McAlister Dining Hall (The Fresh Food Company)\, 511 Fort Hill St\, Clemson\, SC 29634\, USA
END:VEVENT
BEGIN:VEVENT
DTSTART;TZID=America/New_York:20240611T120000
DTEND;TZID=America/New_York:20240611T140000
DTSTAMP:20260420T180658
CREATED:20221222T213322Z
LAST-MODIFIED:20230612T214459Z
UID:10004298-1718107200-1718114400@housing.clemson.edu
SUMMARY:Taste Cart
DESCRIPTION:
URL:https://housing.clemson.edu/event/taste-cart-71/
LOCATION:McAlister Dining Hall (The Fresh Food Company)\, 511 Fort Hill St\, Clemson\, SC 29634\, USA
END:VEVENT
BEGIN:VEVENT
DTSTART;TZID=America/New_York:20240618T120000
DTEND;TZID=America/New_York:20240618T140000
DTSTAMP:20260420T180658
CREATED:20221222T213330Z
LAST-MODIFIED:20230612T214526Z
UID:10004299-1718712000-1718719200@housing.clemson.edu
SUMMARY:Taste Cart
DESCRIPTION:
URL:https://housing.clemson.edu/event/taste-cart-72/
LOCATION:McAlister Dining Hall (The Fresh Food Company)\, 511 Fort Hill St\, Clemson\, SC 29634\, USA
END:VEVENT
BEGIN:VEVENT
DTSTART;TZID=America/New_York:20240625T120000
DTEND;TZID=America/New_York:20240625T140000
DTSTAMP:20260420T180658
CREATED:20221222T213340Z
LAST-MODIFIED:20230612T214557Z
UID:10004300-1719316800-1719324000@housing.clemson.edu
SUMMARY:Taste Cart
DESCRIPTION:
URL:https://housing.clemson.edu/event/taste-cart-73/
LOCATION:McAlister Dining Hall (The Fresh Food Company)\, 511 Fort Hill St\, Clemson\, SC 29634\, USA
END:VEVENT
BEGIN:VEVENT
DTSTART;TZID=America/New_York:20240702T120000
DTEND;TZID=America/New_York:20240702T140000
DTSTAMP:20260420T180658
CREATED:20221222T213346Z
LAST-MODIFIED:20230612T214628Z
UID:10004301-1719921600-1719928800@housing.clemson.edu
SUMMARY:Taste Cart
DESCRIPTION:
URL:https://housing.clemson.edu/event/taste-cart-74/
LOCATION:McAlister Dining Hall (The Fresh Food Company)\, 511 Fort Hill St\, Clemson\, SC 29634\, USA
END:VEVENT
BEGIN:VEVENT
DTSTART;TZID=America/New_York:20240709T120000
DTEND;TZID=America/New_York:20240709T140000
DTSTAMP:20260420T180658
CREATED:20221222T213353Z
LAST-MODIFIED:20230612T214658Z
UID:10004302-1720526400-1720533600@housing.clemson.edu
SUMMARY:Taste Cart
DESCRIPTION:
URL:https://housing.clemson.edu/event/taste-cart-75/
LOCATION:McAlister Dining Hall (The Fresh Food Company)\, 511 Fort Hill St\, Clemson\, SC 29634\, USA
END:VEVENT
BEGIN:VEVENT
DTSTART;TZID=America/New_York:20240716T120000
DTEND;TZID=America/New_York:20240716T140000
DTSTAMP:20260420T180658
CREATED:20221222T213406Z
LAST-MODIFIED:20230612T214718Z
UID:10004303-1721131200-1721138400@housing.clemson.edu
SUMMARY:Taste Cart
DESCRIPTION:
URL:https://housing.clemson.edu/event/taste-cart-76/
LOCATION:McAlister Dining Hall (The Fresh Food Company)\, 511 Fort Hill St\, Clemson\, SC 29634\, USA
END:VEVENT
BEGIN:VEVENT
DTSTART;TZID=America/New_York:20240722T000000
DTEND;TZID=America/New_York:20240722T235959
DTSTAMP:20260420T180658
CREATED:20240721T041038Z
LAST-MODIFIED:20240721T041038Z
UID:10004488-1721606400-1721692799@housing.clemson.edu
SUMMARY:Last Date to Purchase Summer Meal Plan
DESCRIPTION:
URL:https://housing.clemson.edu/event/last-date-to-purchase-summer-meal-plan/
END:VEVENT
BEGIN:VEVENT
DTSTART;TZID=America/New_York:20240723T120000
DTEND;TZID=America/New_York:20240723T140000
DTSTAMP:20260420T180658
CREATED:20221222T213414Z
LAST-MODIFIED:20230612T214738Z
UID:10004304-1721736000-1721743200@housing.clemson.edu
SUMMARY:Taste Cart
DESCRIPTION:
URL:https://housing.clemson.edu/event/taste-cart-77/
LOCATION:McAlister Dining Hall (The Fresh Food Company)\, 511 Fort Hill St\, Clemson\, SC 29634\, USA
END:VEVENT
BEGIN:VEVENT
DTSTART;TZID=America/New_York:20240730T120000
DTEND;TZID=America/New_York:20240730T140000
DTSTAMP:20260420T180658
CREATED:20221222T213424Z
LAST-MODIFIED:20230612T214759Z
UID:10004305-1722340800-1722348000@housing.clemson.edu
SUMMARY:Taste Cart
DESCRIPTION:
URL:https://housing.clemson.edu/event/taste-cart-78/
LOCATION:McAlister Dining Hall (The Fresh Food Company)\, 511 Fort Hill St\, Clemson\, SC 29634\, USA
END:VEVENT
BEGIN:VEVENT
DTSTART;TZID=America/New_York:20240806T000000
DTEND;TZID=America/New_York:20240806T235959
DTSTAMP:20260420T180658
CREATED:20240721T041056Z
LAST-MODIFIED:20240721T041056Z
UID:10004489-1722902400-1722988799@housing.clemson.edu
SUMMARY:Summer Start\, Summer & Second Summer Session Housing Move-Out
DESCRIPTION:
URL:https://housing.clemson.edu/event/summer-start-summer-second-summer-session-housing-move-out/
END:VEVENT
BEGIN:VEVENT
DTSTART;TZID=America/New_York:20240806T120000
DTEND;TZID=America/New_York:20240806T140000
DTSTAMP:20260420T180658
CREATED:20221222T213432Z
LAST-MODIFIED:20230612T214825Z
UID:10004306-1722945600-1722952800@housing.clemson.edu
SUMMARY:Taste Cart
DESCRIPTION:
URL:https://housing.clemson.edu/event/taste-cart-79/
LOCATION:McAlister Dining Hall (The Fresh Food Company)\, 511 Fort Hill St\, Clemson\, SC 29634\, USA
END:VEVENT
BEGIN:VEVENT
DTSTART;TZID=America/New_York:20240807T000000
DTEND;TZID=America/New_York:20240807T235959
DTSTAMP:20260420T180658
CREATED:20240721T041111Z
LAST-MODIFIED:20240721T041111Z
UID:10004490-1722988800-1723075199@housing.clemson.edu
SUMMARY:Last Date to Change Fall 2024 Meal Plan in Portal
DESCRIPTION:
URL:https://housing.clemson.edu/event/last-date-to-change-fall-2024-meal-plan-in-portal/
END:VEVENT
BEGIN:VEVENT
DTSTART;TZID=America/New_York:20240807T000000
DTEND;TZID=America/New_York:20240807T235959
DTSTAMP:20260420T180658
CREATED:20240721T041135Z
LAST-MODIFIED:20240721T041135Z
UID:10004491-1722988800-1723075199@housing.clemson.edu
SUMMARY:Summer Meal Plans Deactivated
DESCRIPTION:
URL:https://housing.clemson.edu/event/summer-meal-plans-deactivated/
END:VEVENT
BEGIN:VEVENT
DTSTART;TZID=America/New_York:20240812T000000
DTEND;TZID=America/New_York:20240812T235959
DTSTAMP:20260420T180658
CREATED:20240721T041154Z
LAST-MODIFIED:20240721T041154Z
UID:10004492-1723420800-1723507199@housing.clemson.edu
SUMMARY:Fall 2024 Move-In for Sorority Members & Approved Early Arrivals (Appointments 7am-1pm)
DESCRIPTION:
URL:https://housing.clemson.edu/event/fall-2024-move-in-for-sorority-members-approved-early-arrivals-appointments-7am-1pm/
END:VEVENT
BEGIN:VEVENT
DTSTART;TZID=America/New_York:20240813T000000
DTEND;TZID=America/New_York:20240813T235959
DTSTAMP:20260420T180658
CREATED:20240721T041207Z
LAST-MODIFIED:20240721T041207Z
UID:10004493-1723507200-1723593599@housing.clemson.edu
SUMMARY:Fall 2024 Move-In for Sorority Recruitment & Approved Early Arrivals (Appointments 7am-4pm)
DESCRIPTION:
URL:https://housing.clemson.edu/event/fall-2024-move-in-for-sorority-recruitment-approved-early-arrivals-appointments-7am-4pm/
END:VEVENT
BEGIN:VEVENT
DTSTART;TZID=America/New_York:20240813T000000
DTEND;TZID=America/New_York:20240813T235959
DTSTAMP:20260420T180658
CREATED:20240721T041230Z
LAST-MODIFIED:20240721T041230Z
UID:10004494-1723507200-1723593599@housing.clemson.edu
SUMMARY:Fall 2024 Meal Plans Active
DESCRIPTION:
URL:https://housing.clemson.edu/event/fall-2024-meal-plans-active/
END:VEVENT
END:VCALENDAR