BEGIN:VCALENDAR
VERSION:2.0
PRODID:-//Clemson Home - ECPv6.15.20//NONSGML v1.0//EN
CALSCALE:GREGORIAN
METHOD:PUBLISH
X-ORIGINAL-URL:https://housing.clemson.edu
X-WR-CALDESC:Events for Clemson Home
REFRESH-INTERVAL;VALUE=DURATION:PT1H
X-Robots-Tag:noindex
X-PUBLISHED-TTL:PT1H
BEGIN:VTIMEZONE
TZID:America/New_York
BEGIN:DAYLIGHT
TZOFFSETFROM:-0500
TZOFFSETTO:-0400
TZNAME:EDT
DTSTART:20220313T070000
END:DAYLIGHT
BEGIN:STANDARD
TZOFFSETFROM:-0400
TZOFFSETTO:-0500
TZNAME:EST
DTSTART:20221106T060000
END:STANDARD
BEGIN:DAYLIGHT
TZOFFSETFROM:-0500
TZOFFSETTO:-0400
TZNAME:EDT
DTSTART:20230312T070000
END:DAYLIGHT
BEGIN:STANDARD
TZOFFSETFROM:-0400
TZOFFSETTO:-0500
TZNAME:EST
DTSTART:20231105T060000
END:STANDARD
BEGIN:DAYLIGHT
TZOFFSETFROM:-0500
TZOFFSETTO:-0400
TZNAME:EDT
DTSTART:20240310T070000
END:DAYLIGHT
BEGIN:STANDARD
TZOFFSETFROM:-0400
TZOFFSETTO:-0500
TZNAME:EST
DTSTART:20241103T060000
END:STANDARD
END:VTIMEZONE
BEGIN:VEVENT
DTSTART;TZID=America/New_York:20230310T000000
DTEND;TZID=America/New_York:20230310T235959
DTSTAMP:20260425T145613
CREATED:20221223T195500Z
LAST-MODIFIED:20221223T195500Z
UID:10004341-1678406400-1678492799@housing.clemson.edu
SUMMARY:Paw Point 10% Discount Week
DESCRIPTION:
URL:https://housing.clemson.edu/event/paw-point-10-discount-week-5/
END:VEVENT
BEGIN:VEVENT
DTSTART;TZID=America/New_York:20230310T000000
DTEND;TZID=America/New_York:20230310T235959
DTSTAMP:20260425T145613
CREATED:20221223T195858Z
LAST-MODIFIED:20221223T195858Z
UID:10004387-1678406400-1678492799@housing.clemson.edu
SUMMARY:Paw Point 10% Discount Week
DESCRIPTION:
URL:https://housing.clemson.edu/event/paw-point-10-discount-week-12/
END:VEVENT
BEGIN:VEVENT
DTSTART;TZID=America/New_York:20230311T000000
DTEND;TZID=America/New_York:20230311T235959
DTSTAMP:20260425T145613
CREATED:20221223T195505Z
LAST-MODIFIED:20221223T195505Z
UID:10004342-1678492800-1678579199@housing.clemson.edu
SUMMARY:Paw Point 10% Discount Week
DESCRIPTION:
URL:https://housing.clemson.edu/event/paw-point-10-discount-week-6/
END:VEVENT
BEGIN:VEVENT
DTSTART;TZID=America/New_York:20230311T000000
DTEND;TZID=America/New_York:20230311T235959
DTSTAMP:20260425T145613
CREATED:20221223T195903Z
LAST-MODIFIED:20221223T195903Z
UID:10004388-1678492800-1678579199@housing.clemson.edu
SUMMARY:Paw Point 10% Discount Week
DESCRIPTION:
URL:https://housing.clemson.edu/event/paw-point-10-discount-week-13/
END:VEVENT
BEGIN:VEVENT
DTSTART;TZID=America/New_York:20230312T000000
DTEND;TZID=America/New_York:20230312T235959
DTSTAMP:20260425T145613
CREATED:20221223T195510Z
LAST-MODIFIED:20221223T195510Z
UID:10004343-1678579200-1678665599@housing.clemson.edu
SUMMARY:Paw Point 10% Discount Week
DESCRIPTION:
URL:https://housing.clemson.edu/event/paw-point-10-discount-week-7/
END:VEVENT
BEGIN:VEVENT
DTSTART;TZID=America/New_York:20230312T000000
DTEND;TZID=America/New_York:20230312T235959
DTSTAMP:20260425T145613
CREATED:20221223T195906Z
LAST-MODIFIED:20221223T195906Z
UID:10004389-1678579200-1678665599@housing.clemson.edu
SUMMARY:Paw Point 10% Discount Week
DESCRIPTION:
URL:https://housing.clemson.edu/event/paw-point-10-discount-week-14/
END:VEVENT
BEGIN:VEVENT
DTSTART;TZID=America/New_York:20230314T120000
DTEND;TZID=America/New_York:20230314T140000
DTSTAMP:20260425T145613
CREATED:20221222T212417Z
LAST-MODIFIED:20230314T122115Z
UID:10004233-1678795200-1678802400@housing.clemson.edu
SUMMARY:Taste Cart
DESCRIPTION:
URL:https://housing.clemson.edu/event/taste-cart-11/
LOCATION:McAlister Dining Hall (The Fresh Food Company)\, 511 Fort Hill St\, Clemson\, SC 29634\, USA
END:VEVENT
BEGIN:VEVENT
DTSTART;TZID=America/New_York:20230315T163000
DTEND;TZID=America/New_York:20230315T210000
DTSTAMP:20260425T145613
CREATED:20230315T184156Z
LAST-MODIFIED:20230315T184212Z
UID:10004442-1678897800-1678914000@housing.clemson.edu
SUMMARY:Retro Night Dinner
DESCRIPTION:Join us for a blast to the past at Schilletter!
URL:https://housing.clemson.edu/event/retro-night-dinner/
LOCATION:Schilletter Dining Hall\, 238 Bryan Cir\, Clemson\, SC 29631\, USA
CATEGORIES:Dining
ATTACH;FMTTYPE=image/png:https://housing.clemson.edu/wp-content/uploads/2023/03/retronight-tv.png
END:VEVENT
BEGIN:VEVENT
DTSTART;TZID=America/New_York:20230320T000000
DTEND;TZID=America/New_York:20230320T235959
DTSTAMP:20260425T145614
CREATED:20221223T195517Z
LAST-MODIFIED:20221223T195517Z
UID:10004344-1679270400-1679356799@housing.clemson.edu
SUMMARY:Student Spring Break
DESCRIPTION:
URL:https://housing.clemson.edu/event/student-spring-break/
END:VEVENT
BEGIN:VEVENT
DTSTART;TZID=America/New_York:20230320T000000
DTEND;TZID=America/New_York:20230320T235959
DTSTAMP:20260425T145614
CREATED:20221223T195911Z
LAST-MODIFIED:20221223T195911Z
UID:10004390-1679270400-1679356799@housing.clemson.edu
SUMMARY:Student Spring Break
DESCRIPTION:
URL:https://housing.clemson.edu/event/student-spring-break-6/
END:VEVENT
BEGIN:VEVENT
DTSTART;TZID=America/New_York:20230321T000000
DTEND;TZID=America/New_York:20230321T235959
DTSTAMP:20260425T145614
CREATED:20221223T195522Z
LAST-MODIFIED:20221223T195522Z
UID:10004345-1679356800-1679443199@housing.clemson.edu
SUMMARY:Student Spring Break
DESCRIPTION:
URL:https://housing.clemson.edu/event/student-spring-break-2/
END:VEVENT
BEGIN:VEVENT
DTSTART;TZID=America/New_York:20230321T000000
DTEND;TZID=America/New_York:20230321T235959
DTSTAMP:20260425T145614
CREATED:20221223T195918Z
LAST-MODIFIED:20221223T195918Z
UID:10004391-1679356800-1679443199@housing.clemson.edu
SUMMARY:Student Spring Break
DESCRIPTION:
URL:https://housing.clemson.edu/event/student-spring-break-7/
END:VEVENT
BEGIN:VEVENT
DTSTART;TZID=America/New_York:20230321T120000
DTEND;TZID=America/New_York:20230321T140000
DTSTAMP:20260425T145614
CREATED:20221222T212426Z
LAST-MODIFIED:20230321T155127Z
UID:10004234-1679400000-1679407200@housing.clemson.edu
SUMMARY:Taste Cart
DESCRIPTION:
URL:https://housing.clemson.edu/event/taste-cart-12/
LOCATION:McAlister Dining Hall (The Fresh Food Company)\, 511 Fort Hill St\, Clemson\, SC 29634\, USA
END:VEVENT
BEGIN:VEVENT
DTSTART;TZID=America/New_York:20230322T000000
DTEND;TZID=America/New_York:20230322T235959
DTSTAMP:20260425T145614
CREATED:20221223T195527Z
LAST-MODIFIED:20221223T195527Z
UID:10004346-1679443200-1679529599@housing.clemson.edu
SUMMARY:Student Spring Break
DESCRIPTION:
URL:https://housing.clemson.edu/event/student-spring-break-3/
END:VEVENT
BEGIN:VEVENT
DTSTART;TZID=America/New_York:20230322T000000
DTEND;TZID=America/New_York:20230322T235959
DTSTAMP:20260425T145614
CREATED:20221223T195922Z
LAST-MODIFIED:20221223T195922Z
UID:10004392-1679443200-1679529599@housing.clemson.edu
SUMMARY:Student Spring Break
DESCRIPTION:
URL:https://housing.clemson.edu/event/student-spring-break-8/
END:VEVENT
BEGIN:VEVENT
DTSTART;TZID=America/New_York:20230323T000000
DTEND;TZID=America/New_York:20230323T235959
DTSTAMP:20260425T145614
CREATED:20221223T195532Z
LAST-MODIFIED:20221223T195532Z
UID:10004347-1679529600-1679615999@housing.clemson.edu
SUMMARY:Student Spring Break
DESCRIPTION:
URL:https://housing.clemson.edu/event/student-spring-break-4/
END:VEVENT
BEGIN:VEVENT
DTSTART;TZID=America/New_York:20230323T000000
DTEND;TZID=America/New_York:20230323T235959
DTSTAMP:20260425T145614
CREATED:20221223T195926Z
LAST-MODIFIED:20221223T195926Z
UID:10004393-1679529600-1679615999@housing.clemson.edu
SUMMARY:Student Spring Break
DESCRIPTION:
URL:https://housing.clemson.edu/event/student-spring-break-9/
END:VEVENT
BEGIN:VEVENT
DTSTART;TZID=America/New_York:20230324T000000
DTEND;TZID=America/New_York:20230324T235959
DTSTAMP:20260425T145614
CREATED:20221223T195540Z
LAST-MODIFIED:20221223T195540Z
UID:10004348-1679616000-1679702399@housing.clemson.edu
SUMMARY:Last Date to Purchase Spring 2023 Meal Plan
DESCRIPTION:
URL:https://housing.clemson.edu/event/last-date-to-purchase-spring-2023-meal-plan/
END:VEVENT
BEGIN:VEVENT
DTSTART;TZID=America/New_York:20230324T000000
DTEND;TZID=America/New_York:20230324T235959
DTSTAMP:20260425T145614
CREATED:20221223T195544Z
LAST-MODIFIED:20221223T195544Z
UID:10004349-1679616000-1679702399@housing.clemson.edu
SUMMARY:Spring 2023 Room Change Form Closes in Portal
DESCRIPTION:
URL:https://housing.clemson.edu/event/spring-2023-room-change-form-closes-in-portal/
END:VEVENT
BEGIN:VEVENT
DTSTART;TZID=America/New_York:20230324T000000
DTEND;TZID=America/New_York:20230324T235959
DTSTAMP:20260425T145614
CREATED:20221223T195549Z
LAST-MODIFIED:20221223T195549Z
UID:10004350-1679616000-1679702399@housing.clemson.edu
SUMMARY:Student Spring Break
DESCRIPTION:
URL:https://housing.clemson.edu/event/student-spring-break-5/
END:VEVENT
BEGIN:VEVENT
DTSTART;TZID=America/New_York:20230324T000000
DTEND;TZID=America/New_York:20230324T235959
DTSTAMP:20260425T145614
CREATED:20221223T195930Z
LAST-MODIFIED:20221223T195930Z
UID:10004394-1679616000-1679702399@housing.clemson.edu
SUMMARY:Last Date to Purchase Spring 2023 Meal Plan
DESCRIPTION:
URL:https://housing.clemson.edu/event/last-date-to-purchase-spring-2023-meal-plan-2/
END:VEVENT
BEGIN:VEVENT
DTSTART;TZID=America/New_York:20230324T000000
DTEND;TZID=America/New_York:20230324T235959
DTSTAMP:20260425T145614
CREATED:20221223T195935Z
LAST-MODIFIED:20221223T195935Z
UID:10004395-1679616000-1679702399@housing.clemson.edu
SUMMARY:Spring 2023 Room Change Form Closes in Portal
DESCRIPTION:
URL:https://housing.clemson.edu/event/spring-2023-room-change-form-closes-in-portal-2/
END:VEVENT
BEGIN:VEVENT
DTSTART;TZID=America/New_York:20230324T000000
DTEND;TZID=America/New_York:20230324T235959
DTSTAMP:20260425T145614
CREATED:20221223T195941Z
LAST-MODIFIED:20221223T195941Z
UID:10004396-1679616000-1679702399@housing.clemson.edu
SUMMARY:Student Spring Break
DESCRIPTION:
URL:https://housing.clemson.edu/event/student-spring-break-10/
END:VEVENT
BEGIN:VEVENT
DTSTART;TZID=America/New_York:20230328T120000
DTEND;TZID=America/New_York:20230328T140000
DTSTAMP:20260425T145614
CREATED:20221222T212437Z
LAST-MODIFIED:20230327T190546Z
UID:10004235-1680004800-1680012000@housing.clemson.edu
SUMMARY:Taste Cart
DESCRIPTION:
URL:https://housing.clemson.edu/event/taste-cart-13/
LOCATION:McAlister Dining Hall (The Fresh Food Company)\, 511 Fort Hill St\, Clemson\, SC 29634\, USA
END:VEVENT
BEGIN:VEVENT
DTSTART;TZID=America/New_York:20230401T000000
DTEND;TZID=America/New_York:20230401T235959
DTSTAMP:20260425T145614
CREATED:20221223T195554Z
LAST-MODIFIED:20221223T195554Z
UID:10004351-1680307200-1680393599@housing.clemson.edu
SUMMARY:Spring 2023 Housing Late Stay Form Opens
DESCRIPTION:
URL:https://housing.clemson.edu/event/spring-2023-housing-late-stay-form-opens/
END:VEVENT
BEGIN:VEVENT
DTSTART;TZID=America/New_York:20230401T000000
DTEND;TZID=America/New_York:20230401T235959
DTSTAMP:20260425T145614
CREATED:20221223T195945Z
LAST-MODIFIED:20221223T195945Z
UID:10004397-1680307200-1680393599@housing.clemson.edu
SUMMARY:Spring 2023 Housing Late Stay Form Opens
DESCRIPTION:
URL:https://housing.clemson.edu/event/spring-2023-housing-late-stay-form-opens-2/
END:VEVENT
BEGIN:VEVENT
DTSTART;TZID=America/New_York:20230404T120000
DTEND;TZID=America/New_York:20230404T140000
DTSTAMP:20260425T145614
CREATED:20221222T212445Z
LAST-MODIFIED:20230403T223558Z
UID:10004236-1680609600-1680616800@housing.clemson.edu
SUMMARY:Taste Cart
DESCRIPTION:
URL:https://housing.clemson.edu/event/taste-cart-7/
LOCATION:McAlister Dining Hall (The Fresh Food Company)\, 511 Fort Hill St\, Clemson\, SC 29634\, USA
END:VEVENT
BEGIN:VEVENT
DTSTART;TZID=America/New_York:20230411T120000
DTEND;TZID=America/New_York:20230411T140000
DTSTAMP:20260425T145614
CREATED:20221222T212456Z
LAST-MODIFIED:20230411T043612Z
UID:10004237-1681214400-1681221600@housing.clemson.edu
SUMMARY:Taste Cart
DESCRIPTION:
URL:https://housing.clemson.edu/event/taste-cart-8/
LOCATION:McAlister Dining Hall (The Fresh Food Company)\, 511 Fort Hill St\, Clemson\, SC 29634\, USA
END:VEVENT
BEGIN:VEVENT
DTSTART;TZID=America/New_York:20230418T120000
DTEND;TZID=America/New_York:20230418T140000
DTSTAMP:20260425T145614
CREATED:20221222T212505Z
LAST-MODIFIED:20230418T080822Z
UID:10004238-1681819200-1681826400@housing.clemson.edu
SUMMARY:Taste Cart
DESCRIPTION:
URL:https://housing.clemson.edu/event/taste-cart-6/
LOCATION:McAlister Dining Hall (The Fresh Food Company)\, 511 Fort Hill St\, Clemson\, SC 29634\, USA
END:VEVENT
BEGIN:VEVENT
DTSTART;TZID=America/New_York:20230425T120000
DTEND;TZID=America/New_York:20230425T140000
DTSTAMP:20260425T145614
CREATED:20221222T212514Z
LAST-MODIFIED:20230425T113733Z
UID:10004239-1682424000-1682431200@housing.clemson.edu
SUMMARY:Taste Cart
DESCRIPTION:
URL:https://housing.clemson.edu/event/taste-cart-9/
LOCATION:McAlister Dining Hall (The Fresh Food Company)\, 511 Fort Hill St\, Clemson\, SC 29634\, USA
END:VEVENT
END:VCALENDAR