BEGIN:VCALENDAR
VERSION:2.0
PRODID:-//Clemson Home - ECPv6.15.20//NONSGML v1.0//EN
CALSCALE:GREGORIAN
METHOD:PUBLISH
X-ORIGINAL-URL:https://housing.clemson.edu
X-WR-CALDESC:Events for Clemson Home
REFRESH-INTERVAL;VALUE=DURATION:PT1H
X-Robots-Tag:noindex
X-PUBLISHED-TTL:PT1H
BEGIN:VTIMEZONE
TZID:America/New_York
BEGIN:DAYLIGHT
TZOFFSETFROM:-0500
TZOFFSETTO:-0400
TZNAME:EDT
DTSTART:20240310T070000
END:DAYLIGHT
BEGIN:STANDARD
TZOFFSETFROM:-0400
TZOFFSETTO:-0500
TZNAME:EST
DTSTART:20241103T060000
END:STANDARD
BEGIN:DAYLIGHT
TZOFFSETFROM:-0500
TZOFFSETTO:-0400
TZNAME:EDT
DTSTART:20250309T070000
END:DAYLIGHT
BEGIN:STANDARD
TZOFFSETFROM:-0400
TZOFFSETTO:-0500
TZNAME:EST
DTSTART:20251102T060000
END:STANDARD
BEGIN:DAYLIGHT
TZOFFSETFROM:-0500
TZOFFSETTO:-0400
TZNAME:EDT
DTSTART:20260308T070000
END:DAYLIGHT
BEGIN:STANDARD
TZOFFSETFROM:-0400
TZOFFSETTO:-0500
TZNAME:EST
DTSTART:20261101T060000
END:STANDARD
END:VTIMEZONE
BEGIN:VEVENT
DTSTART;TZID=America/New_York:20251126T000000
DTEND;TZID=America/New_York:20251126T235959
DTSTAMP:20260420T184143
CREATED:20250819T125025Z
LAST-MODIFIED:20251124T150216Z
UID:10004614-1764115200-1764201599@housing.clemson.edu
SUMMARY:2025 Second Fall - Thanksgiving holidays
DESCRIPTION:Thanksgiving holidays (Classes do not meet\, University closed Thursday & Friday)
URL:https://housing.clemson.edu/event/2025-second-fall-thanksgiving-holidays-2/
CATEGORIES:Academic Calendar
ATTACH;FMTTYPE=image/jpeg:https://housing.clemson.edu/wp-content/uploads/2025/09/786_reg-brand.rev_.1756237141-Rptdml.jpg
END:VEVENT
BEGIN:VEVENT
DTSTART;TZID=America/New_York:20251126T000000
DTEND;TZID=America/New_York:20251126T235959
DTSTAMP:20260420T184143
CREATED:20250819T125026Z
LAST-MODIFIED:20251124T150216Z
UID:10004615-1764115200-1764201599@housing.clemson.edu
SUMMARY:2025 Fall Mini D - Thanksgiving holidays
DESCRIPTION:Thanksgiving holidays (Classes do not meet\, University closed Thursday & Friday)
URL:https://housing.clemson.edu/event/2025-fall-mini-d-thanksgiving-holidays/
CATEGORIES:Academic Calendar
ATTACH;FMTTYPE=image/jpeg:https://housing.clemson.edu/wp-content/uploads/2025/09/786_reg-brand.rev_.1756237141-Rptdml.jpg
END:VEVENT
BEGIN:VEVENT
DTSTART;TZID=America/New_York:20251126T000000
DTEND;TZID=America/New_York:20251126T235959
DTSTAMP:20260420T184143
CREATED:20250819T125026Z
LAST-MODIFIED:20250822T130120Z
UID:10004616-1764115200-1764201599@housing.clemson.edu
SUMMARY:2025 Second Fall - Thanksgiving holidays
DESCRIPTION:Thanksgiving holidays (Classes do not meet\, University closed Thursday & Friday)
URL:https://housing.clemson.edu/event/2025-second-fall-thanksgiving-holidays-3/
CATEGORIES:Academic Calendar
ATTACH;FMTTYPE=image/jpeg:https://housing.clemson.edu/wp-content/uploads/2025/08/17_6786f9ade2e49_430e098d4318d1511405a272cfad352bbdde5bea.rev_.1736898990-84XcUg.jpg
END:VEVENT
BEGIN:VEVENT
DTSTART;TZID=America/New_York:20251126T000000
DTEND;TZID=America/New_York:20251126T235959
DTSTAMP:20260420T184143
CREATED:20250819T125026Z
LAST-MODIFIED:20250822T130120Z
UID:10004617-1764115200-1764201599@housing.clemson.edu
SUMMARY:2025 Fall Mini D - Thanksgiving holidays
DESCRIPTION:Thanksgiving holidays (Classes do not meet\, University closed Thursday & Friday)
URL:https://housing.clemson.edu/event/2025-fall-mini-d-thanksgiving-holidays-2/
CATEGORIES:Academic Calendar
ATTACH;FMTTYPE=image/jpeg:https://housing.clemson.edu/wp-content/uploads/2025/08/17_6786f9ade2e49_430e098d4318d1511405a272cfad352bbdde5bea.rev_.1736898990-84XcUg.jpg
END:VEVENT
BEGIN:VEVENT
DTSTART;TZID=America/New_York:20251126T000000
DTEND;TZID=America/New_York:20251126T235959
DTSTAMP:20260420T184143
CREATED:20250819T125026Z
LAST-MODIFIED:20250822T130120Z
UID:10004618-1764115200-1764201599@housing.clemson.edu
SUMMARY:2025 Fall Mini D - Thanksgiving holidays
DESCRIPTION:Thanksgiving holidays (Classes do not meet\, University closed Thursday & Friday)
URL:https://housing.clemson.edu/event/2025-fall-mini-d-thanksgiving-holidays-3/
CATEGORIES:Academic Calendar
ATTACH;FMTTYPE=image/jpeg:https://housing.clemson.edu/wp-content/uploads/2025/08/17_6786f9ade2e49_430e098d4318d1511405a272cfad352bbdde5bea.rev_.1736898990-84XcUg.jpg
END:VEVENT
BEGIN:VEVENT
DTSTART;TZID=America/New_York:20251126T000000
DTEND;TZID=America/New_York:20251126T235959
DTSTAMP:20260420T184143
CREATED:20250819T125026Z
LAST-MODIFIED:20251124T150216Z
UID:10004620-1764115200-1764201599@housing.clemson.edu
SUMMARY:2025 Fall Semester - Thanksgiving holidays
DESCRIPTION:Thanksgiving holidays (Classes do not meet\, University closed Thursday & Friday)
URL:https://housing.clemson.edu/event/2025-fall-semester-thanksgiving-holidays-2/
CATEGORIES:Academic Calendar
ATTACH;FMTTYPE=image/jpeg:https://housing.clemson.edu/wp-content/uploads/2025/09/786_reg-brand.rev_.1756237141-Rptdml.jpg
END:VEVENT
BEGIN:VEVENT
DTSTART;TZID=America/New_York:20251126T000000
DTEND;TZID=America/New_York:20251126T235959
DTSTAMP:20260420T184143
CREATED:20250902T154910Z
LAST-MODIFIED:20251113T190313Z
UID:10005126-1764115200-1764201599@housing.clemson.edu
SUMMARY:Coffee with Clemson- Dorchester County
DESCRIPTION:Clemson Extension- Dorchester County will host this series on the 3rd Thursday of each month  Each Coffee & Learn event will be from 10:00 am – 11:00 am  · August 21\, 2025 – Samantha Porzelt: Introduction to native plants landscaping & the SC Native Plant Society  · September 18\, 2025- Jonathan Croft: Soil Sampling and Planting Fall Vegetable Gardens  · October 16\, 2025 – Molly Jones: Water well maintenance & water quality  · November 20\, 2025- Nicole Correa: Importance of Hay Sampling and How To  · December 18\, 2025 – Samantha Porzelt: Rain gardens & rainwater harvesting  · January 15\, 2026 – Marion Barnes: Purple Martins  · February 19\, 2026 – Mike Windhorn: Timber harvesting
URL:https://housing.clemson.edu/event/coffee-with-clemson-dorchester-county-72/
LOCATION:201 Johnston Street Saint George SC 29477
CATEGORIES:Belonging and Access,Clemson University Events,Community,Development and Workshops,Engagement,General Events,Open to the Public,Training
ATTACH;FMTTYPE=image/jpeg:https://housing.clemson.edu/wp-content/uploads/2025/09/767_https___cdn.evbuc_.com_images_1079721713_406913785323_1_original.rev_.1756140440-WCZdFo.jpg
END:VEVENT
BEGIN:VEVENT
DTSTART;TZID=America/New_York:20251126T100000
DTEND;TZID=America/New_York:20251126T180000
DTSTAMP:20260420T184143
CREATED:20251107T140533Z
LAST-MODIFIED:20251113T190407Z
UID:10006034-1764151200-1764180000@housing.clemson.edu
SUMMARY:Thanksgiving Meal Pickups
DESCRIPTION:Are you in Clemson for Thanksgiving? Enjoy a free Thanksgiving meal from Aramark on behalf of the Graduate Student Government! Please RSVP via TigerQuest by November 19th in order to receive a meal! **Limit one meal per person. \n \nThe Traditional Menu includes: \nTurkey with GravySweet Potato MashGreen BeansMacaroni and CheeseApple PieRoll\nThe Vegan Menu includes:\nStuffed Acorn SquashSweet Potato MashGreen BeansMacaroni and Cheese (V)DessertRoll\n \nHosted by: Clemson University Graduate Student Government\nAdditional Information can be found at: https://clemson.campuslabs.com/engage/event/11825922
URL:https://housing.clemson.edu/event/thanksgiving-meal-pickups/
LOCATION:Clemson University
CATEGORIES:Organizations Calendar,Social
END:VEVENT
BEGIN:VEVENT
DTSTART;TZID=America/New_York:20251126T170000
DTEND;TZID=America/New_York:20251126T190000
DTSTAMP:20260420T184143
CREATED:20251107T140533Z
LAST-MODIFIED:20251124T150208Z
UID:10006035-1764176400-1764183600@housing.clemson.edu
SUMMARY:Weekly Open Shack
DESCRIPTION:Our weekly group meeting is at our ham shack on campus! These are informal meetings\, meaning you can pop in and out and do not have to come every week. We spend the time chewing the rag with each other and on the waves with our HQ rig. We always have refreshments in the fridge\, and sometimes we have food. Feel free to reach out with any questions or if you need help finding the shack. ’73!\nHosted by: Clemson Amateur Radio Club\nAdditional Information can be found at: https://clemson.campuslabs.com/engage/event/11787581
URL:https://housing.clemson.edu/event/weekly-open-shack-10/
LOCATION:Clemson Ham Shack
CATEGORIES:Organizations Calendar,Social
END:VEVENT
BEGIN:VEVENT
DTSTART;TZID=America/New_York:20251126T183000
DTEND;TZID=America/New_York:20251126T200000
DTSTAMP:20260420T184143
CREATED:20251107T140533Z
LAST-MODIFIED:20251124T150209Z
UID:10006036-1764181800-1764187200@housing.clemson.edu
SUMMARY:Wesley Worship
DESCRIPTION:Join us at the Wesley Student Center Downtown for free dinner starting at 6:30\, we will move into an acoustic worship service and finish up around 8. All are welcome!\nHosted by: Clemson Wesley\, A United Methodist Campus Ministry\nAdditional Information can be found at: https://clemson.campuslabs.com/engage/event/11428955
URL:https://housing.clemson.edu/event/wesley-worship-14/
LOCATION:Wesley Student Center
CATEGORIES:Organizations Calendar,Spirituality
END:VEVENT
BEGIN:VEVENT
DTSTART;TZID=America/New_York:20251127T000000
DTEND;TZID=America/New_York:20251127T235959
DTSTAMP:20260420T184143
CREATED:20250819T125025Z
LAST-MODIFIED:20251124T150216Z
UID:10004612-1764201600-1764287999@housing.clemson.edu
SUMMARY:2025 Fall Semester - Thanksgiving holidays
DESCRIPTION:Thanksgiving holidays (Classes do not meet\, University closed Thursday & Friday)
URL:https://housing.clemson.edu/event/2025-fall-semester-thanksgiving-holidays/
CATEGORIES:Academic Calendar
ATTACH;FMTTYPE=image/jpeg:https://housing.clemson.edu/wp-content/uploads/2025/09/786_reg-brand.rev_.1756237141-Rptdml.jpg
END:VEVENT
BEGIN:VEVENT
DTSTART;TZID=America/New_York:20251127T000000
DTEND;TZID=America/New_York:20251127T235959
DTSTAMP:20260420T184143
CREATED:20250819T131206Z
LAST-MODIFIED:20250819T131206Z
UID:10004761-1764201600-1764287999@housing.clemson.edu
SUMMARY:Primary Care Mobile Clinic
DESCRIPTION:Services include sick visits (cold\, sore throat\, pink eye\, etc) and primary care (physicals\, medication management\, etc).  Clemson Rural Health accepts most forms of insurance\, as well as debit and credit cards. Cash is not accepted on the mobile units. Payment is due at the time of service. Call 864-656-3076 to schedule an appointment. Walk-ups welcome!
URL:https://housing.clemson.edu/event/primary-care-mobile-clinic-30/
LOCATION:Next to Salem Fire Department
CATEGORIES:Clemson University Events,General Events
ATTACH;FMTTYPE=image/jpeg:https://housing.clemson.edu/wp-content/uploads/2025/08/478_Rural_Health.rev_.1753474139-FP3YYY.jpg
END:VEVENT
BEGIN:VEVENT
DTSTART;TZID=America/New_York:20251127T000000
DTEND;TZID=America/New_York:20251127T235959
DTSTAMP:20260420T184143
CREATED:20250820T131623Z
LAST-MODIFIED:20250821T131625Z
UID:10004877-1764201600-1764287999@housing.clemson.edu
SUMMARY:Primary Care Mobile Clinic
DESCRIPTION:Services include sick visits (cold\, sore throat\, pink eye\, etc) and primary care (physicals\, medication management\, etc).  Clemson Rural Health accepts most forms of insurance\, as well as debit and credit cards. Cash is not accepted on the mobile units. Payment is due at the time of service. Call 864-656-3076 to schedule an appointment. Walk-ups welcome!
URL:https://housing.clemson.edu/event/primary-care-mobile-clinic-59/
LOCATION:Next to Salem Fire Department
CATEGORIES:Clemson University Events,General Events
ATTACH;FMTTYPE=image/jpeg:https://housing.clemson.edu/wp-content/uploads/2025/08/478_Rural_Health.rev_.1753474139-FP3YYY.jpg
END:VEVENT
BEGIN:VEVENT
DTSTART;TZID=America/New_York:20251127T000000
DTEND;TZID=America/New_York:20251127T235959
DTSTAMP:20260420T184143
CREATED:20250822T131630Z
LAST-MODIFIED:20250828T160415Z
UID:10004918-1764201600-1764287999@housing.clemson.edu
SUMMARY:Primary Care Mobile Clinic
DESCRIPTION:Services include sick visits (cold\, sore throat\, pink eye\, etc) and primary care (physicals\, medication management\, etc).  Clemson Rural Health accepts most forms of insurance\, as well as debit and credit cards. Cash is not accepted on the mobile units. Payment is due at the time of service. Call 864-656-3076 to schedule an appointment. Walk-ups welcome!
URL:https://housing.clemson.edu/event/primary-care-mobile-clinic-87/
LOCATION:Next to Salem Fire Department
CATEGORIES:Clemson University Events,General Events
ATTACH;FMTTYPE=image/jpeg:https://housing.clemson.edu/wp-content/uploads/2025/08/478_Rural_Health.rev_.1753474139-FP3YYY.jpg
END:VEVENT
BEGIN:VEVENT
DTSTART;TZID=America/New_York:20251127T000000
DTEND;TZID=America/New_York:20251127T235959
DTSTAMP:20260420T184143
CREATED:20250902T154636Z
LAST-MODIFIED:20251124T150216Z
UID:10004967-1764201600-1764287999@housing.clemson.edu
SUMMARY:2025 Fall Mini D - Thanksgiving holidays
DESCRIPTION:Thanksgiving holidays (Classes do not meet\, University closed Thursday & Friday)
URL:https://housing.clemson.edu/event/2025-fall-mini-d-thanksgiving-holidays-4/
CATEGORIES:Academic Calendar
ATTACH;FMTTYPE=image/jpeg:https://housing.clemson.edu/wp-content/uploads/2025/09/786_reg-brand.rev_.1756237141-Rptdml.jpg
END:VEVENT
BEGIN:VEVENT
DTSTART;TZID=America/New_York:20251127T000000
DTEND;TZID=America/New_York:20251127T235959
DTSTAMP:20260420T184143
CREATED:20250902T154636Z
LAST-MODIFIED:20251124T150215Z
UID:10004968-1764201600-1764287999@housing.clemson.edu
SUMMARY:2025 Second Fall - Thanksgiving holidays
DESCRIPTION:Thanksgiving holidays (Classes do not meet\, University closed Thursday & Friday)
URL:https://housing.clemson.edu/event/2025-second-fall-thanksgiving-holidays-4/
CATEGORIES:Academic Calendar
ATTACH;FMTTYPE=image/jpeg:https://housing.clemson.edu/wp-content/uploads/2025/09/786_reg-brand.rev_.1756237141-Rptdml.jpg
END:VEVENT
BEGIN:VEVENT
DTSTART;TZID=America/New_York:20251127T000000
DTEND;TZID=America/New_York:20251127T235959
DTSTAMP:20260420T184143
CREATED:20250902T154909Z
LAST-MODIFIED:20250902T154909Z
UID:10005124-1764201600-1764287999@housing.clemson.edu
SUMMARY:Primary Care Mobile Clinic
DESCRIPTION:Services include sick visits (cold\, sore throat\, pink eye\, etc) and primary care (physicals\, medication management\, etc).  Clemson Rural Health accepts most forms of insurance\, as well as debit and credit cards. Cash is not accepted on the mobile units. Payment is due at the time of service. Call 864-656-3076 to schedule an appointment. Walk-ups welcome!
URL:https://housing.clemson.edu/event/primary-care-mobile-clinic-113/
LOCATION:Next to Salem Fire Department
CATEGORIES:Clemson University Events,General Events
ATTACH;FMTTYPE=image/jpeg:https://housing.clemson.edu/wp-content/uploads/2025/08/478_Rural_Health.rev_.1753474139-FP3YYY.jpg
END:VEVENT
BEGIN:VEVENT
DTSTART;TZID=America/New_York:20251127T000000
DTEND;TZID=America/New_York:20251127T235959
DTSTAMP:20260420T184143
CREATED:20250902T154909Z
LAST-MODIFIED:20251113T190314Z
UID:10005125-1764201600-1764287999@housing.clemson.edu
SUMMARY:Coffee with Clemson- Dorchester County
DESCRIPTION:Clemson Extension- Dorchester County will host this series on the 3rd Thursday of each month  Each Coffee & Learn event will be from 10:00 am – 11:00 am  · August 21\, 2025 – Samantha Porzelt: Introduction to native plants landscaping & the SC Native Plant Society  · September 18\, 2025- Jonathan Croft: Soil Sampling and Planting Fall Vegetable Gardens  · October 16\, 2025 – Molly Jones: Water well maintenance & water quality  · November 20\, 2025- Nicole Correa: Importance of Hay Sampling and How To  · December 18\, 2025 – Samantha Porzelt: Rain gardens & rainwater harvesting  · January 15\, 2026 – Marion Barnes: Purple Martins  · February 19\, 2026 – Mike Windhorn: Timber harvesting
URL:https://housing.clemson.edu/event/coffee-with-clemson-dorchester-county-71/
LOCATION:201 Johnston Street Saint George SC 29477
CATEGORIES:Belonging and Access,Clemson University Events,Community,Development and Workshops,Engagement,General Events,Open to the Public,Training
ATTACH;FMTTYPE=image/jpeg:https://housing.clemson.edu/wp-content/uploads/2025/09/767_https___cdn.evbuc_.com_images_1079721713_406913785323_1_original.rev_.1756140440-WCZdFo.jpg
END:VEVENT
BEGIN:VEVENT
DTSTART;TZID=America/New_York:20251127T000000
DTEND;TZID=America/New_York:20251127T235959
DTSTAMP:20260420T184143
CREATED:20250908T202008Z
LAST-MODIFIED:20250908T202008Z
UID:10005342-1764201600-1764287999@housing.clemson.edu
SUMMARY:Primary Care Mobile Clinic
DESCRIPTION:Services include sick visits (cold\, sore throat\, pink eye\, etc) and primary care (physicals\, medication management\, etc).  Clemson Rural Health accepts most forms of insurance\, as well as debit and credit cards. Cash is not accepted on the mobile units. Payment is due at the time of service. Call 864-656-3076 to schedule an appointment. Walk-ups welcome!
URL:https://housing.clemson.edu/event/primary-care-mobile-clinic-137/
LOCATION:Next to Salem Fire Department
CATEGORIES:Clemson University Events,General Events
ATTACH;FMTTYPE=image/jpeg:https://housing.clemson.edu/wp-content/uploads/2025/08/478_Rural_Health.rev_.1753474139-FP3YYY.jpg
END:VEVENT
BEGIN:VEVENT
DTSTART;TZID=America/New_York:20251127T000000
DTEND;TZID=America/New_York:20251127T235959
DTSTAMP:20260420T184143
CREATED:20250915T134738Z
LAST-MODIFIED:20250915T134738Z
UID:10005376-1764201600-1764287999@housing.clemson.edu
SUMMARY:Primary Care Mobile Clinic
DESCRIPTION:Services include sick visits (cold\, sore throat\, pink eye\, etc) and primary care (physicals\, medication management\, etc).  Clemson Rural Health accepts most forms of insurance\, as well as debit and credit cards. Cash is not accepted on the mobile units. Payment is due at the time of service. Call 864-656-3076 to schedule an appointment. Walk-ups welcome!
URL:https://housing.clemson.edu/event/primary-care-mobile-clinic-160/
LOCATION:Next to Salem Fire Department
CATEGORIES:Clemson University Events,General Events
ATTACH;FMTTYPE=image/jpeg:https://housing.clemson.edu/wp-content/uploads/2025/08/478_Rural_Health.rev_.1753474139-FP3YYY.jpg
END:VEVENT
BEGIN:VEVENT
DTSTART;TZID=America/New_York:20251127T000000
DTEND;TZID=America/New_York:20251127T235959
DTSTAMP:20260420T184143
CREATED:20250915T134843Z
LAST-MODIFIED:20250915T150552Z
UID:10005418-1764201600-1764287999@housing.clemson.edu
SUMMARY:Primary Care Mobile Clinic
DESCRIPTION:Services include sick visits (cold\, sore throat\, pink eye\, etc) and primary care (physicals\, medication management\, etc).  Clemson Rural Health accepts most forms of insurance\, as well as debit and credit cards. Cash is not accepted on the mobile units. Payment is due at the time of service. Call 864-656-3076 to schedule an appointment. Walk-ups welcome!
URL:https://housing.clemson.edu/event/primary-care-mobile-clinic-182/
LOCATION:Next to Salem Fire Department
CATEGORIES:Clemson University Events,General Events
ATTACH;FMTTYPE=image/jpeg:https://housing.clemson.edu/wp-content/uploads/2025/08/478_Rural_Health.rev_.1753474139-FP3YYY.jpg
END:VEVENT
BEGIN:VEVENT
DTSTART;TZID=America/New_York:20251127T000000
DTEND;TZID=America/New_York:20251127T235959
DTSTAMP:20260420T184143
CREATED:20250917T154657Z
LAST-MODIFIED:20250918T160243Z
UID:10005515-1764201600-1764287999@housing.clemson.edu
SUMMARY:Primary Care Mobile Clinic
DESCRIPTION:Services include sick visits (cold\, sore throat\, pink eye\, etc) and primary care (physicals\, medication management\, etc).  Clemson Rural Health accepts most forms of insurance\, as well as debit and credit cards. Cash is not accepted on the mobile units. Payment is due at the time of service. Call 864-656-3076 to schedule an appointment. Walk-ups welcome!
URL:https://housing.clemson.edu/event/primary-care-mobile-clinic-203/
LOCATION:Next to Salem Fire Department
CATEGORIES:Clemson University Events,General Events
ATTACH;FMTTYPE=image/jpeg:https://housing.clemson.edu/wp-content/uploads/2025/08/478_Rural_Health.rev_.1753474139-FP3YYY.jpg
END:VEVENT
BEGIN:VEVENT
DTSTART;TZID=America/New_York:20251127T000000
DTEND;TZID=America/New_York:20251127T235959
DTSTAMP:20260420T184143
CREATED:20250919T160358Z
LAST-MODIFIED:20250922T163305Z
UID:10005568-1764201600-1764287999@housing.clemson.edu
SUMMARY:Primary Care Mobile Clinic
DESCRIPTION:Services include sick visits (cold\, sore throat\, pink eye\, etc) and primary care (physicals\, medication management\, etc).  Clemson Rural Health accepts most forms of insurance\, as well as debit and credit cards. Cash is not accepted on the mobile units. Payment is due at the time of service. Call 864-656-3076 to schedule an appointment. Walk-ups welcome!
URL:https://housing.clemson.edu/event/primary-care-mobile-clinic-223/
LOCATION:Next to Salem Fire Department
CATEGORIES:Clemson University Events,General Events
ATTACH;FMTTYPE=image/jpeg:https://housing.clemson.edu/wp-content/uploads/2025/08/478_Rural_Health.rev_.1753474139-FP3YYY.jpg
END:VEVENT
BEGIN:VEVENT
DTSTART;TZID=America/New_York:20251127T000000
DTEND;TZID=America/New_York:20251127T235959
DTSTAMP:20260420T184143
CREATED:20250930T151703Z
LAST-MODIFIED:20250930T151753Z
UID:10005623-1764201600-1764287999@housing.clemson.edu
SUMMARY:Primary Care Mobile Clinic
DESCRIPTION:Services include sick visits (cold\, sore throat\, pink eye\, etc) and primary care (physicals\, medication management\, etc).  Clemson Rural Health accepts most forms of insurance\, as well as debit and credit cards. Cash is not accepted on the mobile units. Payment is due at the time of service. Call 864-656-3076 to schedule an appointment. Walk-ups welcome!
URL:https://housing.clemson.edu/event/primary-care-mobile-clinic-242/
LOCATION:Next to Salem Fire Department
CATEGORIES:Clemson University Events,General Events
ATTACH;FMTTYPE=image/jpeg:https://housing.clemson.edu/wp-content/uploads/2025/08/478_Rural_Health.rev_.1753474139-FP3YYY.jpg
END:VEVENT
BEGIN:VEVENT
DTSTART;TZID=America/New_York:20251127T000000
DTEND;TZID=America/New_York:20251127T235959
DTSTAMP:20260420T184143
CREATED:20250930T151851Z
LAST-MODIFIED:20250930T155533Z
UID:10005648-1764201600-1764287999@housing.clemson.edu
SUMMARY:Primary Care Mobile Clinic
DESCRIPTION:Services include sick visits (cold\, sore throat\, pink eye\, etc) and primary care (physicals\, medication management\, etc).  Clemson Rural Health accepts most forms of insurance\, as well as debit and credit cards. Cash is not accepted on the mobile units. Payment is due at the time of service. Call 864-656-3076 to schedule an appointment. Walk-ups welcome!
URL:https://housing.clemson.edu/event/primary-care-mobile-clinic-259/
LOCATION:Next to Salem Fire Department
CATEGORIES:Clemson University Events,General Events
ATTACH;FMTTYPE=image/jpeg:https://housing.clemson.edu/wp-content/uploads/2025/08/478_Rural_Health.rev_.1753474139-FP3YYY.jpg
END:VEVENT
BEGIN:VEVENT
DTSTART;TZID=America/New_York:20251127T000000
DTEND;TZID=America/New_York:20251127T235959
DTSTAMP:20260420T184143
CREATED:20251016T221733Z
LAST-MODIFIED:20251016T221733Z
UID:10005831-1764201600-1764287999@housing.clemson.edu
SUMMARY:Primary Care Mobile Clinic
DESCRIPTION:Services include sick visits (cold\, sore throat\, pink eye\, etc) and primary care (physicals\, medication management\, etc).  Clemson Rural Health accepts most forms of insurance\, as well as debit and credit cards. Cash is not accepted on the mobile units. Payment is due at the time of service. Call 864-656-3076 to schedule an appointment. Walk-ups welcome!
URL:https://housing.clemson.edu/event/primary-care-mobile-clinic-273/
LOCATION:Next to Salem Fire Department
CATEGORIES:Clemson University Events,General Events
ATTACH;FMTTYPE=image/jpeg:https://housing.clemson.edu/wp-content/uploads/2025/08/478_Rural_Health.rev_.1753474139-FP3YYY.jpg
END:VEVENT
BEGIN:VEVENT
DTSTART;TZID=America/New_York:20251127T000000
DTEND;TZID=America/New_York:20251127T235959
DTSTAMP:20260420T184143
CREATED:20251017T223227Z
LAST-MODIFIED:20251021T230229Z
UID:10005882-1764201600-1764287999@housing.clemson.edu
SUMMARY:Primary Care Mobile Clinic
DESCRIPTION:Services include sick visits (cold\, sore throat\, pink eye\, etc) and primary care (physicals\, medication management\, etc).  Clemson Rural Health accepts most forms of insurance\, as well as debit and credit cards. Cash is not accepted on the mobile units. Payment is due at the time of service. Call 864-656-3076 to schedule an appointment. Walk-ups welcome!
URL:https://housing.clemson.edu/event/primary-care-mobile-clinic-285/
LOCATION:Next to Salem Fire Department
CATEGORIES:Clemson University Events,General Events
ATTACH;FMTTYPE=image/jpeg:https://housing.clemson.edu/wp-content/uploads/2025/08/478_Rural_Health.rev_.1753474139-FP3YYY.jpg
END:VEVENT
BEGIN:VEVENT
DTSTART;TZID=America/New_York:20251127T000000
DTEND;TZID=America/New_York:20251127T235959
DTSTAMP:20260420T184143
CREATED:20251023T180233Z
LAST-MODIFIED:20251023T180312Z
UID:10005961-1764201600-1764287999@housing.clemson.edu
SUMMARY:Primary Care Mobile Clinic
DESCRIPTION:Services include sick visits (cold\, sore throat\, pink eye\, etc) and primary care (physicals\, medication management\, etc).  Clemson Rural Health accepts most forms of insurance\, as well as debit and credit cards. Cash is not accepted on the mobile units. Payment is due at the time of service. Call 864-656-3076 to schedule an appointment. Walk-ups welcome!
URL:https://housing.clemson.edu/event/primary-care-mobile-clinic-296/
LOCATION:Next to Salem Fire Department
CATEGORIES:Clemson University Events,General Events
ATTACH;FMTTYPE=image/jpeg:https://housing.clemson.edu/wp-content/uploads/2025/08/478_Rural_Health.rev_.1753474139-FP3YYY.jpg
END:VEVENT
BEGIN:VEVENT
DTSTART;TZID=America/New_York:20251127T000000
DTEND;TZID=America/New_York:20251127T235959
DTSTAMP:20260420T184143
CREATED:20251107T140228Z
LAST-MODIFIED:20251107T140228Z
UID:10005987-1764201600-1764287999@housing.clemson.edu
SUMMARY:Primary Care Mobile Clinic
DESCRIPTION:Services include sick visits (cold\, sore throat\, pink eye\, etc) and primary care (physicals\, medication management\, etc).  Clemson Rural Health accepts most forms of insurance\, as well as debit and credit cards. Cash is not accepted on the mobile units. Payment is due at the time of service. Call 864-656-3076 to schedule an appointment. Walk-ups welcome!
URL:https://housing.clemson.edu/event/primary-care-mobile-clinic-306/
LOCATION:Next to Salem Fire Department
CATEGORIES:Clemson University Events,General Events
ATTACH;FMTTYPE=image/jpeg:https://housing.clemson.edu/wp-content/uploads/2025/08/478_Rural_Health.rev_.1753474139-FP3YYY.jpg
END:VEVENT
BEGIN:VEVENT
DTSTART;TZID=America/New_York:20251127T000000
DTEND;TZID=America/New_York:20251127T235959
DTSTAMP:20260420T184143
CREATED:20251107T140306Z
LAST-MODIFIED:20251107T140422Z
UID:10006003-1764201600-1764287999@housing.clemson.edu
SUMMARY:Primary Care Mobile Clinic
DESCRIPTION:Services include sick visits (cold\, sore throat\, pink eye\, etc) and primary care (physicals\, medication management\, etc).  Clemson Rural Health accepts most forms of insurance\, as well as debit and credit cards. Cash is not accepted on the mobile units. Payment is due at the time of service. Call 864-656-3076 to schedule an appointment. Walk-ups welcome!
URL:https://housing.clemson.edu/event/primary-care-mobile-clinic-314/
LOCATION:Next to Salem Fire Department
CATEGORIES:Clemson University Events,General Events
ATTACH;FMTTYPE=image/jpeg:https://housing.clemson.edu/wp-content/uploads/2025/08/478_Rural_Health.rev_.1753474139-FP3YYY.jpg
END:VEVENT
END:VCALENDAR