BEGIN:VCALENDAR
VERSION:2.0
PRODID:-//Clemson Home - ECPv6.15.20//NONSGML v1.0//EN
CALSCALE:GREGORIAN
METHOD:PUBLISH
X-WR-CALNAME:Clemson Home
X-ORIGINAL-URL:https://housing.clemson.edu
X-WR-CALDESC:Events for Clemson Home
REFRESH-INTERVAL;VALUE=DURATION:PT1H
X-Robots-Tag:noindex
X-PUBLISHED-TTL:PT1H
BEGIN:VTIMEZONE
TZID:America/New_York
BEGIN:DAYLIGHT
TZOFFSETFROM:-0500
TZOFFSETTO:-0400
TZNAME:EDT
DTSTART:20250309T070000
END:DAYLIGHT
BEGIN:STANDARD
TZOFFSETFROM:-0400
TZOFFSETTO:-0500
TZNAME:EST
DTSTART:20251102T060000
END:STANDARD
BEGIN:DAYLIGHT
TZOFFSETFROM:-0500
TZOFFSETTO:-0400
TZNAME:EDT
DTSTART:20260308T070000
END:DAYLIGHT
BEGIN:STANDARD
TZOFFSETFROM:-0400
TZOFFSETTO:-0500
TZNAME:EST
DTSTART:20261101T060000
END:STANDARD
BEGIN:DAYLIGHT
TZOFFSETFROM:-0500
TZOFFSETTO:-0400
TZNAME:EDT
DTSTART:20270314T070000
END:DAYLIGHT
BEGIN:STANDARD
TZOFFSETFROM:-0400
TZOFFSETTO:-0500
TZNAME:EST
DTSTART:20271107T060000
END:STANDARD
END:VTIMEZONE
BEGIN:VEVENT
DTSTART;TZID=America/New_York:20260306T000000
DTEND;TZID=America/New_York:20260306T235959
DTSTAMP:20260420T195051
CREATED:20251206T151840Z
LAST-MODIFIED:20260304T191616Z
UID:10006462-1772755200-1772841599@housing.clemson.edu
SUMMARY:South Carolina 4-H Pinckney Leadership Roundup Charleston
DESCRIPTION:Get ready for an exciting day of inspiration and growth at the Leadership Roundup(Charleston)! Join us on Saturday\, March 28th\, 2026 at the Lowcountry Conference Center for a dynamic in-person event that will ignite your leadership potential.  At the Leadership Roundup(Charleston)\, you’ll have the opportunity to connect with like-minded individuals\, learn from experienced leaders\, and gain valuable insights to enhance your leadership skills. This event is designed to empower both adults and middle and high school students to take charge and make a positive impact in their personal lives.  With a variety of engaging sessions\, expert speakers\, and interactive workshops\, you’ll discover new strategies\, techniques\, and perspectives to elevate your leadership abilities. Whether you’re a seasoned leader or just starting your leadership journey\, the Leadership Roundup(Charleston) has something for everyone.  Don’t miss out on this incredible opportunity to network\, learn\, and grow. Mark your calendars and join us for a day filled with inspiration\, knowledge\, and fun at the Leadership Roundup(Charleston). This event sells out EVERY year\, so get your tickets now. We can’t wait to see you there!  Tickets are non-refundable and non-transferable (within a two week period).
URL:https://housing.clemson.edu/event/south-carolina-4-h-pinckney-leadership-roundup-charleston-90/
LOCATION:Lowcountry Conference Center
CATEGORIES:Belonging and Access,Clemson University Events,Community,Conferences,Engagement,Forums and Symposiums,General Events,Open to the Public,Youth Camps and Events
ATTACH;FMTTYPE=image/png:https://housing.clemson.edu/wp-content/uploads/2026/01/1221_Charleston_graphic.rev_.1764874005-63GfWq.png
END:VEVENT
END:VCALENDAR