BEGIN:VCALENDAR
VERSION:2.0
PRODID:-//Clemson Home - ECPv6.15.20//NONSGML v1.0//EN
CALSCALE:GREGORIAN
METHOD:PUBLISH
X-ORIGINAL-URL:https://housing.clemson.edu
X-WR-CALDESC:Events for Clemson Home
REFRESH-INTERVAL;VALUE=DURATION:PT1H
X-Robots-Tag:noindex
X-PUBLISHED-TTL:PT1H
BEGIN:VTIMEZONE
TZID:America/New_York
BEGIN:DAYLIGHT
TZOFFSETFROM:-0500
TZOFFSETTO:-0400
TZNAME:EDT
DTSTART:20250309T070000
END:DAYLIGHT
BEGIN:STANDARD
TZOFFSETFROM:-0400
TZOFFSETTO:-0500
TZNAME:EST
DTSTART:20251102T060000
END:STANDARD
BEGIN:DAYLIGHT
TZOFFSETFROM:-0500
TZOFFSETTO:-0400
TZNAME:EDT
DTSTART:20260308T070000
END:DAYLIGHT
BEGIN:STANDARD
TZOFFSETFROM:-0400
TZOFFSETTO:-0500
TZNAME:EST
DTSTART:20261101T060000
END:STANDARD
BEGIN:DAYLIGHT
TZOFFSETFROM:-0500
TZOFFSETTO:-0400
TZNAME:EDT
DTSTART:20270314T070000
END:DAYLIGHT
BEGIN:STANDARD
TZOFFSETFROM:-0400
TZOFFSETTO:-0500
TZNAME:EST
DTSTART:20271107T060000
END:STANDARD
END:VTIMEZONE
BEGIN:VEVENT
DTSTART;TZID=America/New_York:20260528T133000
DTEND;TZID=America/New_York:20260528T150000
DTSTAMP:20260421T194641
CREATED:20251203T144701Z
LAST-MODIFIED:20260323T163415Z
UID:10006215-1779975000-1779980400@housing.clemson.edu
SUMMARY:May 2026 Green Zone Training
DESCRIPTION:We value our veterans and military-connected students not only for their service to our country but also for the leadership\,  life experience\, and maturity they bring to the educational environment on campus. Faculty\, staff\, and fellow students  play an essential role in helping student veterans transition to life at Clemson. We invite you to attend Green Zone Training to  learn about the military student experience and how best to support this population.
URL:https://housing.clemson.edu/event/may-2026-green-zone-training/
LOCATION:201 Vickery Hall
CATEGORIES:Belonging and Access,Clemson University Events,Community,Development and Workshops,Engagement,General Events,Lectures,Seminars and Speakers,Training
END:VEVENT
END:VCALENDAR