BEGIN:VCALENDAR
VERSION:2.0
PRODID:-//Clemson Home - ECPv6.15.20//NONSGML v1.0//EN
CALSCALE:GREGORIAN
METHOD:PUBLISH
X-ORIGINAL-URL:https://housing.clemson.edu
X-WR-CALDESC:Events for Clemson Home
REFRESH-INTERVAL;VALUE=DURATION:PT1H
X-Robots-Tag:noindex
X-PUBLISHED-TTL:PT1H
BEGIN:VTIMEZONE
TZID:America/New_York
BEGIN:DAYLIGHT
TZOFFSETFROM:-0500
TZOFFSETTO:-0400
TZNAME:EDT
DTSTART:20250309T070000
END:DAYLIGHT
BEGIN:STANDARD
TZOFFSETFROM:-0400
TZOFFSETTO:-0500
TZNAME:EST
DTSTART:20251102T060000
END:STANDARD
BEGIN:DAYLIGHT
TZOFFSETFROM:-0500
TZOFFSETTO:-0400
TZNAME:EDT
DTSTART:20260308T070000
END:DAYLIGHT
BEGIN:STANDARD
TZOFFSETFROM:-0400
TZOFFSETTO:-0500
TZNAME:EST
DTSTART:20261101T060000
END:STANDARD
BEGIN:DAYLIGHT
TZOFFSETFROM:-0500
TZOFFSETTO:-0400
TZNAME:EDT
DTSTART:20270314T070000
END:DAYLIGHT
BEGIN:STANDARD
TZOFFSETFROM:-0400
TZOFFSETTO:-0500
TZNAME:EST
DTSTART:20271107T060000
END:STANDARD
END:VTIMEZONE
BEGIN:VEVENT
DTSTART;TZID=America/New_York:20260207T000000
DTEND;TZID=America/New_York:20260207T235959
DTSTAMP:20260425T232746
CREATED:20250902T154937Z
LAST-MODIFIED:20260205T134826Z
UID:10005197-1770422400-1770508799@housing.clemson.edu
SUMMARY:Coffee with Clemson- Dorchester County
DESCRIPTION:Clemson Extension- Dorchester County will host this series on the 3rd Thursday of each month  Each Coffee & Learn event will be from 10:00 am – 11:00 am  · August 21\, 2025 – Samantha Porzelt: Introduction to native plants landscaping & the SC Native Plant Society  · September 18\, 2025- Jonathan Croft: Soil Sampling and Planting Fall Vegetable Gardens  · October 16\, 2025 – Molly Jones: Water well maintenance & water quality  · November 20\, 2025- Nicole Correa: Importance of Hay Sampling and How To  · December 18\, 2025 – Samantha Porzelt: Rain gardens & rainwater harvesting  · January 15\, 2026 – Marion Barnes: Purple Martins  · February 19\, 2026 – Mike Windhorn: Timber harvesting
URL:https://housing.clemson.edu/event/coffee-with-clemson-dorchester-county-143/
LOCATION:201 Johnston Street Saint George SC 29477
CATEGORIES:Belonging and Access,Clemson University Events,Community,Development and Workshops,Engagement,General Events,Open to the Public,Training
ATTACH;FMTTYPE=image/jpeg:https://housing.clemson.edu/wp-content/uploads/2025/09/767_https___cdn.evbuc_.com_images_1079721713_406913785323_1_original.rev_.1756140440-WCZdFo.jpg
END:VEVENT
BEGIN:VEVENT
DTSTART;TZID=America/New_York:20260207T000000
DTEND;TZID=America/New_York:20260207T235959
DTSTAMP:20260425T232746
CREATED:20251203T144651Z
LAST-MODIFIED:20260205T134826Z
UID:10006182-1770422400-1770508799@housing.clemson.edu
SUMMARY:School Gardening for SC Educators (Asynchronous Online Course)
DESCRIPTION:School Gardening for SC Educators is a five-week online program offered by Clemson Cooperative Extension’s Horticulture and 4-H Youth Development agents. The goal of this course is to help educators\, parents\, administrators\, and other caring adults learn to garden successfully with students. Participants will learn the basic horticulture skills necessary to start and maintain their school garden. Licensed educators who successfully complete the course will receive twenty (20) renewal credits from the South Carolina Department of Education.  In addition to the online course\, your registration includes the following:  -The Seasonal Planting Guide for South Carolina School and Community Gardens\,  -The Garden STEM Curriculum for Your Garden Classroom (K-8)\,  and virtual workshop supplies\, including grade-level specific lessons and materials.  -After registering for the course\, please log in and complete the Participant Information Form so that your materials can be sent to you via mail.  The course will begin on February 2\, 2026\, and end on March 9\, 2026.
URL:https://housing.clemson.edu/event/school-gardening-for-sc-educators-asynchronous-online-course-8/
CATEGORIES:Clemson University Events,Development and Workshops,General Events,Open to the Public,Training
ATTACH;FMTTYPE=image/png:https://housing.clemson.edu/wp-content/uploads/2025/12/1208_download.rev_.1764686159-id94ln.png
END:VEVENT
BEGIN:VEVENT
DTSTART;TZID=America/New_York:20260207T000000
DTEND;TZID=America/New_York:20260207T235959
DTSTAMP:20260425T232746
CREATED:20251206T151817Z
LAST-MODIFIED:20260205T134825Z
UID:10006412-1770422400-1770508799@housing.clemson.edu
SUMMARY:South Carolina 4-H Pinckney Leadership Roundup Florence
DESCRIPTION:Get ready for an exciting day of inspiration and growth at the Leadership Roundup(Florence)! Join us on Sat March 18\, 2026 at the SiMT – Southeastern Institute of Manufacturing and Technology for a dynamic in-person event that will ignite your leadership potential.  At the Leadership Roundup(Florence)\, you’ll have the opportunity to connect with like-minded individuals\, learn from experienced leaders\, and gain valuable insights to enhance your leadership skills. This event is designed to empower both adults and middle and high school students to take charge and make a positive impact in their personal lives.  With a variety of engaging sessions\, expert speakers\, and interactive workshops\, you’ll discover new strategies\, techniques\, and perspectives to elevate your leadership abilities. Whether you’re a seasoned leader or just starting your leadership journey\, the Leadership Roundup(Florence) has something for everyone.  Don’t miss out on this incredible opportunity to network\, learn\, and grow. Mark your calendars and join us for a day filled with inspiration\, knowledge\, and fun at the Leadership Roundup(Florence). This event sells out EVERY year\, so get your tickets now. We can’t wait to see you there!  Tickets are non-refundable and non-transferable (within a two week period)
URL:https://housing.clemson.edu/event/south-carolina-4-h-pinckney-leadership-roundup-florence-65/
LOCATION:Southeastern Institute of Manufacturing and Technology
CATEGORIES:Belonging and Access,Clemson University Events,Community,Conferences,Engagement,Forums and Symposiums,General Events,Open to the Public
ATTACH;FMTTYPE=image/png:https://housing.clemson.edu/wp-content/uploads/2026/01/1220_Florence_graphic.rev_.1764873653-ysQl4R.png
END:VEVENT
BEGIN:VEVENT
DTSTART;TZID=America/New_York:20260207T000000
DTEND;TZID=America/New_York:20260207T235959
DTSTAMP:20260425T232746
CREATED:20251206T151818Z
LAST-MODIFIED:20260205T134826Z
UID:10006413-1770422400-1770508799@housing.clemson.edu
SUMMARY:South Carolina 4-H Pinckney Leadership Roundup Charleston
DESCRIPTION:Get ready for an exciting day of inspiration and growth at the Leadership Roundup(Charleston)! Join us on Saturday\, March 28th\, 2026 at the Lowcountry Conference Center for a dynamic in-person event that will ignite your leadership potential.  At the Leadership Roundup(Charleston)\, you’ll have the opportunity to connect with like-minded individuals\, learn from experienced leaders\, and gain valuable insights to enhance your leadership skills. This event is designed to empower both adults and middle and high school students to take charge and make a positive impact in their personal lives.  With a variety of engaging sessions\, expert speakers\, and interactive workshops\, you’ll discover new strategies\, techniques\, and perspectives to elevate your leadership abilities. Whether you’re a seasoned leader or just starting your leadership journey\, the Leadership Roundup(Charleston) has something for everyone.  Don’t miss out on this incredible opportunity to network\, learn\, and grow. Mark your calendars and join us for a day filled with inspiration\, knowledge\, and fun at the Leadership Roundup(Charleston). This event sells out EVERY year\, so get your tickets now. We can’t wait to see you there!  Tickets are non-refundable and non-transferable (within a two week period).
URL:https://housing.clemson.edu/event/south-carolina-4-h-pinckney-leadership-roundup-charleston-65/
LOCATION:Lowcountry Conference Center
CATEGORIES:Belonging and Access,Clemson University Events,Community,Conferences,Engagement,Forums and Symposiums,General Events,Open to the Public,Youth Camps and Events
ATTACH;FMTTYPE=image/png:https://housing.clemson.edu/wp-content/uploads/2026/01/1221_Charleston_graphic.rev_.1764874005-63GfWq.png
END:VEVENT
BEGIN:VEVENT
DTSTART;TZID=America/New_York:20260207T000000
DTEND;TZID=America/New_York:20260207T235959
DTSTAMP:20260425T232746
CREATED:20260205T134923Z
LAST-MODIFIED:20260205T134928Z
UID:10006880-1770422400-1770508799@housing.clemson.edu
SUMMARY:Internship Scholarship Applications NOW OPEN
DESCRIPTION:The SCBIO Foundation is pleased to announce that applications are now open for scholarships to qualifying South Carolina college students who are accepted into an internship at a South Carolina Life Science company. The scholarship awards up to $3\,000 to cover housing and transportation expenses during the internship period.  The deadline for applications is March 1\, 2026.  Additional information and the application can be found here:  Programs – SCBIO Foundation
URL:https://housing.clemson.edu/event/internship-scholarship-applications-now-open-3/
CATEGORIES:Awards,Dates and Deadlines,Deadlines,Open to the Public,Receptions and Celebrations
ATTACH;FMTTYPE=image/jpeg:https://housing.clemson.edu/wp-content/uploads/2026/02/1398_SCBio_logo.rev_.1768324745-c03j5t.jpg
END:VEVENT
BEGIN:VEVENT
DTSTART;TZID=America/New_York:20260207T080000
DTEND;TZID=America/New_York:20260207T150000
DTSTAMP:20260425T232746
CREATED:20260114T163220Z
LAST-MODIFIED:20260205T134740Z
UID:10006729-1770451200-1770476400@housing.clemson.edu
SUMMARY:College of Education Graduate Student Conference
DESCRIPTION:The College of Education Graduate Student Conference is an opportunity for CoE Graduate students to present their work to their peers and professors. An entirely student-run event\, the CoE Graduate Student Conference allows Master’s and Doctorate students from across the college to showcase their talents and expertise. All Clemson graduate students are welcome to attend! Lunch is provided for those who register by January 30.\nHosted by: College of Education Graduate Student Advisory Board\nAdditional Information can be found at: https://clemson.campuslabs.com/engage/event/12022232
URL:https://housing.clemson.edu/event/college-of-education-graduate-student-conference/
LOCATION:Old Main (Tillman Hall)
CATEGORIES:Organizations Calendar,ThoughtfulLearning
END:VEVENT
END:VCALENDAR