BEGIN:VCALENDAR
VERSION:2.0
PRODID:-//Clemson Home - ECPv6.15.20//NONSGML v1.0//EN
CALSCALE:GREGORIAN
METHOD:PUBLISH
X-WR-CALNAME:Clemson Home
X-ORIGINAL-URL:https://housing.clemson.edu
X-WR-CALDESC:Events for Clemson Home
REFRESH-INTERVAL;VALUE=DURATION:PT1H
X-Robots-Tag:noindex
X-PUBLISHED-TTL:PT1H
BEGIN:VTIMEZONE
TZID:America/New_York
BEGIN:DAYLIGHT
TZOFFSETFROM:-0500
TZOFFSETTO:-0400
TZNAME:EDT
DTSTART:20240310T070000
END:DAYLIGHT
BEGIN:STANDARD
TZOFFSETFROM:-0400
TZOFFSETTO:-0500
TZNAME:EST
DTSTART:20241103T060000
END:STANDARD
BEGIN:DAYLIGHT
TZOFFSETFROM:-0500
TZOFFSETTO:-0400
TZNAME:EDT
DTSTART:20250309T070000
END:DAYLIGHT
BEGIN:STANDARD
TZOFFSETFROM:-0400
TZOFFSETTO:-0500
TZNAME:EST
DTSTART:20251102T060000
END:STANDARD
BEGIN:DAYLIGHT
TZOFFSETFROM:-0500
TZOFFSETTO:-0400
TZNAME:EDT
DTSTART:20260308T070000
END:DAYLIGHT
BEGIN:STANDARD
TZOFFSETFROM:-0400
TZOFFSETTO:-0500
TZNAME:EST
DTSTART:20261101T060000
END:STANDARD
END:VTIMEZONE
BEGIN:VEVENT
DTSTART;TZID=America/New_York:20250829T000000
DTEND;TZID=America/New_York:20250829T235959
DTSTAMP:20260420T143542
CREATED:20250819T125016Z
LAST-MODIFIED:20250902T154626Z
UID:10004544-1756425600-1756511999@housing.clemson.edu
SUMMARY:2025 Fall Mini A - Last day for instructors to issue midterm evaluations
DESCRIPTION:Last day for instructors to issue midterm evaluations
URL:https://housing.clemson.edu/event/2025-fall-mini-a-last-day-for-instructors-to-issue-midterm-evaluations/
CATEGORIES:Academic Calendar
ATTACH;FMTTYPE=image/jpeg:https://housing.clemson.edu/wp-content/uploads/2025/09/786_reg-brand.rev_.1756237141-Rptdml.jpg
END:VEVENT
BEGIN:VEVENT
DTSTART;TZID=America/New_York:20250829T000000
DTEND;TZID=America/New_York:20250829T235959
DTSTAMP:20260420T143542
CREATED:20250819T125017Z
LAST-MODIFIED:20250902T154626Z
UID:10004545-1756425600-1756511999@housing.clemson.edu
SUMMARY:2025 First Fall - Last day to drop a class or withdraw from the University without a W grade
DESCRIPTION:Last day to drop a class or withdraw from the University without a W grade
URL:https://housing.clemson.edu/event/2025-first-fall-last-day-to-drop-a-class-or-withdraw-from-the-university-without-a-w-grade/
CATEGORIES:Academic Calendar
ATTACH;FMTTYPE=image/jpeg:https://housing.clemson.edu/wp-content/uploads/2025/09/786_reg-brand.rev_.1756237141-Rptdml.jpg
END:VEVENT
BEGIN:VEVENT
DTSTART;TZID=America/New_York:20250829T090000
DTEND;TZID=America/New_York:20250829T160000
DTSTAMP:20260420T143542
CREATED:20250819T131136Z
LAST-MODIFIED:20250828T170224Z
UID:10004690-1756458000-1756483200@housing.clemson.edu
SUMMARY:Life Science Symposium
DESCRIPTION:Open for all to attend.  Drop in and out throughout the day based on your interests and schedules.  The Launchpad is conveniently located in downtown Clemson.  Contact: Kimberly Stokes Morgan (kmorga9@clemson.edu (mailto:kmorga9@clemson.edu))
URL:https://housing.clemson.edu/event/life-science-symposium/
LOCATION:Brook T. Smith Launchpad
CATEGORIES:Clemson University Events,Conferences,Forums and Symposiums,General Events
ATTACH;FMTTYPE=image/png:https://housing.clemson.edu/wp-content/uploads/2025/08/532_symposium.rev_.1753838995-gL71pu.png
END:VEVENT
BEGIN:VEVENT
DTSTART;TZID=America/New_York:20250829T100000
DTEND;TZID=America/New_York:20250829T140000
DTSTAMP:20260420T143542
CREATED:20250819T153121Z
LAST-MODIFIED:20250902T154647Z
UID:10004829-1756461600-1756476000@housing.clemson.edu
SUMMARY:CHANGE Wall
DESCRIPTION:What will you CHANGE this semester?\nHead to the North Green to set some goals for the new year and tell us how you’re planning to make an impact this year and learn about Clemson’s Student Ethics Committee CHANGE! \nFolks who attend will have the chance to win a box seat to the Clemson vs. Syracuse home game on September 20th!\nNote: Attending this event satisfies an Event Attendance requirement for the Clemson University Ethics Scholars Program. Learn more about the program and self-enroll here. \nThe student ethics committee of the Rutland Institute for Ethics\, Creating Habits and Norms Guiding Ethical Decisions (CHANGE)\, was established at Clemson University in Spring 2019. CHANGE serves to create ethical programming at both the University-wide and college-specific levels by hosting speakers\, events\, and activities that focus on exposing students to real-life applications of ethical decision-making and ethical leadership.You can learn more about us and submit an application on our website here. Applications for Fall are due August 31st\, 2025. \n \nHosted by: CHANGE (Creating Habits and Norms Guiding Ethical Decisions)\nAdditional Information can be found at: https://clemson.campuslabs.com/engage/event/11395370
URL:https://housing.clemson.edu/event/change-wall-2/
LOCATION:North Green
CATEGORIES:Arts,Organizations Calendar
END:VEVENT
BEGIN:VEVENT
DTSTART;TZID=America/New_York:20250829T121500
DTEND;TZID=America/New_York:20250829T131500
DTSTAMP:20260420T143542
CREATED:20250819T131136Z
LAST-MODIFIED:20250828T170224Z
UID:10004691-1756469700-1756473300@housing.clemson.edu
SUMMARY:Student Town Hall: College of Architecture\, Art and Construction
DESCRIPTION:Students in the College of Architecture\, Art and Construction are invited to join Dean Erdogmus for an inaugural All-College Student Town Hall. They will have the opportunity to meet the inaugural members of the Dean’s Student Leadership Academy & Council (DeSLAC)\, share their thoughts\, ask questions\, and connect with their classmates.
URL:https://housing.clemson.edu/event/student-town-hall-college-of-architecture-art-and-construction/
LOCATION:Lee II-111
CATEGORIES:Clemson University Events,General Events,Student Organizations
ATTACH;FMTTYPE=image/png:https://housing.clemson.edu/wp-content/uploads/2025/08/336_CAAC_University_Events_Calendar_Photo.rev_.1752851637-Potdr4.png
END:VEVENT
BEGIN:VEVENT
DTSTART;TZID=America/New_York:20250829T160000
DTEND;TZID=America/New_York:20250829T170000
DTSTAMP:20260420T143542
CREATED:20250902T154613Z
LAST-MODIFIED:20250902T154715Z
UID:10004935-1756483200-1756486800@housing.clemson.edu
SUMMARY:First Friday Kiddish
DESCRIPTION:Join Clemson Hillel for a kiddish to start off the new school year. All are welcome!\nHosted by: Clemson Hillel Jewish Student Organization\nAdditional Information can be found at: https://clemson.campuslabs.com/engage/event/11500006
URL:https://housing.clemson.edu/event/first-friday-kiddish/
LOCATION:Hardin
CATEGORIES:Cultural,Organizations Calendar
END:VEVENT
BEGIN:VEVENT
DTSTART;TZID=America/New_York:20250829T170000
DTEND;TZID=America/New_York:20250829T190000
DTSTAMP:20260420T143542
CREATED:20250902T154613Z
LAST-MODIFIED:20250902T154715Z
UID:10004936-1756486800-1756494000@housing.clemson.edu
SUMMARY:NSC FALL ORIENTATION AND WELCOME PARTY
DESCRIPTION:This event will bring together both continuing students and newly admitted Clemson and Nigerian students as they begin their academic journey at Clemson\nHosted by: Nigerian Students in Clemson\nAdditional Information can be found at: https://clemson.campuslabs.com/engage/event/11475821
URL:https://housing.clemson.edu/event/nsc-fall-orientation-and-welcome-party/
LOCATION:Ballroom A
CATEGORIES:Organizations Calendar,ThoughtfulLearning
END:VEVENT
BEGIN:VEVENT
DTSTART;TZID=America/New_York:20250829T180000
DTEND;TZID=America/New_York:20250829T200000
DTSTAMP:20260420T143542
CREATED:20250902T154614Z
LAST-MODIFIED:20250902T154715Z
UID:10004938-1756490400-1756497600@housing.clemson.edu
SUMMARY:Issaqueena Lake Hangout
DESCRIPTION:Issaqueena Lake Kickoff & Stewardship Hangout\nDate: Friday\, August 29\, 2025Time: 6:00–8:00 PMLocation: Issaqueena Lake\, Central\, SC\nJoin us at the start of the semester for a relaxed evening outdoors with good people\, real conversations\, and space to reconnect with what matters. We’ll be meeting at Issaqueena Lake\, one of Clemson’s quiet treasures\, to share food\, talk stewardship\, and welcome new faces into the community.\nStudents for Stewardship is a group focused on applied ecology and place-based learning. We care about cultivating biodiversity from the soil up and using plants\, fungi\, and thoughtful design to make the ecosystems around us healthier and more resilient. Events like this give us a chance to slow down\, notice the potential in the places we gather\, and practice seeing the world with care.\nWhat to Expect\n• A chance to meet community leaders who are doing meaningful work in stewardship\, regenerative agriculture\, food forestry\, and ecological restoration• An easygoing space to slow down\, share a meal\, and make new connections with fellow students who care about the land and each other• Good conversation\, familiar faces\, and time to relax by the lake. Come ready to connect\, learn\, and enjoy the evening!\nHosted by: Students for Stewardship\nAdditional Information can be found at: https://clemson.campuslabs.com/engage/event/11499324
URL:https://housing.clemson.edu/event/issaqueena-lake-hangout/
LOCATION:Issaqueena Lake
CATEGORIES:Organizations Calendar,Social
END:VEVENT
BEGIN:VEVENT
DTSTART;TZID=America/New_York:20250829T193000
DTEND;TZID=America/New_York:20250829T213000
DTSTAMP:20260420T143542
CREATED:20250902T154614Z
LAST-MODIFIED:20250902T154715Z
UID:10004937-1756495800-1756503000@housing.clemson.edu
SUMMARY:Low Country Boil
DESCRIPTION:BYX Low Country Boil\nHosted by: Beta Upsilon Chi\nAdditional Information can be found at: https://clemson.campuslabs.com/engage/event/11510791
URL:https://housing.clemson.edu/event/low-country-boil/
LOCATION:BYX Fraternity House
CATEGORIES:Organizations Calendar,Social
END:VEVENT
END:VCALENDAR