BEGIN:VCALENDAR
VERSION:2.0
PRODID:-//Clemson Home - ECPv6.15.20//NONSGML v1.0//EN
CALSCALE:GREGORIAN
METHOD:PUBLISH
X-ORIGINAL-URL:https://housing.clemson.edu
X-WR-CALDESC:Events for Clemson Home
REFRESH-INTERVAL;VALUE=DURATION:PT1H
X-Robots-Tag:noindex
X-PUBLISHED-TTL:PT1H
BEGIN:VTIMEZONE
TZID:America/New_York
BEGIN:DAYLIGHT
TZOFFSETFROM:-0500
TZOFFSETTO:-0400
TZNAME:EDT
DTSTART:20240310T070000
END:DAYLIGHT
BEGIN:STANDARD
TZOFFSETFROM:-0400
TZOFFSETTO:-0500
TZNAME:EST
DTSTART:20241103T060000
END:STANDARD
BEGIN:DAYLIGHT
TZOFFSETFROM:-0500
TZOFFSETTO:-0400
TZNAME:EDT
DTSTART:20250309T070000
END:DAYLIGHT
BEGIN:STANDARD
TZOFFSETFROM:-0400
TZOFFSETTO:-0500
TZNAME:EST
DTSTART:20251102T060000
END:STANDARD
BEGIN:DAYLIGHT
TZOFFSETFROM:-0500
TZOFFSETTO:-0400
TZNAME:EDT
DTSTART:20260308T070000
END:DAYLIGHT
BEGIN:STANDARD
TZOFFSETFROM:-0400
TZOFFSETTO:-0500
TZNAME:EST
DTSTART:20261101T060000
END:STANDARD
END:VTIMEZONE
BEGIN:VEVENT
DTSTART;TZID=America/New_York:20250824T080000
DTEND;TZID=America/New_York:20250824T103000
DTSTAMP:20260422T122510
CREATED:20250819T131950Z
LAST-MODIFIED:20250822T180213Z
UID:10004816-1756022400-1756031400@housing.clemson.edu
SUMMARY:Brunch and Church
DESCRIPTION:Come join us for some free breakfast and a ride to church.\nHosted by: Baptist Collegiate Ministry\nAdditional Information can be found at: https://clemson.campuslabs.com/engage/event/11422507
URL:https://housing.clemson.edu/event/brunch-and-church/
LOCATION:BCM Building
CATEGORIES:Organizations Calendar,Spirituality
END:VEVENT
BEGIN:VEVENT
DTSTART;TZID=America/New_York:20250824T093000
DTEND;TZID=America/New_York:20250824T133000
DTSTAMP:20260422T122510
CREATED:20250819T131948Z
LAST-MODIFIED:20250822T180213Z
UID:10004814-1756027800-1756042200@housing.clemson.edu
SUMMARY:Collegians For Christ | Back To School Brunch!
DESCRIPTION:Join us for Sunday morning worship\, followed immediately by a back to school brunch!\n9:30 AM – College & Career @ Oakwood Baptist (304 Pearman Dairy\, Anderson SC. 29625)\n10:30 AM – Sunday Morning Worship @ Oakwood Baptist \n11:30 – Brunch at the Greene’s (location to be provided upon RSVP)\nPlease RSVP directly with Cole McGowan\, via the GroupMe app\, or via e-mail to Ricardo (Ricardo.mabt@gmail.com)\nWe are looking forward to a great time with everyone as we kick off BACK TO SCHOOL SUNDAY ON 8/24!\nHosted by: Collegians for Christ\nAdditional Information can be found at: https://clemson.campuslabs.com/engage/event/11408160
URL:https://housing.clemson.edu/event/collegians-for-christ-back-to-school-brunch/
LOCATION:Oakwood Baptist Church
CATEGORIES:Organizations Calendar,Spirituality
END:VEVENT
BEGIN:VEVENT
DTSTART;TZID=America/New_York:20250824T100000
DTEND;TZID=America/New_York:20250824T120000
DTSTAMP:20260422T122510
CREATED:20250819T131949Z
LAST-MODIFIED:20250822T180213Z
UID:10004815-1756029600-1756036800@housing.clemson.edu
SUMMARY:Thriving in Grad School and Beyond
DESCRIPTION:Navigating the challenges and opportunities of graduate school\nHosted by: Love Fellowship Clemson\nAdditional Information can be found at: https://clemson.campuslabs.com/engage/event/11420194
URL:https://housing.clemson.edu/event/thriving-in-grad-school-and-beyond/
LOCATION:Madren Conference Center
CATEGORIES:Organizations Calendar,ThoughtfulLearning
END:VEVENT
END:VCALENDAR